BEGIN:VCALENDAR
VERSION:2.0
PRODID:-//Recharge Community Respite - ECPv6.15.17.1//NONSGML v1.0//EN
CALSCALE:GREGORIAN
METHOD:PUBLISH
X-WR-CALNAME:Recharge Community Respite
X-ORIGINAL-URL:https://rechargerespite.ca
X-WR-CALDESC:Events for Recharge Community Respite
REFRESH-INTERVAL;VALUE=DURATION:PT1H
X-Robots-Tag:noindex
X-PUBLISHED-TTL:PT1H
BEGIN:VTIMEZONE
TZID:America/Toronto
BEGIN:DAYLIGHT
TZOFFSETFROM:-0500
TZOFFSETTO:-0400
TZNAME:EDT
DTSTART:20250309T070000
END:DAYLIGHT
BEGIN:STANDARD
TZOFFSETFROM:-0400
TZOFFSETTO:-0500
TZNAME:EST
DTSTART:20251102T060000
END:STANDARD
BEGIN:DAYLIGHT
TZOFFSETFROM:-0500
TZOFFSETTO:-0400
TZNAME:EDT
DTSTART:20260308T070000
END:DAYLIGHT
BEGIN:STANDARD
TZOFFSETFROM:-0400
TZOFFSETTO:-0500
TZNAME:EST
DTSTART:20261101T060000
END:STANDARD
BEGIN:DAYLIGHT
TZOFFSETFROM:-0500
TZOFFSETTO:-0400
TZNAME:EDT
DTSTART:20270314T070000
END:DAYLIGHT
BEGIN:STANDARD
TZOFFSETFROM:-0400
TZOFFSETTO:-0500
TZNAME:EST
DTSTART:20271107T060000
END:STANDARD
END:VTIMEZONE
BEGIN:VEVENT
DTSTART;TZID=America/Toronto:20260423T100000
DTEND;TZID=America/Toronto:20260423T140000
DTSTAMP:20260423T015456
CREATED:20260331T175729Z
LAST-MODIFIED:20260331T175729Z
UID:4668-1776938400-1776952800@rechargerespite.ca
SUMMARY:Mariposa Market/Walk
DESCRIPTION:Mariposa Market/Walk \nWe’ve had a request to hit up the Mariposa market! \nA little description from their website \n“We invite you to take a step back in time and enjoy an old fashioned main street shopping and eating experience. Come savour the aroma of chelsea buns and Muskoka Berry pies hot out of the oven. Treat yourself to scratch recipe gingersnap cookies like gramma always made\, humungous apple fritters\, gooey sea salted butter tarts and eclairs positively stuffed with real whipped cream. Join us for lunch\, browse our new Sweet Shoppe filled with salt water taffy & handmade chocolate creations then grab some homemade Elderberry jam and Lady Rose Relish to take home to the family. Family owned and operated\, we invite you to come explore the cedar lined balconies\, creaky maple floors and magnificent tin tile ceiling of this grand 110 year old building that has been home to the Mariposa Market for 35 years and counting.” \nWe can walk around and see all they have to offer and maybe get a little treat or lunch. We will also be going for a walk at the lake to enjoy some fresh air and scenery \n 
URL:https://rechargerespite.ca/event/mariposa-market-walk-2/
ATTACH;FMTTYPE=image/jpeg:https://rechargerespite.ca/wp-content/uploads/2024/03/MM.jpg
END:VEVENT
END:VCALENDAR