BEGIN:VCALENDAR
VERSION:2.0
PRODID:-//Recharge Community Respite - ECPv6.15.20//NONSGML v1.0//EN
CALSCALE:GREGORIAN
METHOD:PUBLISH
X-ORIGINAL-URL:https://rechargerespite.ca
X-WR-CALDESC:Events for Recharge Community Respite
REFRESH-INTERVAL;VALUE=DURATION:PT1H
X-Robots-Tag:noindex
X-PUBLISHED-TTL:PT1H
BEGIN:VTIMEZONE
TZID:America/Toronto
BEGIN:DAYLIGHT
TZOFFSETFROM:-0500
TZOFFSETTO:-0400
TZNAME:EDT
DTSTART:20230312T070000
END:DAYLIGHT
BEGIN:STANDARD
TZOFFSETFROM:-0400
TZOFFSETTO:-0500
TZNAME:EST
DTSTART:20231105T060000
END:STANDARD
BEGIN:DAYLIGHT
TZOFFSETFROM:-0500
TZOFFSETTO:-0400
TZNAME:EDT
DTSTART:20240310T070000
END:DAYLIGHT
BEGIN:STANDARD
TZOFFSETFROM:-0400
TZOFFSETTO:-0500
TZNAME:EST
DTSTART:20241103T060000
END:STANDARD
BEGIN:DAYLIGHT
TZOFFSETFROM:-0500
TZOFFSETTO:-0400
TZNAME:EDT
DTSTART:20250309T070000
END:DAYLIGHT
BEGIN:STANDARD
TZOFFSETFROM:-0400
TZOFFSETTO:-0500
TZNAME:EST
DTSTART:20251102T060000
END:STANDARD
END:VTIMEZONE
BEGIN:VEVENT
DTSTART;TZID=America/Toronto:20240609T143000
DTEND;TZID=America/Toronto:20240609T183000
DTSTAMP:20260424T193653
CREATED:20240509T175611Z
LAST-MODIFIED:20240509T175611Z
UID:1689-1717943400-1717957800@rechargerespite.ca
SUMMARY:Barrie Baycats Game
DESCRIPTION:Barrie Baycats game! \nTime to cheer those Baycats on! What’s better than a night at the ballpark? Grab a hot dog and a drink and enjoy the game with us. \nhttps://www.barriebaycats.com/ \nThe Intercounty Baseball League is a top-level baseball league in Canada\, boasting ex-major league professional and elite NCAA college baseball players. The 2024 season is the 105th season of the Intercounty Baseball League.
URL:https://rechargerespite.ca/event/barrie-baycats-game-2/
ATTACH;FMTTYPE=image/jpeg:https://rechargerespite.ca/wp-content/uploads/2024/04/Baycats.jpg
END:VEVENT
END:VCALENDAR