BEGIN:VCALENDAR
VERSION:2.0
PRODID:-//Recharge Community Respite - ECPv6.15.17.1//NONSGML v1.0//EN
CALSCALE:GREGORIAN
METHOD:PUBLISH
X-ORIGINAL-URL:https://rechargerespite.ca
X-WR-CALDESC:Events for Recharge Community Respite
REFRESH-INTERVAL;VALUE=DURATION:PT1H
X-Robots-Tag:noindex
X-PUBLISHED-TTL:PT1H
BEGIN:VTIMEZONE
TZID:America/Toronto
BEGIN:DAYLIGHT
TZOFFSETFROM:-0500
TZOFFSETTO:-0400
TZNAME:EDT
DTSTART:20250309T070000
END:DAYLIGHT
BEGIN:STANDARD
TZOFFSETFROM:-0400
TZOFFSETTO:-0500
TZNAME:EST
DTSTART:20251102T060000
END:STANDARD
BEGIN:DAYLIGHT
TZOFFSETFROM:-0500
TZOFFSETTO:-0400
TZNAME:EDT
DTSTART:20260308T070000
END:DAYLIGHT
BEGIN:STANDARD
TZOFFSETFROM:-0400
TZOFFSETTO:-0500
TZNAME:EST
DTSTART:20261101T060000
END:STANDARD
BEGIN:DAYLIGHT
TZOFFSETFROM:-0500
TZOFFSETTO:-0400
TZNAME:EDT
DTSTART:20270314T070000
END:DAYLIGHT
BEGIN:STANDARD
TZOFFSETFROM:-0400
TZOFFSETTO:-0500
TZNAME:EST
DTSTART:20271107T060000
END:STANDARD
END:VTIMEZONE
BEGIN:VEVENT
DTSTART;TZID=America/Toronto:20260307T160000
DTEND;TZID=America/Toronto:20260307T200000
DTSTAMP:20260421T111708
CREATED:20260212T163735Z
LAST-MODIFIED:20260212T163735Z
UID:4480-1772899200-1772913600@rechargerespite.ca
SUMMARY:Barrie Wrestling
DESCRIPTION:Barrie Wrestling! Want to see what Barrie Wrestling has to offer\, lets get tickets and go check it out! This event is coming up and tickets are going fast\, so RSVP as soon as you can to make sure we can get tickets. \n  \n**Event RSVP closes on Mar4 to ensure we can get the tickets we need\, if you are interested please RSVP soon**
URL:https://rechargerespite.ca/event/barrie-wrestling-14/
ATTACH;FMTTYPE=image/jpeg:https://rechargerespite.ca/wp-content/uploads/2026/02/Mar-BW.jpg
END:VEVENT
BEGIN:VEVENT
DTSTART;TZID=America/Toronto:20260310T110000
DTEND;TZID=America/Toronto:20260310T150000
DTSTAMP:20260421T111708
CREATED:20260212T165016Z
LAST-MODIFIED:20260212T165016Z
UID:4470-1773140400-1773154800@rechargerespite.ca
SUMMARY:Pool
DESCRIPTION:We’re headed to Dunlop Billiards to shoot some pool\, comin with us? \nWe’ll play pool\, get some grub and hang out!
URL:https://rechargerespite.ca/event/pool-14/
ATTACH;FMTTYPE=image/jpeg:https://rechargerespite.ca/wp-content/uploads/2023/12/Pool.jpg
END:VEVENT
BEGIN:VEVENT
DTSTART;TZID=America/Toronto:20260311T150000
DTEND;TZID=America/Toronto:20260311T190000
DTSTAMP:20260421T111708
CREATED:20260212T162709Z
LAST-MODIFIED:20260212T162852Z
UID:4466-1773241200-1773255600@rechargerespite.ca
SUMMARY:Movie Night at Cineplex!
DESCRIPTION:Movie Night at the Cineplex! \nWe are going to see Youngblood.  Money will be needed to purchase concession food or drinks. \nEvent times will change depending on Cineplex show times
URL:https://rechargerespite.ca/event/movie-night-at-cineplex-15/
ATTACH;FMTTYPE=image/jpeg:https://rechargerespite.ca/wp-content/uploads/2026/02/Youngblood_2025_poster.jpg
END:VEVENT
BEGIN:VEVENT
DTSTART;TZID=America/Toronto:20260315T093000
DTEND;TZID=America/Toronto:20260315T133000
DTSTAMP:20260421T111708
CREATED:20260212T164852Z
LAST-MODIFIED:20260212T164911Z
UID:4473-1773567000-1773581400@rechargerespite.ca
SUMMARY:Drysdale's Maple Festival
DESCRIPTION:Drysdale’s Maple Festival \nVisitors will be able to see traditional sugaring demonstrations\, tour a sugar bush\, ride in a horse drawn wagon\, and experience maple taffy making. There will even be a pancake lunch to taste Camphill’s delicious maple syrup. Shop in the Evergreen Store and browse our unique selection of seasonal gifts and décor. We need to preregister a timeslot so RSVP as soon as you can. \n 
URL:https://rechargerespite.ca/event/drysdales-maple-festival-3/
ATTACH;FMTTYPE=image/png:https://rechargerespite.ca/wp-content/uploads/2024/03/DrysdalesMS.png
END:VEVENT
BEGIN:VEVENT
DTSTART;TZID=America/Toronto:20260324T120000
DTEND;TZID=America/Toronto:20260324T150000
DTSTAMP:20260421T111708
CREATED:20260212T164651Z
LAST-MODIFIED:20260212T164651Z
UID:4475-1774353600-1774364400@rechargerespite.ca
SUMMARY:Golf Simulator
DESCRIPTION:Do you enjoy golf? We do too\, join us for a couple of hours at the golf simulator\, we can play as many holes as we want or we can do fun golf games and work on our swing together. A great chance to stay in form for next golf season with Special Olympics or hitting the links with your friends\, family and Recharge! *This event has an additional cost that will be reflected on your invoice* *You need to bring indoor shoes to play* \nOnly 4 RSVP spots available! \n  \n 
URL:https://rechargerespite.ca/event/golf-simulator-15/
ATTACH;FMTTYPE=image/jpeg:https://rechargerespite.ca/wp-content/uploads/2023/12/golf-sim.jpg
END:VEVENT
END:VCALENDAR