BEGIN:VCALENDAR
VERSION:2.0
PRODID:-//Recharge Community Respite - ECPv6.15.17.1//NONSGML v1.0//EN
CALSCALE:GREGORIAN
METHOD:PUBLISH
X-ORIGINAL-URL:https://rechargerespite.ca
X-WR-CALDESC:Events for Recharge Community Respite
REFRESH-INTERVAL;VALUE=DURATION:PT1H
X-Robots-Tag:noindex
X-PUBLISHED-TTL:PT1H
BEGIN:VTIMEZONE
TZID:America/Toronto
BEGIN:DAYLIGHT
TZOFFSETFROM:-0500
TZOFFSETTO:-0400
TZNAME:EDT
DTSTART:20250309T070000
END:DAYLIGHT
BEGIN:STANDARD
TZOFFSETFROM:-0400
TZOFFSETTO:-0500
TZNAME:EST
DTSTART:20251102T060000
END:STANDARD
BEGIN:DAYLIGHT
TZOFFSETFROM:-0500
TZOFFSETTO:-0400
TZNAME:EDT
DTSTART:20260308T070000
END:DAYLIGHT
BEGIN:STANDARD
TZOFFSETFROM:-0400
TZOFFSETTO:-0500
TZNAME:EST
DTSTART:20261101T060000
END:STANDARD
BEGIN:DAYLIGHT
TZOFFSETFROM:-0500
TZOFFSETTO:-0400
TZNAME:EDT
DTSTART:20270314T070000
END:DAYLIGHT
BEGIN:STANDARD
TZOFFSETFROM:-0400
TZOFFSETTO:-0500
TZNAME:EST
DTSTART:20271107T060000
END:STANDARD
END:VTIMEZONE
BEGIN:VEVENT
DTSTART;TZID=America/Toronto:20260505T110000
DTEND;TZID=America/Toronto:20260505T150000
DTSTAMP:20260421T111639
CREATED:20260409T165243Z
LAST-MODIFIED:20260409T165243Z
UID:4760-1777978800-1777993200@rechargerespite.ca
SUMMARY:Pool
DESCRIPTION:We’re headed to Dunlop Billiards to shoot some pool\, comin with us? \nWe’ll play pool\, get some grub and hang out!
URL:https://rechargerespite.ca/event/pool-16/
ATTACH;FMTTYPE=image/jpeg:https://rechargerespite.ca/wp-content/uploads/2023/12/Pool.jpg
END:VEVENT
BEGIN:VEVENT
DTSTART;TZID=America/Toronto:20260506T163000
DTEND;TZID=America/Toronto:20260506T203000
DTSTAMP:20260421T111639
CREATED:20260409T164352Z
LAST-MODIFIED:20260409T164352Z
UID:4757-1778085000-1778099400@rechargerespite.ca
SUMMARY:The Rec Room
DESCRIPTION:The Rec Room- There’s so much for us to do at the Rec Room from bowling\, pool\, virtual reality games and arcade games. Join us for a few hours of fun. There will be an additional charge on your invoice for any gaming credits purchased. \nWe will be doing dinner at the Rec room as well\, Wednesday night special is $28 all you can eat wings. Other menu items available as well. \nhttps://www.therecroom.com/howto/howtoplay
URL:https://rechargerespite.ca/event/the-rec-room-8/
ATTACH;FMTTYPE=image/png:https://rechargerespite.ca/wp-content/uploads/2024/02/The-Rec-Room.png
END:VEVENT
BEGIN:VEVENT
DTSTART;TZID=America/Toronto:20260509T160000
DTEND;TZID=America/Toronto:20260509T200000
DTSTAMP:20260421T111639
CREATED:20260409T155039Z
LAST-MODIFIED:20260419T160119Z
UID:4700-1778342400-1778356800@rechargerespite.ca
SUMMARY:Barrie Wrestling
DESCRIPTION:Barrie Wrestling! Want to see what Barrie Wrestling has to offer\, lets get tickets and go check it out! This event is coming up and tickets are going fast\, so RSVP as soon as you can to make sure we can get tickets. \n  \n**Event RSVP closes on May 2 to ensure we can get the tickets we need\, if you are interested please RSVP soon**
URL:https://rechargerespite.ca/event/barrie-wrestling-16/
ATTACH;FMTTYPE=image/jpeg:https://rechargerespite.ca/wp-content/uploads/2026/04/May-BW.jpg
END:VEVENT
BEGIN:VEVENT
DTSTART;TZID=America/Toronto:20260513T100000
DTEND;TZID=America/Toronto:20260513T140000
DTSTAMP:20260421T111639
CREATED:20260419T150313Z
LAST-MODIFIED:20260419T153715Z
UID:4795-1778666400-1778680800@rechargerespite.ca
SUMMARY:Golf Simulator
DESCRIPTION:Do you enjoy golf? We do too\, join us for a couple of hours at the golf simulator\, we can play as many holes as we want or we can do fun golf games and work on our swing together. A great chance to stay in form for next golf season with Special Olympics or hitting the links with your friends\, family and Recharge! *This event has an additional cost that will be reflected on your invoice* *You need to bring indoor shoes to play* \nOnly 2 RSVP spots available! \n  \n 
URL:https://rechargerespite.ca/event/golf-simulator-17/
ATTACH;FMTTYPE=image/jpeg:https://rechargerespite.ca/wp-content/uploads/2023/12/golf-sim.jpg
END:VEVENT
BEGIN:VEVENT
DTSTART;TZID=America/Toronto:20260521T100000
DTEND;TZID=America/Toronto:20260521T150000
DTSTAMP:20260421T111639
CREATED:20260419T145831Z
LAST-MODIFIED:20260419T145831Z
UID:4699-1779357600-1779375600@rechargerespite.ca
SUMMARY:Golfing
DESCRIPTION:Golfing at The Wilds \nGet ready for 18 holes (short course with carts) of friendly competition at The Wilds Bring your clubs and a positive attitude for a time on the links! We will be trying to get a morning tee time (10am or after based on availability) This event is weather permitting. \nNote: Any food or beverage will be at your own cost
URL:https://rechargerespite.ca/event/golfing-10/
ATTACH;FMTTYPE=image/jpeg:https://rechargerespite.ca/wp-content/uploads/2024/06/144_3_2471_jpeg_79b5b997-f63b-4524-b811-344ca9332405.jpg
END:VEVENT
BEGIN:VEVENT
DTSTART;TZID=America/Toronto:20260529T110000
DTEND;TZID=America/Toronto:20260529T150000
DTSTAMP:20260421T111639
CREATED:20260409T161338Z
LAST-MODIFIED:20260409T161338Z
UID:4695-1780052400-1780066800@rechargerespite.ca
SUMMARY:BBQ and Backyard games!
DESCRIPTION:BBQ and Backyard games! \nRecharge is hosting a good old fashioned BBQ\, burgers and hot dogs\, backyard games. We’ll take care of the food/drink and games\, just come have fun!
URL:https://rechargerespite.ca/event/bbq-and-backyard-games-11/
ATTACH;FMTTYPE=image/png:https://rechargerespite.ca/wp-content/uploads/2024/05/BBQ-and-games.png
END:VEVENT
BEGIN:VEVENT
DTSTART;TZID=America/Toronto:20260530T150000
DTEND;TZID=America/Toronto:20260530T200000
DTSTAMP:20260421T111639
CREATED:20260408T212643Z
LAST-MODIFIED:20260408T212941Z
UID:4715-1780153200-1780171200@rechargerespite.ca
SUMMARY:Baycats Game
DESCRIPTION:Baycats Game \nJoin us for game at Athletic Kulture Stadium. We’ll cheer our Baycats on to victory! \n4:08pm first pitch\, bring money for the concession stand\, programs or merch shop. \n  \nhttps://www.barriebaycats.com/home
URL:https://rechargerespite.ca/event/baycats-game-10/
ATTACH;FMTTYPE=image/jpeg:https://rechargerespite.ca/wp-content/uploads/2024/04/Baycats.jpg
END:VEVENT
END:VCALENDAR