BEGIN:VCALENDAR
VERSION:2.0
PRODID:-//Recharge Community Respite - ECPv6.15.17.1//NONSGML v1.0//EN
CALSCALE:GREGORIAN
METHOD:PUBLISH
X-ORIGINAL-URL:https://rechargerespite.ca
X-WR-CALDESC:Events for Recharge Community Respite
REFRESH-INTERVAL;VALUE=DURATION:PT1H
X-Robots-Tag:noindex
X-PUBLISHED-TTL:PT1H
BEGIN:VTIMEZONE
TZID:America/Toronto
BEGIN:DAYLIGHT
TZOFFSETFROM:-0500
TZOFFSETTO:-0400
TZNAME:EDT
DTSTART:20230312T070000
END:DAYLIGHT
BEGIN:STANDARD
TZOFFSETFROM:-0400
TZOFFSETTO:-0500
TZNAME:EST
DTSTART:20231105T060000
END:STANDARD
BEGIN:DAYLIGHT
TZOFFSETFROM:-0500
TZOFFSETTO:-0400
TZNAME:EDT
DTSTART:20240310T070000
END:DAYLIGHT
BEGIN:STANDARD
TZOFFSETFROM:-0400
TZOFFSETTO:-0500
TZNAME:EST
DTSTART:20241103T060000
END:STANDARD
BEGIN:DAYLIGHT
TZOFFSETFROM:-0500
TZOFFSETTO:-0400
TZNAME:EDT
DTSTART:20250309T070000
END:DAYLIGHT
BEGIN:STANDARD
TZOFFSETFROM:-0400
TZOFFSETTO:-0500
TZNAME:EST
DTSTART:20251102T060000
END:STANDARD
END:VTIMEZONE
BEGIN:VEVENT
DTSTART;TZID=America/Toronto:20240701T110000
DTEND;TZID=America/Toronto:20240701T160000
DTSTAMP:20260422T224908
CREATED:20240622T224626Z
LAST-MODIFIED:20240628T205343Z
UID:1847-1719831600-1719849600@rechargerespite.ca
SUMMARY:Canada Day Party
DESCRIPTION:Canada Day Party \nHappy Canada Day! Get out your red and white\, plaid or Canadian tuxedo! \nJoin us for a Canada Day celebration where we will enjoy some food\, drinks and backyard fun! \n  \n 
URL:https://rechargerespite.ca/event/canada-day-party/
ATTACH;FMTTYPE=image/jpeg:https://rechargerespite.ca/wp-content/uploads/2024/06/Canada-Day-2023_Web_Header_1200x600.jpg
END:VEVENT
BEGIN:VEVENT
DTSTART;TZID=America/Toronto:20240702T100000
DTEND;TZID=America/Toronto:20240702T140000
DTSTAMP:20260422T224908
CREATED:20240622T224945Z
LAST-MODIFIED:20240622T224945Z
UID:1862-1719914400-1719928800@rechargerespite.ca
SUMMARY:1 on 1 Outing
DESCRIPTION:Sometimes it’s just good to get out and enjoy some 1 on 1 time\, talk about life\, go for a walk and get a coffee. That’s exactly what we’ll be doing today.
URL:https://rechargerespite.ca/event/1-on-1-outing-34/
ATTACH;FMTTYPE=image/png:https://rechargerespite.ca/wp-content/uploads/2024/06/chit-chat-1-on-1.png
END:VEVENT
BEGIN:VEVENT
DTSTART;TZID=America/Toronto:20240703T100000
DTEND;TZID=America/Toronto:20240703T140000
DTSTAMP:20260422T224908
CREATED:20240622T225117Z
LAST-MODIFIED:20240622T225117Z
UID:1874-1720000800-1720015200@rechargerespite.ca
SUMMARY:1 on 1 Outing
DESCRIPTION:1 on 1 Outing \nSometimes it’s just good to get out and enjoy some 1 on 1 time\, talk about life\, go for a walk and get a coffee. That’s exactly what we’ll be doing today.
URL:https://rechargerespite.ca/event/1-on-1-outing-35/
ATTACH;FMTTYPE=image/png:https://rechargerespite.ca/wp-content/uploads/2024/06/chit-chat-1-on-1.png
END:VEVENT
BEGIN:VEVENT
DTSTART;TZID=America/Toronto:20240704T100000
DTEND;TZID=America/Toronto:20240704T180000
DTSTAMP:20260422T224908
CREATED:20240420T174147Z
LAST-MODIFIED:20240703T163249Z
UID:1626-1720087200-1720116000@rechargerespite.ca
SUMMARY:Blue Jays game!
DESCRIPTION:Blue Jays game! \nCome with us on our fourth game of the year! Jays vs Astros \nWe’re going to catch some Home run balls on the new outfield bleachers\, while we heckle the Astros bullpen! $20 General admission tickets\, our plan is to get there early to get a spot on the bleachers in right field or hang out on the flight deck or any of the other spots in the outfield district. Game time is 1:07pm\, we will be driving to Vaughn and taking the TTC down to Union Station. With the General admission tickets we can check out all of the new additions to the Rogers Center! \n*Please remember that the Rogers center does not except cash only card payments.* \n  \nhttps://bluejays.fanportal-mlb.com/ballpark-renovation/outfield-district
URL:https://rechargerespite.ca/event/blue-jays-game-4/
ATTACH;FMTTYPE=image/jpeg:https://rechargerespite.ca/wp-content/uploads/2024/03/BJs.jpg
END:VEVENT
BEGIN:VEVENT
DTSTART;TZID=America/Toronto:20240709T100000
DTEND;TZID=America/Toronto:20240709T140000
DTSTAMP:20260422T224908
CREATED:20240622T225507Z
LAST-MODIFIED:20240622T225507Z
UID:1877-1720519200-1720533600@rechargerespite.ca
SUMMARY:1 on 1 Outing
DESCRIPTION:1 on  1 outing \nSometimes\, it’s just good to get out for a walk and enjoy some one-on-one time. That’s exactly what we’ll be doing today.
URL:https://rechargerespite.ca/event/1-on-1-outing-36/
ATTACH;FMTTYPE=image/jpeg:https://rechargerespite.ca/wp-content/uploads/2024/06/two-man-talking-meeting-of-friends-or-colleagues-illustration-vector.jpg
END:VEVENT
BEGIN:VEVENT
DTSTART;TZID=America/Toronto:20240709T160000
DTEND;TZID=America/Toronto:20240709T190000
DTSTAMP:20260422T224908
CREATED:20240703T182153Z
LAST-MODIFIED:20240703T182153Z
UID:1993-1720540800-1720551600@rechargerespite.ca
SUMMARY:Movie Night at Cineplex!
DESCRIPTION:Movie Night at the Cineplex! \nWe are going to see Despicable Me 4.  Money will be needed to purchase concession food or drinks. \nMovie time is 430pm
URL:https://rechargerespite.ca/event/movie-night-at-cineplex-3/
ATTACH;FMTTYPE=image/jpeg:https://rechargerespite.ca/wp-content/uploads/2024/07/Despicable_Me_4_Theatrical_Release_Poster.jpeg
END:VEVENT
BEGIN:VEVENT
DTSTART;TZID=America/Toronto:20240716T100000
DTEND;TZID=America/Toronto:20240716T140000
DTSTAMP:20260422T224908
CREATED:20240622T225904Z
LAST-MODIFIED:20240622T225904Z
UID:1931-1721124000-1721138400@rechargerespite.ca
SUMMARY:1 on 1 Outing
DESCRIPTION:1 on 1 Outing \nSometimes it’s just good to get out and enjoy some 1 on 1 time\, talk about life and go for a walk. That’s exactly what we’ll be doing today.
URL:https://rechargerespite.ca/event/1-on-1-outing-38/
ATTACH;FMTTYPE=image/png:https://rechargerespite.ca/wp-content/uploads/2024/06/chit-chat-1-on-1.png
END:VEVENT
BEGIN:VEVENT
DTSTART;TZID=America/Toronto:20240716T100000
DTEND;TZID=America/Toronto:20240716T150000
DTSTAMP:20260422T224908
CREATED:20240623T000854Z
LAST-MODIFIED:20240623T000904Z
UID:1964-1721124000-1721142000@rechargerespite.ca
SUMMARY:Golfing
DESCRIPTION:Golfing at a local course (Course TBD) \nGet ready for a day of fun and friendly competition at our Golfing Outing! Bring your clubs and a positive attitude for a great day on the links! \nNote: Any food or beverage will be at your own cost—green fees to be determined.
URL:https://rechargerespite.ca/event/golfing/
ATTACH;FMTTYPE=image/jpeg:https://rechargerespite.ca/wp-content/uploads/2024/06/144_3_2471_jpeg_79b5b997-f63b-4524-b811-344ca9332405.jpg
END:VEVENT
BEGIN:VEVENT
DTSTART;TZID=America/Toronto:20240717T083000
DTEND;TZID=America/Toronto:20240717T153000
DTSTAMP:20260422T224908
CREATED:20240617T215711Z
LAST-MODIFIED:20240712T181825Z
UID:1522-1721205000-1721230200@rechargerespite.ca
SUMMARY:Ripley's Aquarium
DESCRIPTION:Ripley’s Aquarium\,  Join Recharge for a trip to the greatest aquarium out there! \nImmerse yourself in a world of 20\,000 aquatic animals and discover your own underwater adventure. The Aquarium boasts more than 5.7 million litres of water\, North America’s longest underwater viewing tunnel\, and more than 100 interactive opportunities! Get up close and personal with several touch exhibits featuring scarlet cleaner shrimp and stingrays. This awe-inspiring attraction consists of ten carefully curated galleries showcasing a cross section of saltwater and freshwater environments from around the world\, starting with species from Toronto’s backyard\, the Great Lakes basin. \n**This event has an additional cost that will be reflected on your invoice.**
URL:https://rechargerespite.ca/event/ripleys-aquarium-2/
ATTACH;FMTTYPE=image/jpeg:https://rechargerespite.ca/wp-content/uploads/2023/12/Ripleys-Aquariums-Canada-Logo-192-x-88.jpg
END:VEVENT
BEGIN:VEVENT
DTSTART;TZID=America/Toronto:20240718T093000
DTEND;TZID=America/Toronto:20240718T143000
DTSTAMP:20260422T224908
CREATED:20240617T221158Z
LAST-MODIFIED:20240712T181123Z
UID:1863-1721295000-1721313000@rechargerespite.ca
SUMMARY:Fishing
DESCRIPTION:Fishing- \nCome fishing with us\, Where? A fisherman never gives up his spot. Early bird gets the worm so we’re hoping to be fishing by 10am. We may have some gear if you don’t have your own. We will bring a small cooler with some snacks and drinks while we fish.
URL:https://rechargerespite.ca/event/fishing-2/
ATTACH;FMTTYPE=image/jpeg:https://rechargerespite.ca/wp-content/uploads/2024/05/Fishing.jpeg
END:VEVENT
BEGIN:VEVENT
DTSTART;TZID=America/Toronto:20240718T183000
DTEND;TZID=America/Toronto:20240718T223000
DTSTAMP:20260422T224908
CREATED:20240617T205415Z
LAST-MODIFIED:20240622T223129Z
UID:1840-1721327400-1721341800@rechargerespite.ca
SUMMARY:Baycats Game
DESCRIPTION:Baycats Game \nJoin us for game at Vintage Throne Stadium. We’ll cheer our Baycats on to victory over the Guelph Royals! \n7:35pm first pitch\, bring money for the concession stand\, programs or merch shop. \nNot many home games left get your spot soon. \nhttps://www.barriebaycats.com/home
URL:https://rechargerespite.ca/event/baycats-game/
ATTACH;FMTTYPE=image/jpeg:https://rechargerespite.ca/wp-content/uploads/2024/04/Baycats.jpg
END:VEVENT
BEGIN:VEVENT
DTSTART;TZID=America/Toronto:20240719T100000
DTEND;TZID=America/Toronto:20240719T140000
DTSTAMP:20260422T224908
CREATED:20240622T222957Z
LAST-MODIFIED:20240622T222957Z
UID:1916-1721383200-1721397600@rechargerespite.ca
SUMMARY:Horse Therapy
DESCRIPTION:Horse Therapy \nWe’re booking a session with Harmony Connections for some equine therapy\, they provide emotional therapy between human and horse interaction. \nBuilding a connection with a horse helps relieve the negative mindset of all the stress and worries and focuses on positive thoughts and corrections. \n*There is an additional cost to this outing\, the therapy sessions cost $55 for 60 minutes* \nOnly 3 spots available. RSVP closes July 12.
URL:https://rechargerespite.ca/event/horse-therapy/
ATTACH;FMTTYPE=image/png:https://rechargerespite.ca/wp-content/uploads/2024/06/Horse.png
END:VEVENT
BEGIN:VEVENT
DTSTART;TZID=America/Toronto:20240724T090000
DTEND;TZID=America/Toronto:20240726T120000
DTSTAMP:20260422T224908
CREATED:20240721T194512Z
LAST-MODIFIED:20240721T194513Z
UID:2032-1721811600-1721995200@rechargerespite.ca
SUMMARY:Cottage Respite Trip
DESCRIPTION:We’re providing some respite supports at a cottage for a couple of days\, fun in the sun\, fishing\, BBQs\, games and bon fires. If you are interested in something like this please reach out to Tim and Dave for pricing and availability.
URL:https://rechargerespite.ca/event/cottage-respite-trip-2/
ATTACH;FMTTYPE=image/jpeg:https://rechargerespite.ca/wp-content/uploads/2024/06/cottage.jpg
END:VEVENT
BEGIN:VEVENT
DTSTART;TZID=America/Toronto:20240730T100000
DTEND;TZID=America/Toronto:20240730T140000
DTSTAMP:20260422T224908
CREATED:20240622T225837Z
LAST-MODIFIED:20240622T225837Z
UID:1895-1722333600-1722348000@rechargerespite.ca
SUMMARY:1 on 1 Outing
DESCRIPTION:1 on 1 Outing \nWhether hanging out at a cafe\, catching a movie\, or simply relaxing\, this laid-back outing is about enjoying each other’s company in a comfortable\, stress-free setting. It is the perfect opportunity to connect and chat.
URL:https://rechargerespite.ca/event/1-on-1-outing-37/
ATTACH;FMTTYPE=image/jpeg:https://rechargerespite.ca/wp-content/uploads/2024/06/two-man-talking-meeting-of-friends-or-colleagues-illustration-vector.jpg
END:VEVENT
BEGIN:VEVENT
DTSTART;TZID=America/Toronto:20240730T160000
DTEND;TZID=America/Toronto:20240730T235900
DTSTAMP:20260422T224908
CREATED:20240617T234731Z
LAST-MODIFIED:20240623T000655Z
UID:1903-1722355200-1722383940@rechargerespite.ca
SUMMARY:Movie Night at Cineplex!
DESCRIPTION:Movie Night at the Cineplex! \nWe are going to see “Deadpool vs. Wolverine”. Money will be needed to purchase concession food or drinks. \nMovie time will be posted closer to the date.
URL:https://rechargerespite.ca/event/movie-night-at-the-cineplex1/
ATTACH;FMTTYPE=image/webp:https://rechargerespite.ca/wp-content/uploads/2024/06/Deadpool-vs.-Wolverine.webp
END:VEVENT
BEGIN:VEVENT
DTSTART;TZID=America/Toronto:20240731T100000
DTEND;TZID=America/Toronto:20240731T140000
DTSTAMP:20260422T224908
CREATED:20240622T233158Z
LAST-MODIFIED:20240622T234731Z
UID:1936-1722420000-1722434400@rechargerespite.ca
SUMMARY:Copeland Forest Hike & Picnic
DESCRIPTION:Copeland Forest Hike & Picnic \nJoin us for a refreshing day of exploration and relaxation! Our nature hike and picnic adventure will take us through the scenic trails in the Copeland Forest\, just outside of Hillsdale. After our hike\, we’ll settle down for a delightful picnic\, where you can enjoy some delicious snacks and refreshing beverages. It’s the perfect opportunity to connect with nature\, unwind and share some good laughs. \nAll you need is some appropriate footwear. The hike will roughly be 2km.
URL:https://rechargerespite.ca/event/copeland-forest-hike-picnic/
ATTACH;FMTTYPE=image/png:https://rechargerespite.ca/wp-content/uploads/2024/06/STROLLER-WALK-1.png
END:VEVENT
END:VCALENDAR