BEGIN:VCALENDAR
VERSION:2.0
PRODID:-//Recharge Community Respite - ECPv6.15.17.1//NONSGML v1.0//EN
CALSCALE:GREGORIAN
METHOD:PUBLISH
X-ORIGINAL-URL:https://rechargerespite.ca
X-WR-CALDESC:Events for Recharge Community Respite
REFRESH-INTERVAL;VALUE=DURATION:PT1H
X-Robots-Tag:noindex
X-PUBLISHED-TTL:PT1H
BEGIN:VTIMEZONE
TZID:America/Toronto
BEGIN:DAYLIGHT
TZOFFSETFROM:-0500
TZOFFSETTO:-0400
TZNAME:EDT
DTSTART:20230312T070000
END:DAYLIGHT
BEGIN:STANDARD
TZOFFSETFROM:-0400
TZOFFSETTO:-0500
TZNAME:EST
DTSTART:20231105T060000
END:STANDARD
BEGIN:DAYLIGHT
TZOFFSETFROM:-0500
TZOFFSETTO:-0400
TZNAME:EDT
DTSTART:20240310T070000
END:DAYLIGHT
BEGIN:STANDARD
TZOFFSETFROM:-0400
TZOFFSETTO:-0500
TZNAME:EST
DTSTART:20241103T060000
END:STANDARD
BEGIN:DAYLIGHT
TZOFFSETFROM:-0500
TZOFFSETTO:-0400
TZNAME:EDT
DTSTART:20250309T070000
END:DAYLIGHT
BEGIN:STANDARD
TZOFFSETFROM:-0400
TZOFFSETTO:-0500
TZNAME:EST
DTSTART:20251102T060000
END:STANDARD
END:VTIMEZONE
BEGIN:VEVENT
DTSTART;TZID=America/Toronto:20240804T130000
DTEND;TZID=America/Toronto:20240804T170000
DTSTAMP:20260422T211327
CREATED:20240622T234329Z
LAST-MODIFIED:20240708T155845Z
UID:1944-1722776400-1722790800@rechargerespite.ca
SUMMARY:Monster Trucks
DESCRIPTION:Monster Trucks at Sunset Speedway \nSunday\, August 4 -Full Throttle Productions Monster Trucks‘’ – 2 PM Start \nPick-up will be 1:00 pm. The event’s end time is unknown at this time. \nNote: You will need extra money to purchase snacks or drinks \n 
URL:https://rechargerespite.ca/event/sunset-speedway-monster-trucks/
ATTACH;FMTTYPE=image/jpeg:https://rechargerespite.ca/wp-content/uploads/2024/06/294956934_331776715830977_8371817669603368313_n.jpg
END:VEVENT
BEGIN:VEVENT
DTSTART;TZID=America/Toronto:20240805T100000
DTEND;TZID=America/Toronto:20240805T140000
DTSTAMP:20260422T211327
CREATED:20240731T203043Z
LAST-MODIFIED:20240731T203043Z
UID:2104-1722852000-1722866400@rechargerespite.ca
SUMMARY:Golfing
DESCRIPTION:Golfing at a Cedar Links \nGet ready for 9 holes of friendly competition at Cedar Links par 3 course! Bring your clubs and a positive attitude for a time on the links! We will be going to Wild Wing for lunch after our round. \nNote: Any food or beverage will be at your own cost
URL:https://rechargerespite.ca/event/golfing-2/
ATTACH;FMTTYPE=image/jpeg:https://rechargerespite.ca/wp-content/uploads/2024/06/144_3_2471_jpeg_79b5b997-f63b-4524-b811-344ca9332405.jpg
END:VEVENT
BEGIN:VEVENT
DTSTART;TZID=America/Toronto:20240807T160000
DTEND;TZID=America/Toronto:20240807T200000
DTSTAMP:20260422T211327
CREATED:20240721T200414Z
LAST-MODIFIED:20240804T232111Z
UID:2050-1723046400-1723060800@rechargerespite.ca
SUMMARY:BBQ and Backyard games!
DESCRIPTION:BBQ and Backyard games! \nRecharge is hosting a good old fashioned BBQ\, burgers and hot dogs\, backyard games. We’ll take of the food/drink and games\, just come have fun! \n  \nMaybe we will all throw water balloons at Dave.
URL:https://rechargerespite.ca/event/bbq-and-backyard-games-3/
ATTACH;FMTTYPE=image/png:https://rechargerespite.ca/wp-content/uploads/2024/05/BBQ-and-games.png
END:VEVENT
BEGIN:VEVENT
DTSTART;TZID=America/Toronto:20240811T100000
DTEND;TZID=America/Toronto:20240811T180000
DTSTAMP:20260422T211327
CREATED:20240420T174532Z
LAST-MODIFIED:20240801T204141Z
UID:1629-1723370400-1723399200@rechargerespite.ca
SUMMARY:Blue Jays game!
DESCRIPTION:Blue Jays game! \nCome with us on our Fifth game of the year! Jays vs The Oakland A’s \nWe’re going to catch some Home run balls on the new outfield bleachers\, while we heckle the A’s bullpen! $20 General admission tickets\, our plan is to get there early to get a spot on the bleachers in right field or hang out on the flight deck or any of the other spots in the outfield district. Game time is 1:37pm\, we will be driving to Vaughn and taking the TTC down to Union Station. With the General admission tickets we can check out all of the new additions to the Rogers Center! \n*Please remember that the Rogers Center does not accept cash\, only card payments* \n  \nhttps://bluejays.fanportal-mlb.com/ballpark-renovation/outfield-district
URL:https://rechargerespite.ca/event/blue-jays-game-5/
ATTACH;FMTTYPE=image/jpeg:https://rechargerespite.ca/wp-content/uploads/2024/03/BJs.jpg
END:VEVENT
BEGIN:VEVENT
DTSTART;TZID=America/Toronto:20240812T093000
DTEND;TZID=America/Toronto:20240812T143000
DTSTAMP:20260422T211327
CREATED:20240721T200540Z
LAST-MODIFIED:20240729T140928Z
UID:2053-1723455000-1723473000@rechargerespite.ca
SUMMARY:Fishing
DESCRIPTION:Fishing- \nCome fishing with us\, Where? A fisherman never gives up his spot. Early bird gets the worm so we’re hoping to be fishing by 10am. We may have some gear if you don’t have your own. We will bring a small cooler with some snacks and drinks while we fish.
URL:https://rechargerespite.ca/event/fishing-3/
ATTACH;FMTTYPE=image/jpeg:https://rechargerespite.ca/wp-content/uploads/2024/05/Fishing.jpeg
END:VEVENT
BEGIN:VEVENT
DTSTART;TZID=America/Toronto:20240813T100000
DTEND;TZID=America/Toronto:20240813T150000
DTSTAMP:20260422T211327
CREATED:20240812T193832Z
LAST-MODIFIED:20240812T193832Z
UID:2130-1723543200-1723561200@rechargerespite.ca
SUMMARY:Wasaga batting cages
DESCRIPTION:Wasaga Batting cages \nWe will be hitting up some of the best cages around\, the Wasaga facility also has go karts and mini putt if people would like to do that as well. There is a snack bar on site that has hot dogs\, fries and soft serve ice cream available at your own cost. \nhttps://wasaga500.com/services/batting-cages
URL:https://rechargerespite.ca/event/wasaga-batting-cages/
ATTACH;FMTTYPE=image/jpeg:https://rechargerespite.ca/wp-content/uploads/2024/08/Wasagabatting.jpg
END:VEVENT
BEGIN:VEVENT
DTSTART;TZID=America/Toronto:20240814T160000
DTEND;TZID=America/Toronto:20240814T200000
DTSTAMP:20260422T211327
CREATED:20240812T194325Z
LAST-MODIFIED:20240812T194343Z
UID:2137-1723651200-1723665600@rechargerespite.ca
SUMMARY:BBQ and Backyard games!
DESCRIPTION:BBQ and Backyard games! \nRecharge is hosting a good old fashioned BBQ\, burgers and hot dogs\, backyard games. We’ll take of the food/drink and games\, just come have fun! \n  \nMaybe we will all throw water balloons at Dave.
URL:https://rechargerespite.ca/event/bbq-and-backyard-games-4/
ATTACH;FMTTYPE=image/png:https://rechargerespite.ca/wp-content/uploads/2024/05/BBQ-and-games.png
END:VEVENT
BEGIN:VEVENT
DTSTART;TZID=America/Toronto:20240817T153000
DTEND;TZID=America/Toronto:20240817T200000
DTSTAMP:20260422T211327
CREATED:20240721T201640Z
LAST-MODIFIED:20240816T194242Z
UID:2055-1723908600-1723924800@rechargerespite.ca
SUMMARY:Baycats Game
DESCRIPTION:Baycats Game \nJoin us for game at Vintage Throne Stadium. We’ll cheer our Baycats on to victory over the Guelph Royals! \n4:05pm first pitch\, bring money for the concession stand\, programs or merch shop. \nLast Regular season  game! \nhttps://www.barriebaycats.com/home
URL:https://rechargerespite.ca/event/baycats-game-2/
ATTACH;FMTTYPE=image/jpeg:https://rechargerespite.ca/wp-content/uploads/2024/04/Baycats.jpg
END:VEVENT
BEGIN:VEVENT
DTSTART;TZID=America/Toronto:20240821T103000
DTEND;TZID=America/Toronto:20240821T153000
DTSTAMP:20260422T211327
CREATED:20240729T150033Z
LAST-MODIFIED:20240822T005245Z
UID:2092-1724236200-1724254200@rechargerespite.ca
SUMMARY:Tree Top Trekking
DESCRIPTION:Treetop Trekking Barrie at Horseshoe Resort! \nWe need to book a time slot at the park so RSVP soon! \nExplore our Treetop Zip Line Aerial Game courses where you will trek from tree to tree on fun games like suspended bridges\, Tarzan swings\, swinging logs\, cable traverses and of course zip lines! \n  \nThe Course is approximately 3-hours long. \n*This event has an extra cost\, the course admission is $67+ HST*
URL:https://rechargerespite.ca/event/tree-top-trekking/
ATTACH;FMTTYPE=image/jpeg:https://rechargerespite.ca/wp-content/uploads/2024/07/Treetop.jpg
END:VEVENT
BEGIN:VEVENT
DTSTART;TZID=America/Toronto:20240824T180000
DTEND;TZID=America/Toronto:20240824T230000
DTSTAMP:20260422T211327
CREATED:20240721T211439Z
LAST-MODIFIED:20240820T143422Z
UID:2059-1724522400-1724540400@rechargerespite.ca
SUMMARY:Escape Room & Ghost Tour - Discovery Harbour
DESCRIPTION:Escape Room & Ghost Tour – Discovery Harbour \nWe will start our evening by challenging ourselves and our teammates in the epic Escape Room: Bosun’s Brig. \nAfter the Escape Room\, we will join a spooky lantern-lit tour of the historic Discovery Harbour site\, complete with a costumed guide and discover the supernatural side of history. The Ghost Tour experience is approximately 1.5 – 2 hours in length and involves a considerable amount of walking. Tours proceed rain or shine\, so please dress for the weather. \nAdditional Cost: $44.00 for escape room & tour
URL:https://rechargerespite.ca/event/escape-room-ghost-tour-discovery-harbour/
ATTACH;FMTTYPE=image/png:https://rechargerespite.ca/wp-content/uploads/2024/07/GT-7.png
END:VEVENT
BEGIN:VEVENT
DTSTART;TZID=America/Toronto:20240829T083000
DTEND;TZID=America/Toronto:20240829T183000
DTSTAMP:20260422T211327
CREATED:20240817T175534Z
LAST-MODIFIED:20240823T215922Z
UID:2164-1724920200-1724956200@rechargerespite.ca
SUMMARY:CNE Toronto
DESCRIPTION:CNE Toronto \nLet’s go to the Ex! Join us this summer for rides\, food\, games\, shows and much more. Let’s go to The Ex. Canada’s largest fair. We will be taking the GO Train from Barrie to Exhibition place\, the train leaves at 9:11am and returns at either 5:30pm or 6:15pm depending on what train we take back. You will need money for food and other personal purchases. We have all day ride passes available at a discounted rate of $50
URL:https://rechargerespite.ca/event/cne-toronto/
ATTACH;FMTTYPE=image/jpeg:https://rechargerespite.ca/wp-content/uploads/2024/08/TheX.jpg
END:VEVENT
END:VCALENDAR