BEGIN:VCALENDAR
VERSION:2.0
PRODID:-//Recharge Community Respite - ECPv6.15.17.1//NONSGML v1.0//EN
CALSCALE:GREGORIAN
METHOD:PUBLISH
X-WR-CALNAME:Recharge Community Respite
X-ORIGINAL-URL:https://rechargerespite.ca
X-WR-CALDESC:Events for Recharge Community Respite
REFRESH-INTERVAL;VALUE=DURATION:PT1H
X-Robots-Tag:noindex
X-PUBLISHED-TTL:PT1H
BEGIN:VTIMEZONE
TZID:America/Toronto
BEGIN:DAYLIGHT
TZOFFSETFROM:-0500
TZOFFSETTO:-0400
TZNAME:EDT
DTSTART:20230312T070000
END:DAYLIGHT
BEGIN:STANDARD
TZOFFSETFROM:-0400
TZOFFSETTO:-0500
TZNAME:EST
DTSTART:20231105T060000
END:STANDARD
BEGIN:DAYLIGHT
TZOFFSETFROM:-0500
TZOFFSETTO:-0400
TZNAME:EDT
DTSTART:20240310T070000
END:DAYLIGHT
BEGIN:STANDARD
TZOFFSETFROM:-0400
TZOFFSETTO:-0500
TZNAME:EST
DTSTART:20241103T060000
END:STANDARD
BEGIN:DAYLIGHT
TZOFFSETFROM:-0500
TZOFFSETTO:-0400
TZNAME:EDT
DTSTART:20250309T070000
END:DAYLIGHT
BEGIN:STANDARD
TZOFFSETFROM:-0400
TZOFFSETTO:-0500
TZNAME:EST
DTSTART:20251102T060000
END:STANDARD
END:VTIMEZONE
BEGIN:VEVENT
DTSTART;TZID=America/Toronto:20240903T090000
DTEND;TZID=America/Toronto:20240903T160000
DTSTAMP:20260422T193231
CREATED:20240818T160543Z
LAST-MODIFIED:20240902T174933Z
UID:2169-1725354000-1725379200@rechargerespite.ca
SUMMARY:Toronto Zoo
DESCRIPTION:Toronto Zoo \nThe Toronto Zoo is a zoo located in Toronto\, Ontario\, Canada. Encompassing 287 hectares\, the Toronto Zoo is the largest zoo in Canada averaging around 1.2 million visitors a year. This event has a lot of walking so be prepared for the weather and the walk. We will be gone for roughly 7 hours\, 4 of those hours at the zoo. Admission is $16.50 per person after tax and will be reflected on your invoice.
URL:https://rechargerespite.ca/event/toronto-zoo/
ATTACH;FMTTYPE=image/jpeg:https://rechargerespite.ca/wp-content/uploads/2024/08/Toronto-Zoo-1.jpg
END:VEVENT
BEGIN:VEVENT
DTSTART;TZID=America/Toronto:20240906T100000
DTEND;TZID=America/Toronto:20240906T140000
DTSTAMP:20260422T193231
CREATED:20240818T212545Z
LAST-MODIFIED:20240818T212545Z
UID:2225-1725616800-1725631200@rechargerespite.ca
SUMMARY:Creative Cafe
DESCRIPTION:Creative Cafe\n\n\n\n\nPaint your own pottery! \nWith over 400+ different items to choose from we guarantee you will find your own\, unique piece to paint! \nEnjoy some creative time together as you transform pottery pieces into one-of-a-kind personalized works of art.  Choose from a huge selection of pottery items.   Create from their large selection of awesome glazes\, brushes\, stencils\, silkscreens and more.  Your pottery will be clear glazed\, kiln-fired to a brilliant shiny finish! \nhttps://creativecafe.ca/
URL:https://rechargerespite.ca/event/creative-cafe/
ATTACH;FMTTYPE=image/jpeg:https://rechargerespite.ca/wp-content/uploads/2024/08/creative_cafe_logo.jpg
END:VEVENT
BEGIN:VEVENT
DTSTART;TZID=America/Toronto:20240907T160000
DTEND;TZID=America/Toronto:20240907T200000
DTSTAMP:20260422T193231
CREATED:20240816T192437Z
LAST-MODIFIED:20240816T194807Z
UID:2156-1725724800-1725739200@rechargerespite.ca
SUMMARY:Barrie Wrestling
DESCRIPTION:Barrie Wrestling Back to school! Want to see what Barrie Wrestling has to offer\, lets get tickets and go check it out! This event is coming up and tickets are going fast\, so RSVP as soon as you can to make sure we can get tickets. \nhttps://fb.me/e/4aRRz3ZbV \n**Event RSVP closes on Aug 30th to ensure we can get the tickets we need\, if you are interested please RSVP soon**
URL:https://rechargerespite.ca/event/barrie-wrestling/
ATTACH;FMTTYPE=image/jpeg:https://rechargerespite.ca/wp-content/uploads/2024/08/Barrie-Wrestling-back-to-school-e1723836244474.jpg
END:VEVENT
BEGIN:VEVENT
DTSTART;TZID=America/Toronto:20240910T100000
DTEND;TZID=America/Toronto:20240910T140000
DTSTAMP:20260422T193231
CREATED:20240823T173217Z
LAST-MODIFIED:20240823T173217Z
UID:2219-1725962400-1725976800@rechargerespite.ca
SUMMARY:Golfing
DESCRIPTION:Golfing at a Cedar Links \nGet ready for 9 holes of friendly competition at Cedar Links par 3 course! Bring your clubs and a positive attitude for a time on the links! We will be going to Wild Wing for lunch after our round. \nNote: Any food or beverage will be at your own cost
URL:https://rechargerespite.ca/event/golfing-3/
ATTACH;FMTTYPE=image/jpeg:https://rechargerespite.ca/wp-content/uploads/2024/06/144_3_2471_jpeg_79b5b997-f63b-4524-b811-344ca9332405.jpg
END:VEVENT
BEGIN:VEVENT
DTSTART;TZID=America/Toronto:20240911T120000
DTEND;TZID=America/Toronto:20240911T193000
DTSTAMP:20260422T193231
CREATED:20240420T174954Z
LAST-MODIFIED:20240607T213818Z
UID:1633-1726056000-1726083000@rechargerespite.ca
SUMMARY:Blue Jays game!
DESCRIPTION:Blue Jays game! \nCome with us on our sixth game of the year! Jays vs NY Mets \nWe’re going to catch some Home run balls on the new outfield bleachers\, while we heckle the Mets bullpen! $20 General admission tickets\, our plan is to get there early to get a spot on the bleachers in right field or hang out on the flight deck or any of the other spots in the outfield district. Game time is 3:07pm\, we will be driving to Vaughn and taking the TTC down to Union Station. With the General admission tickets we can check out all of the new additions to the Rogers Center! \n*Please remember that the Rogers Center does not accept cash\, only card payments* \n  \nhttps://bluejays.fanportal-mlb.com/ballpark-renovation/outfield-district
URL:https://rechargerespite.ca/event/blue-jays-game-6/
ATTACH;FMTTYPE=image/jpeg:https://rechargerespite.ca/wp-content/uploads/2024/03/BJs.jpg
END:VEVENT
BEGIN:VEVENT
DTSTART;TZID=America/Toronto:20240912T180000
DTEND;TZID=America/Toronto:20240912T230000
DTSTAMP:20260422T193231
CREATED:20240904T151410Z
LAST-MODIFIED:20240904T151410Z
UID:2066-1726164000-1726182000@rechargerespite.ca
SUMMARY:Jeff Dunham Comedy Show
DESCRIPTION:Jeff Dunham Comedy Show \nJeff Dunham is an American ventriloquist\, stand-up comedian\, and actor performing at Casino Rama. After a long pandemic pause\, Dunham and his characters are finally back on the road\, ready to provide a much-needed dose of absurdity and hilarity. \nTim and Dave were only able to secure 6 tickets. Due to high demand\, Tim and Dave will not be present during the show but will ensure you get into the event and will be waiting for you at the end. \nAdditional Cost: Ticket: $111.35 \n 
URL:https://rechargerespite.ca/event/jeff-dunham-comedy-show/
ATTACH;FMTTYPE=image/jpeg:https://rechargerespite.ca/wp-content/uploads/2024/07/11111.jpg
END:VEVENT
BEGIN:VEVENT
DTSTART;TZID=America/Toronto:20240914T140000
DTEND;TZID=America/Toronto:20240914T180000
DTSTAMP:20260422T193231
CREATED:20240818T205130Z
LAST-MODIFIED:20240818T205130Z
UID:2222-1726322400-1726336800@rechargerespite.ca
SUMMARY:Sunset Speedway
DESCRIPTION:Sunset speedway\, let’s check out the races!\n\n\nSaturday September 14 -‘Night of Champions – 3 PM Start\n\nPro Late Model 50\, Super Stock 30\, Hot Rod 30\, Mini Stock 25\, Bone Stock 20\, Junior\nLate Model 15\, Modifieds
URL:https://rechargerespite.ca/event/sunset-speedway-3/
ATTACH;FMTTYPE=image/png:https://rechargerespite.ca/wp-content/uploads/2024/04/Sunset-LOGO-copy-SHADOW.png
END:VEVENT
BEGIN:VEVENT
DTSTART;TZID=America/Toronto:20240916T083000
DTEND;TZID=America/Toronto:20240916T153000
DTSTAMP:20260422T193231
CREATED:20240818T170428Z
LAST-MODIFIED:20240818T170428Z
UID:2200-1726475400-1726500600@rechargerespite.ca
SUMMARY:Ripley's Aquarium
DESCRIPTION:Ripley’s Aquarium\,  Join Recharge for a trip to the greatest aquarium out there! \nImmerse yourself in a world of 20\,000 aquatic animals and discover your own underwater adventure. The Aquarium boasts more than 5.7 million litres of water\, North America’s longest underwater viewing tunnel\, and more than 100 interactive opportunities! Get up close and personal with several touch exhibits featuring scarlet cleaner shrimp and stingrays. This awe-inspiring attraction consists of ten carefully curated galleries showcasing a cross section of saltwater and freshwater environments from around the world\, starting with species from Toronto’s backyard\, the Great Lakes basin. \n**This event has an additional cost that will be reflected on your invoice.**
URL:https://rechargerespite.ca/event/ripleys-aquarium-3/
ATTACH;FMTTYPE=image/jpeg:https://rechargerespite.ca/wp-content/uploads/2023/12/Ripleys-Aquariums-Canada-Logo-192-x-88.jpg
END:VEVENT
BEGIN:VEVENT
DTSTART;VALUE=DATE:20240917
DTEND;VALUE=DATE:20240918
DTSTAMP:20260422T193231
CREATED:20240818T165115Z
LAST-MODIFIED:20240818T165115Z
UID:2180-1726531200-1726617599@rechargerespite.ca
SUMMARY:Movie Night at Cineplex!
DESCRIPTION:Movie Night at the Cineplex! \nWe are going to see Beetle Juice 2.  Money will be needed to purchase concession food or drinks. \nMovie time will be updated closer to date.
URL:https://rechargerespite.ca/event/movie-night-at-cineplex-4/
ATTACH;FMTTYPE=image/jpeg:https://rechargerespite.ca/wp-content/uploads/2024/08/Beetlejuice.jpg
END:VEVENT
BEGIN:VEVENT
DTSTART;TZID=America/Toronto:20240918T120000
DTEND;TZID=America/Toronto:20240918T160000
DTSTAMP:20260422T193231
CREATED:20240818T170003Z
LAST-MODIFIED:20240907T133021Z
UID:2176-1726660800-1726675200@rechargerespite.ca
SUMMARY:Wasaga batting cages
DESCRIPTION:Wasaga Batting cages \nWe will be hitting up some of the best cages around\, the Wasaga facility also has go karts and mini putt if people would like to do that as well. There is a snack bar on site that has hot dogs\, fries and soft serve ice cream available at your own cost. \nhttps://wasaga500.com/services/batting-cages
URL:https://rechargerespite.ca/event/wasaga-batting-cages-2/
ATTACH;FMTTYPE=image/jpeg:https://rechargerespite.ca/wp-content/uploads/2024/08/Wasagabatting.jpg
END:VEVENT
BEGIN:VEVENT
DTSTART;TZID=America/Toronto:20240919T100000
DTEND;TZID=America/Toronto:20240919T140000
DTSTAMP:20260422T193231
CREATED:20240818T163709Z
LAST-MODIFIED:20240818T170515Z
UID:2178-1726740000-1726754400@rechargerespite.ca
SUMMARY:Pool
DESCRIPTION:We’re headed to Dunlop Billiards to shoot some pool\, comin with us? \nFood and drink available at extra cost if you want.
URL:https://rechargerespite.ca/event/pool-4/
ATTACH;FMTTYPE=image/jpeg:https://rechargerespite.ca/wp-content/uploads/2023/12/Pool.jpg
END:VEVENT
BEGIN:VEVENT
DTSTART;TZID=America/Toronto:20240925T093000
DTEND;TZID=America/Toronto:20240925T153000
DTSTAMP:20260422T193231
CREATED:20240818T163446Z
LAST-MODIFIED:20240917T134740Z
UID:2181-1727256600-1727278200@rechargerespite.ca
SUMMARY:iFLY Indoor Skydiving
DESCRIPTION:iFLY Indoor Skydiving \nWhen you go to iFLY get ready to be blown away – literally. It’s thrilling. It’s amazing. Experience the feeling of freefall as you float on a smooth cushion of air. There’s no parachute\, no jumping\, and nothing attaching you to planet Earth. It’s just you FLYING in the air. Super fun\, super safe and super cool! Admission will be based on a group package and works out to $73.44 per person after tax. You will get 2 flights! \nhttps://iflyworld.ca/
URL:https://rechargerespite.ca/event/ifly-indoor-skydiving/
ATTACH;FMTTYPE=image/jpeg:https://rechargerespite.ca/wp-content/uploads/2024/08/IFLY.jpg
END:VEVENT
BEGIN:VEVENT
DTSTART;TZID=America/Toronto:20240927T180000
DTEND;TZID=America/Toronto:20240927T220000
DTSTAMP:20260422T193231
CREATED:20240818T190928Z
LAST-MODIFIED:20240818T190928Z
UID:2204-1727460000-1727474400@rechargerespite.ca
SUMMARY:Coldwater Fall Fair Demolition Derby
DESCRIPTION:Coldwater Fall Fair Demolition Derby \nIt’s that time of year! We get to go to fall fairs and have fun\, first up is the Coldwater Fall Fair. We’re headed to the demolition derby\, starts at 7pm! Admission is $12 \nhttps://coldwaterfallfair.com/schedule/
URL:https://rechargerespite.ca/event/coldwater-fall-fair-demolition-derby/
ATTACH;FMTTYPE=image/jpeg:https://rechargerespite.ca/wp-content/uploads/2024/08/Coldwaterfair.jpg
END:VEVENT
END:VCALENDAR