BEGIN:VCALENDAR
VERSION:2.0
PRODID:-//Recharge Community Respite - ECPv6.15.17.1//NONSGML v1.0//EN
CALSCALE:GREGORIAN
METHOD:PUBLISH
X-ORIGINAL-URL:https://rechargerespite.ca
X-WR-CALDESC:Events for Recharge Community Respite
REFRESH-INTERVAL;VALUE=DURATION:PT1H
X-Robots-Tag:noindex
X-PUBLISHED-TTL:PT1H
BEGIN:VTIMEZONE
TZID:America/Toronto
BEGIN:DAYLIGHT
TZOFFSETFROM:-0500
TZOFFSETTO:-0400
TZNAME:EDT
DTSTART:20230312T070000
END:DAYLIGHT
BEGIN:STANDARD
TZOFFSETFROM:-0400
TZOFFSETTO:-0500
TZNAME:EST
DTSTART:20231105T060000
END:STANDARD
BEGIN:DAYLIGHT
TZOFFSETFROM:-0500
TZOFFSETTO:-0400
TZNAME:EDT
DTSTART:20240310T070000
END:DAYLIGHT
BEGIN:STANDARD
TZOFFSETFROM:-0400
TZOFFSETTO:-0500
TZNAME:EST
DTSTART:20241103T060000
END:STANDARD
BEGIN:DAYLIGHT
TZOFFSETFROM:-0500
TZOFFSETTO:-0400
TZNAME:EDT
DTSTART:20250309T070000
END:DAYLIGHT
BEGIN:STANDARD
TZOFFSETFROM:-0400
TZOFFSETTO:-0500
TZNAME:EST
DTSTART:20251102T060000
END:STANDARD
END:VTIMEZONE
BEGIN:VEVENT
DTSTART;TZID=America/Toronto:20241204T100000
DTEND;TZID=America/Toronto:20241204T140000
DTSTAMP:20260422T140027
CREATED:20241111T203239Z
LAST-MODIFIED:20241111T203239Z
UID:2595-1733306400-1733320800@rechargerespite.ca
SUMMARY:Creative Cafe
DESCRIPTION:Creative Cafe\nWe will start our day at Williams Cafe\, we will treat you to a coffee before we head over to creative cafe \n\n\n\n\nPaint your own pottery! \nWith over 400+ different items to choose from we guarantee you will find your own\, unique piece to paint! \nEnjoy some creative time together as you transform pottery pieces into one-of-a-kind personalized works of art.  Choose from a huge selection of pottery items.   Create from their large selection of awesome glazes\, brushes\, stencils\, silkscreens and more.  Your pottery will be clear glazed\, kiln-fired to a brilliant shiny finish! \nhttps://creativecafe.ca/
URL:https://rechargerespite.ca/event/creative-cafe-4/
ATTACH;FMTTYPE=image/jpeg:https://rechargerespite.ca/wp-content/uploads/2024/08/creative_cafe_logo.jpg
END:VEVENT
BEGIN:VEVENT
DTSTART;TZID=America/Toronto:20241207T160000
DTEND;TZID=America/Toronto:20241207T200000
DTSTAMP:20260422T140027
CREATED:20241111T204612Z
LAST-MODIFIED:20241111T204612Z
UID:2602-1733587200-1733601600@rechargerespite.ca
SUMMARY:Barrie Wrestling
DESCRIPTION:Barrie Wrestling! Want to see what Barrie Wrestling has to offer\, lets get tickets and go check it out! This event is coming up and tickets are going fast\, so RSVP as soon as you can to make sure we can get tickets. \n  \n**Event RSVP closes on Dec 2 to ensure we can get the tickets we need\, if you are interested please RSVP soon**
URL:https://rechargerespite.ca/event/barrie-wrestling-3/
ATTACH;FMTTYPE=image/jpeg:https://rechargerespite.ca/wp-content/uploads/2024/11/Barrie-w-dec.jpg
END:VEVENT
BEGIN:VEVENT
DTSTART;TZID=America/Toronto:20241211T100000
DTEND;TZID=America/Toronto:20241211T130000
DTSTAMP:20260422T140027
CREATED:20241111T205102Z
LAST-MODIFIED:20241111T205102Z
UID:2610-1733911200-1733922000@rechargerespite.ca
SUMMARY:Golf Simulator
DESCRIPTION:Do you enjoy golf? We do too\, join us for a couple of hours at the golf simulator\, we can play as many holes as we want or we can do fun golf games and work on our swing together. A great chance to stay in form for next golf season with Special Olympics or hitting the links with your friends\, family and Recharge! *This event has an additional cost that will be reflected on your invoice* *You need to bring indoor shoes to play* \nOnly 2 RSVP spots available! \n  \nhttps://www.northswing.ca/ \n 
URL:https://rechargerespite.ca/event/golf-simulator-7/
ATTACH;FMTTYPE=image/jpeg:https://rechargerespite.ca/wp-content/uploads/2023/12/golf-sim.jpg
END:VEVENT
BEGIN:VEVENT
DTSTART;VALUE=DATE:20241217
DTEND;VALUE=DATE:20241218
DTSTAMP:20260422T140027
CREATED:20241111T202619Z
LAST-MODIFIED:20241111T202619Z
UID:2580-1734393600-1734479999@rechargerespite.ca
SUMMARY:Movie Night at Cineplex!
DESCRIPTION:Movie Night at the Cineplex! \nWe are going to see Kraven The Hunter.  Money will be needed to purchase concession food or drinks. \nMovie time Will be updated closer to date
URL:https://rechargerespite.ca/event/movie-night-at-cineplex-7/
ATTACH;FMTTYPE=image/jpeg:https://rechargerespite.ca/wp-content/uploads/2024/11/Kraven_the_Hunter.jpg
END:VEVENT
END:VCALENDAR