BEGIN:VCALENDAR
VERSION:2.0
PRODID:-//Recharge Community Respite - ECPv6.15.17.1//NONSGML v1.0//EN
CALSCALE:GREGORIAN
METHOD:PUBLISH
X-WR-CALNAME:Recharge Community Respite
X-ORIGINAL-URL:https://rechargerespite.ca
X-WR-CALDESC:Events for Recharge Community Respite
REFRESH-INTERVAL;VALUE=DURATION:PT1H
X-Robots-Tag:noindex
X-PUBLISHED-TTL:PT1H
BEGIN:VTIMEZONE
TZID:America/Toronto
BEGIN:DAYLIGHT
TZOFFSETFROM:-0500
TZOFFSETTO:-0400
TZNAME:EDT
DTSTART:20240310T070000
END:DAYLIGHT
BEGIN:STANDARD
TZOFFSETFROM:-0400
TZOFFSETTO:-0500
TZNAME:EST
DTSTART:20241103T060000
END:STANDARD
BEGIN:DAYLIGHT
TZOFFSETFROM:-0500
TZOFFSETTO:-0400
TZNAME:EDT
DTSTART:20250309T070000
END:DAYLIGHT
BEGIN:STANDARD
TZOFFSETFROM:-0400
TZOFFSETTO:-0500
TZNAME:EST
DTSTART:20251102T060000
END:STANDARD
BEGIN:DAYLIGHT
TZOFFSETFROM:-0500
TZOFFSETTO:-0400
TZNAME:EDT
DTSTART:20260308T070000
END:DAYLIGHT
BEGIN:STANDARD
TZOFFSETFROM:-0400
TZOFFSETTO:-0500
TZNAME:EST
DTSTART:20261101T060000
END:STANDARD
END:VTIMEZONE
BEGIN:VEVENT
DTSTART;TZID=America/Toronto:20250107T123000
DTEND;TZID=America/Toronto:20250107T153000
DTSTAMP:20260422T121832
CREATED:20241205T164109Z
LAST-MODIFIED:20241205T164525Z
UID:2686-1736253000-1736263800@rechargerespite.ca
SUMMARY:Local hockey game
DESCRIPTION:Let’s watch some local high school hockey!\, It’s free admission and fun.\nThis weeks match up is between Bradford and Nantyr\n                                                  \n  \n\nhttps://www.scaasports.ca/viewScores.php
URL:https://rechargerespite.ca/event/local-hockey-game-6/
LOCATION:East Bayfield Rec center
ATTACH;FMTTYPE=image/png:https://rechargerespite.ca/wp-content/uploads/2023/12/hockey.png
ORGANIZER;CN="Recharge":MAILTO:Rechargecrs@outlook.com
END:VEVENT
BEGIN:VEVENT
DTSTART;TZID=America/Toronto:20250108T170000
DTEND;TZID=America/Toronto:20250108T230000
DTSTAMP:20260422T121832
CREATED:20241205T172258Z
LAST-MODIFIED:20241205T172258Z
UID:2698-1736355600-1736377200@rechargerespite.ca
SUMMARY:Toronto Marlies Game
DESCRIPTION:Toronto Marlies vs. Wilkes Barre Scranton Penguins \n\nWed • Jan 08\, 2025 • 7:00 PM Coca-Cola Coliseum\, Toronto\, ON \nTickets start at $41.50 and up\, we will get the best seats we can once the RSVP closes (Jan 3) \nPlease RSVP ASAP so we can purchase tickets. \nAny cancellations after tickets have been purchased may result in still being invoiced for the ticket cost if we can not fill the spot.
URL:https://rechargerespite.ca/event/toronto-marlies-game-2/
ATTACH;FMTTYPE=image/jpeg:https://rechargerespite.ca/wp-content/uploads/2023/12/Marlies.jpg
END:VEVENT
BEGIN:VEVENT
DTSTART;TZID=America/Toronto:20250109T120000
DTEND;TZID=America/Toronto:20250109T160000
DTSTAMP:20260422T121832
CREATED:20241205T175455Z
LAST-MODIFIED:20241217T183754Z
UID:2714-1736424000-1736438400@rechargerespite.ca
SUMMARY:Escape Room Barrie
DESCRIPTION:Join us for 60 minutes of fun trying to solve one of Escape Room Barrie’s games. We will get together before our game time to strategize! \nhttps://escaperoombarrie.com/our-rooms/ \nEscape room costs are $28 per participant and this will be reflected on your invoice.
URL:https://rechargerespite.ca/event/escape-room-barrie-3/
ATTACH;FMTTYPE=image/png:https://rechargerespite.ca/wp-content/uploads/2024/04/escaperoombarrie.png
END:VEVENT
BEGIN:VEVENT
DTSTART;TZID=America/Toronto:20250113T133000
DTEND;TZID=America/Toronto:20250113T163000
DTSTAMP:20260422T121832
CREATED:20241205T164300Z
LAST-MODIFIED:20241205T164600Z
UID:2685-1736775000-1736785800@rechargerespite.ca
SUMMARY:Local hockey game
DESCRIPTION:Let’s watch some local high school hockey!\, It’s free admission and fun.\nThis weeks match up is between Bradford and Innisdale\n                                                  \n  \n\nhttps://www.scaasports.ca/viewScores.php
URL:https://rechargerespite.ca/event/local-hockey-game-7/
LOCATION:East Bayfield Rec center
ATTACH;FMTTYPE=image/png:https://rechargerespite.ca/wp-content/uploads/2023/12/hockey.png
ORGANIZER;CN="Recharge":MAILTO:Rechargecrs@outlook.com
END:VEVENT
BEGIN:VEVENT
DTSTART;TZID=America/Toronto:20250115T140000
DTEND;TZID=America/Toronto:20250115T170000
DTSTAMP:20260422T121832
CREATED:20241205T172513Z
LAST-MODIFIED:20250114T185044Z
UID:2701-1736949600-1736960400@rechargerespite.ca
SUMMARY:The Rec Room
DESCRIPTION:The Rec Room- There’s so much for us to do at the Rec Room from bowling\, pool\, virtual reality games and arcade games. Join us for a few hours of fun. Check out their website link below to see their credit system for gaming. The cost of the band and gaming will be the responsibility of the person attending. Please preload your existing band or ensure you have funds to purchase the credits and band. Games cost an average of 5-6 credits to play. \nhttps://www.therecroom.com/howto/howtoplay
URL:https://rechargerespite.ca/event/the-rec-room-6/
ATTACH;FMTTYPE=image/png:https://rechargerespite.ca/wp-content/uploads/2024/02/The-Rec-Room.png
END:VEVENT
BEGIN:VEVENT
DTSTART;TZID=America/Toronto:20250116T100000
DTEND;TZID=America/Toronto:20250116T140000
DTSTAMP:20260422T121832
CREATED:20241205T172621Z
LAST-MODIFIED:20250108T163435Z
UID:2704-1737021600-1737036000@rechargerespite.ca
SUMMARY:Creative Cafe
DESCRIPTION:Creative Cafe\nWe will start our day at Williams Cafe\, we will treat you to a coffee before we head over to creative cafe \n\n\n\n\nPaint your own pottery! \nWith over 400+ different items to choose from we guarantee you will find your own\, unique piece to paint! \nEnjoy some creative time together as you transform pottery pieces into one-of-a-kind personalized works of art.  Choose from a huge selection of pottery items.   Create from their large selection of awesome glazes\, brushes\, stencils\, silkscreens and more.  Your pottery will be clear glazed\, kiln-fired to a brilliant shiny finish! \nhttps://creativecafe.ca/
URL:https://rechargerespite.ca/event/creative-cafe-5/
ATTACH;FMTTYPE=image/jpeg:https://rechargerespite.ca/wp-content/uploads/2024/08/creative_cafe_logo.jpg
END:VEVENT
BEGIN:VEVENT
DTSTART;TZID=America/Toronto:20250117T100000
DTEND;TZID=America/Toronto:20250117T150000
DTSTAMP:20260422T121832
CREATED:20241205T175333Z
LAST-MODIFIED:20241205T175333Z
UID:2719-1737108000-1737126000@rechargerespite.ca
SUMMARY:Museum of Illusions
DESCRIPTION:Museum of Illusions\n\n\n\n\nWelcome to our fascinating world of illusions. Thrilled yet bewildered you will enter a world that will blow your mind but also give you an opportunity to learn all sorts of things… come and visit us! It is sure to be an amazing and unimaginable experience because whatever you see\, especially here in the Museum of Illusions\, is not what it appears to be. Are you ready for an adventure?\n\n\n\nhttps://museumofillusions.ca/\n\nWe will be taking the go train or TTC down to Union station and walking over to the museum so please dress for the weather
URL:https://rechargerespite.ca/event/museum-of-illusions/
ATTACH;FMTTYPE=image/jpeg:https://rechargerespite.ca/wp-content/uploads/2024/12/museum-of-illusions.jpg
END:VEVENT
BEGIN:VEVENT
DTSTART;TZID=America/Toronto:20250122T120000
DTEND;TZID=America/Toronto:20250122T160000
DTSTAMP:20260422T121832
CREATED:20241205T173258Z
LAST-MODIFIED:20250108T165717Z
UID:2709-1737547200-1737561600@rechargerespite.ca
SUMMARY:Reptilia
DESCRIPTION:Canada’s Largest Indoor Reptile Experience featuring over 250 reptiles\, amphibians and arachnids!\nLet’s go experience Reptilia together. We will be leaving for Vaughn at 12am with hopes of being back for 4pm. \n  \nhttps://reptilia.org/
URL:https://rechargerespite.ca/event/reptilia/
LOCATION:Reptilia\, 2501 Rutherford Road\,\, Vaughan\, ON\, L4K 2N6\, Canada
ATTACH;FMTTYPE=image/png:https://rechargerespite.ca/wp-content/uploads/2023/12/Reptillia.png
END:VEVENT
BEGIN:VEVENT
DTSTART;TZID=America/Toronto:20250123T170000
DTEND;TZID=America/Toronto:20250123T210000
DTSTAMP:20260422T121832
CREATED:20241205T175843Z
LAST-MODIFIED:20241205T175843Z
UID:2715-1737651600-1737666000@rechargerespite.ca
SUMMARY:Dinner and Last level lounge
DESCRIPTION:We are planning a night out on the town! Dinner out and last level lounge for all you can play video games. All the best retro video and arcade games all in one spot. Once we get a list of attendees we can decide where we want to grab a bite to eat before testing our arcade skills. Entry to the Arcade is covered by Recharge\, just bring money for dinner! \n  \nhttps://www.lastlevellounge.com/
URL:https://rechargerespite.ca/event/dinner-and-last-level-lounge-2/
ATTACH;FMTTYPE=image/jpeg:https://rechargerespite.ca/wp-content/uploads/2023/12/LLL.jpg
END:VEVENT
BEGIN:VEVENT
DTSTART;TZID=America/Toronto:20250124T100000
DTEND;TZID=America/Toronto:20250124T140000
DTSTAMP:20260422T121832
CREATED:20241205T175623Z
LAST-MODIFIED:20241205T175623Z
UID:2716-1737712800-1737727200@rechargerespite.ca
SUMMARY:Pool
DESCRIPTION:We’re headed to Dunlop Billiards to shoot some pool\, comin with us? \nFood and drink available at extra cost if you want.
URL:https://rechargerespite.ca/event/pool-6/
ATTACH;FMTTYPE=image/jpeg:https://rechargerespite.ca/wp-content/uploads/2023/12/Pool.jpg
END:VEVENT
BEGIN:VEVENT
DTSTART;TZID=America/Toronto:20250125T160000
DTEND;TZID=America/Toronto:20250125T200000
DTSTAMP:20260422T121832
CREATED:20250114T195512Z
LAST-MODIFIED:20250114T195512Z
UID:1523-1737820800-1737835200@rechargerespite.ca
SUMMARY:Barrie Wrestling Fallout Tournament
DESCRIPTION:Barrie Wrestling! Want to see what Barrie Wrestling has to offer\, lets get tickets and go check it out! This event is coming up and tickets are going fast\, so RSVP as soon as you can to make sure we can get tickets. \n  \n 
URL:https://rechargerespite.ca/event/barrie-wrestling-fallout-tournament-2/
ATTACH;FMTTYPE=image/jpeg:https://rechargerespite.ca/wp-content/uploads/2025/01/Jan-Barrie-Wrestling.jpg
END:VEVENT
BEGIN:VEVENT
DTSTART;TZID=America/Toronto:20250129T120000
DTEND;TZID=America/Toronto:20250129T153000
DTSTAMP:20260422T121832
CREATED:20241205T172821Z
LAST-MODIFIED:20250108T170132Z
UID:2506-1738152000-1738164600@rechargerespite.ca
SUMMARY:Golf Simulator
DESCRIPTION:Do you enjoy golf? We do too\, join us for a couple of hours at the golf simulator\, we can play as many holes as we want or we can do fun golf games and work on our swing together. A great chance to stay in form for next golf season with Special Olympics or hitting the links with your friends\, family and Recharge! *This event has an additional cost that will be reflected on your invoice* *You need to bring indoor shoes to play* \nOnly 2 RSVP spots available! \n  \nhttps://www.northswing.ca/ \n 
URL:https://rechargerespite.ca/event/golf-simulator-8/
ATTACH;FMTTYPE=image/jpeg:https://rechargerespite.ca/wp-content/uploads/2023/12/golf-sim.jpg
END:VEVENT
END:VCALENDAR