BEGIN:VCALENDAR
VERSION:2.0
PRODID:-//Recharge Community Respite - ECPv6.15.17.1//NONSGML v1.0//EN
CALSCALE:GREGORIAN
METHOD:PUBLISH
X-WR-CALNAME:Recharge Community Respite
X-ORIGINAL-URL:https://rechargerespite.ca
X-WR-CALDESC:Events for Recharge Community Respite
REFRESH-INTERVAL;VALUE=DURATION:PT1H
X-Robots-Tag:noindex
X-PUBLISHED-TTL:PT1H
BEGIN:VTIMEZONE
TZID:America/Toronto
BEGIN:DAYLIGHT
TZOFFSETFROM:-0500
TZOFFSETTO:-0400
TZNAME:EDT
DTSTART:20240310T070000
END:DAYLIGHT
BEGIN:STANDARD
TZOFFSETFROM:-0400
TZOFFSETTO:-0500
TZNAME:EST
DTSTART:20241103T060000
END:STANDARD
BEGIN:DAYLIGHT
TZOFFSETFROM:-0500
TZOFFSETTO:-0400
TZNAME:EDT
DTSTART:20250309T070000
END:DAYLIGHT
BEGIN:STANDARD
TZOFFSETFROM:-0400
TZOFFSETTO:-0500
TZNAME:EST
DTSTART:20251102T060000
END:STANDARD
BEGIN:DAYLIGHT
TZOFFSETFROM:-0500
TZOFFSETTO:-0400
TZNAME:EDT
DTSTART:20260308T070000
END:DAYLIGHT
BEGIN:STANDARD
TZOFFSETFROM:-0400
TZOFFSETTO:-0500
TZNAME:EST
DTSTART:20261101T060000
END:STANDARD
END:VTIMEZONE
BEGIN:VEVENT
DTSTART;TZID=America/Toronto:20250503T160000
DTEND;TZID=America/Toronto:20250503T200000
DTSTAMP:20260422T051147
CREATED:20250417T182729Z
LAST-MODIFIED:20250417T182729Z
UID:3119-1746288000-1746302400@rechargerespite.ca
SUMMARY:Barrie Wrestling
DESCRIPTION:Barrie Wrestling! Want to see what Barrie Wrestling has to offer\, lets get tickets and go check it out! This event is coming up and tickets are going fast\, so RSVP as soon as you can to make sure we can get tickets. \n  \n**Event RSVP closes on April 26 to ensure we can get the tickets we need\, if you are interested please RSVP soon**
URL:https://rechargerespite.ca/event/barrie-wrestling-6/
ATTACH;FMTTYPE=image/jpeg:https://rechargerespite.ca/wp-content/uploads/2025/04/Barrie-Wresling-May.jpg
END:VEVENT
BEGIN:VEVENT
DTSTART;TZID=America/Toronto:20250507T110000
DTEND;TZID=America/Toronto:20250507T140000
DTSTAMP:20260422T051147
CREATED:20250417T191525Z
LAST-MODIFIED:20250417T191525Z
UID:3151-1746615600-1746626400@rechargerespite.ca
SUMMARY:Creative Cafe
DESCRIPTION:Creative Cafe\nWe will start our day at Williams Cafe\, we will treat you to a coffee before we head over to creative cafe \n\n\n\n\nPaint your own pottery! \nWith over 400+ different items to choose from we guarantee you will find your own\, unique piece to paint! \nEnjoy some creative time together as you transform pottery pieces into one-of-a-kind personalized works of art.  Choose from a huge selection of pottery items.   Create from their large selection of awesome glazes\, brushes\, stencils\, silkscreens and more.  Your pottery will be clear glazed\, kiln-fired to a brilliant shiny finish! \nhttps://creativecafe.ca/
URL:https://rechargerespite.ca/event/creative-cafe-7/
ATTACH;FMTTYPE=image/jpeg:https://rechargerespite.ca/wp-content/uploads/2024/08/creative_cafe_logo.jpg
END:VEVENT
BEGIN:VEVENT
DTSTART;TZID=America/Toronto:20250510T140000
DTEND;TZID=America/Toronto:20250510T190000
DTSTAMP:20260422T051147
CREATED:20250417T183523Z
LAST-MODIFIED:20250417T183523Z
UID:3137-1746885600-1746903600@rechargerespite.ca
SUMMARY:Sunset Speedway
DESCRIPTION:Sunset speedway\, let’s check out the races!\n\n\nSaturday May 10- High Stakes\n\nPro Late Model 50\, Super Stock 30\, Hot Rod 30\, Mini Stock 25\, Bone Stock 20\, Junior\nLate Model 15\, Modifieds
URL:https://rechargerespite.ca/event/sunset-speedway-4/
ATTACH;FMTTYPE=image/png:https://rechargerespite.ca/wp-content/uploads/2024/04/Sunset-LOGO-copy-SHADOW.png
END:VEVENT
BEGIN:VEVENT
DTSTART;TZID=America/Toronto:20250513T100000
DTEND;TZID=America/Toronto:20250513T150000
DTSTAMP:20260422T051147
CREATED:20250417T185259Z
LAST-MODIFIED:20250513T000401Z
UID:3143-1747130400-1747148400@rechargerespite.ca
SUMMARY:Golfing
DESCRIPTION:Golfing at a Allandale Golf course \nGet ready for 9 holes of friendly competition at Allandale! Bring your clubs and a positive attitude for a time on the links! We will be trying to get a morning tee time (10am or after based on availability) This event is weather permitting\, will may offer a Golf simulator outing as a back up if the weather is bad \nNote: Any food or beverage will be at your own cost
URL:https://rechargerespite.ca/event/golfing-5/
ATTACH;FMTTYPE=image/jpeg:https://rechargerespite.ca/wp-content/uploads/2024/06/144_3_2471_jpeg_79b5b997-f63b-4524-b811-344ca9332405.jpg
END:VEVENT
BEGIN:VEVENT
DTSTART;TZID=America/Toronto:20250514T170000
DTEND;TZID=America/Toronto:20250514T235900
DTSTAMP:20260422T051147
CREATED:20250513T000647Z
LAST-MODIFIED:20250513T001240Z
UID:3148-1747242000-1747267140@rechargerespite.ca
SUMMARY:Blue Jays game!
DESCRIPTION:Blue Jays game! \nJays vs Tampa Bay Rays \n*This is a 7:07pm game so we will not be home until 12:30am* \n$20 General admission tickets\, our plan is to get there early to get a spot on the flight deck or any of the other spots in the outfield district. Game time is 7:07pm\, we will be driving to Vaughn and taking the TTC down to Union Station. With the General admission tickets we can check out all of the new additions to the Rogers Center! \n*Please remember that the Rogers Center does not accept cash\, only card payments* \n  \nhttps://bluejays.fanportal-mlb.com/ballpark-renovation/outfield-district
URL:https://rechargerespite.ca/event/blue-jays-game-9/
ATTACH;FMTTYPE=image/jpeg:https://rechargerespite.ca/wp-content/uploads/2024/03/BJs.jpg
END:VEVENT
BEGIN:VEVENT
DTSTART;TZID=America/Toronto:20250522T093000
DTEND;TZID=America/Toronto:20250522T143000
DTSTAMP:20260422T051147
CREATED:20250502T203010Z
LAST-MODIFIED:20250502T203010Z
UID:3171-1747906200-1747924200@rechargerespite.ca
SUMMARY:Fishing
DESCRIPTION:Fishing- \nCome fishing with us\, Where? A fisherman never gives up his spot. Early bird gets the worm so we’re hoping to be fishing by 10am. We may have some gear if you don’t have your own. We will bring a small cooler with some snacks and drinks while we fish.
URL:https://rechargerespite.ca/event/fishing-4/
ATTACH;FMTTYPE=image/jpeg:https://rechargerespite.ca/wp-content/uploads/2025/05/IMG_36321.jpg
END:VEVENT
BEGIN:VEVENT
DTSTART;TZID=America/Toronto:20250523T083000
DTEND;TZID=America/Toronto:20250523T160000
DTSTAMP:20260422T051147
CREATED:20250417T183711Z
LAST-MODIFIED:20250502T172523Z
UID:3140-1747989000-1748016000@rechargerespite.ca
SUMMARY:Hockey Hall of Fame
DESCRIPTION:Hockey Hall of Fame \nHockey fan? Let’s go to the hall of fame\, there are so many great exhibits to see\, including the Stanley cup! With interactives and exhibits it truly is a museum experience like no other. We can go to the TSN theatre and watch a 22 minute 3D film\, we’ll walk through the largest exhibit of hockey artifacts dating back to the games origin. \nWe’ll be taking the TTC or GO train to Union station and walking 2 blocks to the Hall of Fame \nhttps://www.hhof.com/visit/ticketsandvisitorinfo.html
URL:https://rechargerespite.ca/event/hockey-hall-of-fame-2/
LOCATION:HHOF\, Brookfield Place 30 Yonge St.\, Toronto\, Ontario\, M5E 1X8
ATTACH;FMTTYPE=image/png:https://rechargerespite.ca/wp-content/uploads/2023/11/HHOF.png
END:VEVENT
BEGIN:VEVENT
DTSTART;TZID=America/Toronto:20250524T153000
DTEND;TZID=America/Toronto:20250524T200000
DTSTAMP:20260422T051147
CREATED:20250417T195043Z
LAST-MODIFIED:20250417T195043Z
UID:3159-1748100600-1748116800@rechargerespite.ca
SUMMARY:Baycats Game
DESCRIPTION:Baycats Game \nJoin us for game at Athletic Kulture  Stadium. We’ll cheer our Baycats on to victory over the London Majors \n4:05pm first pitch\, bring money for the concession stand\, programs or merch shop. \n  \nhttps://www.barriebaycats.com/home
URL:https://rechargerespite.ca/event/baycats-game-3/
ATTACH;FMTTYPE=image/jpeg:https://rechargerespite.ca/wp-content/uploads/2024/04/Baycats.jpg
END:VEVENT
BEGIN:VEVENT
DTSTART;TZID=America/Toronto:20250528T163000
DTEND;TZID=America/Toronto:20250528T203000
DTSTAMP:20260422T051147
CREATED:20250417T201159Z
LAST-MODIFIED:20250417T201214Z
UID:3167-1748449800-1748464200@rechargerespite.ca
SUMMARY:Barrie Thunder Classics
DESCRIPTION:Barrie Thunder Classics is one of the most active car clubs in the area and is dedicated to the preservation and enjoyment of classic and custom cars and trucks. \nWe will be going to check out the Cruise nights at Bradford Greenhouses. If you love classic cars\, come with us for a fun evening!
URL:https://rechargerespite.ca/event/barrie-thunder-classics/
ATTACH;FMTTYPE=image/jpeg:https://rechargerespite.ca/wp-content/uploads/2025/04/btc-bgh.jpg
END:VEVENT
BEGIN:VEVENT
DTSTART;TZID=America/Toronto:20250530T110000
DTEND;TZID=America/Toronto:20250530T160000
DTSTAMP:20260422T051147
CREATED:20250417T200603Z
LAST-MODIFIED:20250417T200603Z
UID:3164-1748602800-1748620800@rechargerespite.ca
SUMMARY:BBQ and Backyard games!
DESCRIPTION:BBQ and Backyard games! \nRecharge is hosting a good old fashioned BBQ\, burgers and hot dogs\, backyard games. We’ll take of the food/drink and games\, just come have fun! \n  \nMaybe we will all throw water balloons at Dave.
URL:https://rechargerespite.ca/event/bbq-and-backyard-games-5/
ATTACH;FMTTYPE=image/png:https://rechargerespite.ca/wp-content/uploads/2024/05/BBQ-and-games.png
END:VEVENT
BEGIN:VEVENT
DTSTART;TZID=America/Toronto:20250531T153000
DTEND;TZID=America/Toronto:20250531T200000
DTSTAMP:20260422T051147
CREATED:20250417T195217Z
LAST-MODIFIED:20250528T152120Z
UID:3158-1748705400-1748721600@rechargerespite.ca
SUMMARY:Baycats Game
DESCRIPTION:Baycats Game \nJoin us for game at Athletic Kulture Stadium. We’ll cheer our Baycats on to victory over the Hamilton Cardinals! \n4:05pm first pitch\, bring money for the concession stand\, programs or merch shop. \n  \nhttps://www.barriebaycats.com/home
URL:https://rechargerespite.ca/event/baycats-game-4/
ATTACH;FMTTYPE=image/jpeg:https://rechargerespite.ca/wp-content/uploads/2024/04/Baycats.jpg
END:VEVENT
END:VCALENDAR