BEGIN:VCALENDAR
VERSION:2.0
PRODID:-//Recharge Community Respite - ECPv6.15.17.1//NONSGML v1.0//EN
CALSCALE:GREGORIAN
METHOD:PUBLISH
X-ORIGINAL-URL:https://rechargerespite.ca
X-WR-CALDESC:Events for Recharge Community Respite
REFRESH-INTERVAL;VALUE=DURATION:PT1H
X-Robots-Tag:noindex
X-PUBLISHED-TTL:PT1H
BEGIN:VTIMEZONE
TZID:America/Toronto
BEGIN:DAYLIGHT
TZOFFSETFROM:-0500
TZOFFSETTO:-0400
TZNAME:EDT
DTSTART:20240310T070000
END:DAYLIGHT
BEGIN:STANDARD
TZOFFSETFROM:-0400
TZOFFSETTO:-0500
TZNAME:EST
DTSTART:20241103T060000
END:STANDARD
BEGIN:DAYLIGHT
TZOFFSETFROM:-0500
TZOFFSETTO:-0400
TZNAME:EDT
DTSTART:20250309T070000
END:DAYLIGHT
BEGIN:STANDARD
TZOFFSETFROM:-0400
TZOFFSETTO:-0500
TZNAME:EST
DTSTART:20251102T060000
END:STANDARD
BEGIN:DAYLIGHT
TZOFFSETFROM:-0500
TZOFFSETTO:-0400
TZNAME:EDT
DTSTART:20260308T070000
END:DAYLIGHT
BEGIN:STANDARD
TZOFFSETFROM:-0400
TZOFFSETTO:-0500
TZNAME:EST
DTSTART:20261101T060000
END:STANDARD
END:VTIMEZONE
BEGIN:VEVENT
DTSTART;TZID=America/Toronto:20250603T150000
DTEND;TZID=America/Toronto:20250603T180000
DTSTAMP:20260422T031513
CREATED:20250513T011459Z
LAST-MODIFIED:20250516T193644Z
UID:3256-1748962800-1748973600@rechargerespite.ca
SUMMARY:Movie Night at Cineplex!
DESCRIPTION:Movie Night at the Cineplex! \nWe are going to see Lilo and Stitch.  Money will be needed to purchase concession food or drinks. \nActual event time is subject to Show times at Cineplex \n 
URL:https://rechargerespite.ca/event/movie-night-at-cineplex-10/
ATTACH;FMTTYPE=image/jpeg:https://rechargerespite.ca/wp-content/uploads/2025/05/Lilo__Stitch_2025_Theatrical_Poster.jpg
END:VEVENT
BEGIN:VEVENT
DTSTART;TZID=America/Toronto:20250604T090000
DTEND;TZID=America/Toronto:20250604T160000
DTSTAMP:20260422T031513
CREATED:20250513T010610Z
LAST-MODIFIED:20250513T010610Z
UID:3263-1749027600-1749052800@rechargerespite.ca
SUMMARY:Toronto Zoo
DESCRIPTION:Toronto Zoo \nThe Toronto Zoo is a zoo located in Toronto\, Ontario\, Canada. Encompassing 287 hectares\, the Toronto Zoo is the largest zoo in Canada averaging around 1.2 million visitors a year. This event has a lot of walking so be prepared for the weather and the walk. We will be gone for roughly 7 hours\, 4 of those hours at the zoo. Admission is $16.50 per person after tax and will be reflected on your invoice.
URL:https://rechargerespite.ca/event/toronto-zoo-2/
ATTACH;FMTTYPE=image/jpeg:https://rechargerespite.ca/wp-content/uploads/2024/08/Toronto-Zoo-1.jpg
END:VEVENT
BEGIN:VEVENT
DTSTART;TZID=America/Toronto:20250605T120000
DTEND;TZID=America/Toronto:20250605T193000
DTSTAMP:20260422T031513
CREATED:20250513T011002Z
LAST-MODIFIED:20250514T151043Z
UID:3257-1749124800-1749151800@rechargerespite.ca
SUMMARY:Blue Jays game!
DESCRIPTION:Blue Jays game! \nJays vs Phillies \n$20 General admission tickets\, our plan is to get there early to get a spot on the flight deck or any of the other spots in the outfield district. Game time is 3pm we will be driving to Vaughn and taking the TTC down to Union Station. With the General admission tickets we can check out all of the new additions to the Rogers Center! \n*Please remember that the Rogers Center does not accept cash\, only card payments* \n  \nhttps://bluejays.fanportal-mlb.com/ballpark-renovation/outfield-district
URL:https://rechargerespite.ca/event/blue-jays-game-11/
ATTACH;FMTTYPE=image/jpeg:https://rechargerespite.ca/wp-content/uploads/2024/03/BJs.jpg
END:VEVENT
BEGIN:VEVENT
DTSTART;TZID=America/Toronto:20250606T110000
DTEND;TZID=America/Toronto:20250606T150000
DTSTAMP:20260422T031513
CREATED:20250513T005425Z
LAST-MODIFIED:20250513T005425Z
UID:3270-1749207600-1749222000@rechargerespite.ca
SUMMARY:Georgian College Auto show
DESCRIPTION:Georgian College Auto show \nThe Georgian College Auto Show is North America’s largest outdoor auto show. It’s organized by Automotive Business students and held on the Barrie Campus.
URL:https://rechargerespite.ca/event/georgian-college-auto-show-2/
ATTACH;FMTTYPE=image/jpeg:https://rechargerespite.ca/wp-content/uploads/2024/05/GCautoshow.jpg
END:VEVENT
BEGIN:VEVENT
DTSTART;TZID=America/Toronto:20250607T160000
DTEND;TZID=America/Toronto:20250607T200000
DTSTAMP:20260422T031513
CREATED:20250513T002409Z
LAST-MODIFIED:20250513T002409Z
UID:3251-1749312000-1749326400@rechargerespite.ca
SUMMARY:Barrie Wrestling
DESCRIPTION:Barrie Wrestling! Want to see what Barrie Wrestling has to offer\, lets get tickets and go check it out! This event is coming up and tickets are going fast\, so RSVP as soon as you can to make sure we can get tickets. \n  \n**Event RSVP closes on June 2 to ensure we can get the tickets we need\, if you are interested please RSVP soon**
URL:https://rechargerespite.ca/event/barrie-wrestling-7/
ATTACH;FMTTYPE=image/jpeg:https://rechargerespite.ca/wp-content/uploads/2025/05/June-BW.jpg
END:VEVENT
BEGIN:VEVENT
DTSTART;TZID=America/Toronto:20250610T100000
DTEND;TZID=America/Toronto:20250610T150000
DTSTAMP:20260422T031513
CREATED:20250513T005632Z
LAST-MODIFIED:20250513T005632Z
UID:3269-1749549600-1749567600@rechargerespite.ca
SUMMARY:Golfing
DESCRIPTION:Golfing at a Cedar Links course \nGet ready for 9 holes of friendly competition at Cedar Links Par 3! Bring your clubs and a positive attitude for a time on the links! We will be trying to get a morning tee time (10am or after based on availability) This event is weather permitting\, will may offer a Golf simulator outing as a back up if the weather is bad \nNote: Any food or beverage will be at your own cost
URL:https://rechargerespite.ca/event/golfing-6/
ATTACH;FMTTYPE=image/jpeg:https://rechargerespite.ca/wp-content/uploads/2024/06/144_3_2471_jpeg_79b5b997-f63b-4524-b811-344ca9332405.jpg
END:VEVENT
BEGIN:VEVENT
DTSTART;TZID=America/Toronto:20250614T153000
DTEND;TZID=America/Toronto:20250614T200000
DTSTAMP:20260422T031513
CREATED:20250513T005754Z
LAST-MODIFIED:20250513T010459Z
UID:3268-1749915000-1749931200@rechargerespite.ca
SUMMARY:Baycats Game
DESCRIPTION:Baycats Game \nJoin us for game at Athletic Kulture Stadium. We’ll cheer our Baycats on to victory! \n4:05pm first pitch\, bring money for the concession stand\, programs or merch shop. \n  \nhttps://www.barriebaycats.com/home
URL:https://rechargerespite.ca/event/baycats-game-5/
ATTACH;FMTTYPE=image/jpeg:https://rechargerespite.ca/wp-content/uploads/2024/04/Baycats.jpg
END:VEVENT
BEGIN:VEVENT
DTSTART;TZID=America/Toronto:20250617T150000
DTEND;TZID=America/Toronto:20250617T180000
DTSTAMP:20260422T031513
CREATED:20250513T011755Z
LAST-MODIFIED:20250513T011755Z
UID:3255-1750172400-1750183200@rechargerespite.ca
SUMMARY:Movie Night at Cineplex!
DESCRIPTION:Movie Night at the Cineplex! \nWe are going to see How to train your dragon .  Money will be needed to purchase concession food or drinks. \nEvent times will change depending on Cineplex show times
URL:https://rechargerespite.ca/event/movie-night-at-cineplex-11/
ATTACH;FMTTYPE=image/jpeg:https://rechargerespite.ca/wp-content/uploads/2025/05/HTTYD.jpg
END:VEVENT
BEGIN:VEVENT
DTSTART;TZID=America/Toronto:20250618T170000
DTEND;TZID=America/Toronto:20250618T235900
DTSTAMP:20260422T031513
CREATED:20250513T010748Z
LAST-MODIFIED:20250513T010748Z
UID:3258-1750266000-1750291140@rechargerespite.ca
SUMMARY:Blue Jays game!
DESCRIPTION:Blue Jays game! \nJays vs  DBacks \n*This is a 7:07pm game so we will not be home until 12:30am* \n$20 General admission tickets\, our plan is to get there early to get a spot on the flight deck or any of the other spots in the outfield district. Game time is 7:07pm\, we will be driving to Vaughn and taking the TTC down to Union Station. With the General admission tickets we can check out all of the new additions to the Rogers Center! \n*Please remember that the Rogers Center does not accept cash\, only card payments* \n  \nhttps://bluejays.fanportal-mlb.com/ballpark-renovation/outfield-district
URL:https://rechargerespite.ca/event/blue-jays-game-10/
ATTACH;FMTTYPE=image/jpeg:https://rechargerespite.ca/wp-content/uploads/2024/03/BJs.jpg
END:VEVENT
BEGIN:VEVENT
DTSTART;TZID=America/Toronto:20250623T090000
DTEND;TZID=America/Toronto:20250625T120000
DTSTAMP:20260422T031513
CREATED:20250605T140043Z
LAST-MODIFIED:20250605T140043Z
UID:3405-1750669200-1750852800@rechargerespite.ca
SUMMARY:Cottage Respite Trip
DESCRIPTION:We’re providing some respite supports at a cottage for a couple of days\, fun in the sun\, fishing\, BBQs\, games and bon fires. If you are interested in something like this please reach out to Tim and Dave for pricing and availability.
URL:https://rechargerespite.ca/event/cottage-respite-trip/
ATTACH;FMTTYPE=image/jpeg:https://rechargerespite.ca/wp-content/uploads/2024/06/cottage.jpg
END:VEVENT
BEGIN:VEVENT
DTSTART;TZID=America/Toronto:20250627T110000
DTEND;TZID=America/Toronto:20250627T160000
DTSTAMP:20260422T031513
CREATED:20250513T010213Z
LAST-MODIFIED:20250513T010213Z
UID:3264-1751022000-1751040000@rechargerespite.ca
SUMMARY:BBQ and Backyard games!
DESCRIPTION:BBQ and Backyard games! \nRecharge is hosting a good old fashioned BBQ\, burgers and hot dogs\, backyard games. We’ll take of the food/drink and games\, just come have fun! \n  \nMaybe we will all throw water balloons at Dave.
URL:https://rechargerespite.ca/event/bbq-and-backyard-games-6/
ATTACH;FMTTYPE=image/png:https://rechargerespite.ca/wp-content/uploads/2024/05/BBQ-and-games.png
END:VEVENT
BEGIN:VEVENT
DTSTART;TZID=America/Toronto:20250628T153000
DTEND;TZID=America/Toronto:20250628T200000
DTSTAMP:20260422T031513
CREATED:20250513T005845Z
LAST-MODIFIED:20250513T010351Z
UID:3267-1751124600-1751140800@rechargerespite.ca
SUMMARY:Baycats Game
DESCRIPTION:Baycats Game \nJoin us for game at Athletic Kulture Stadium. We’ll cheer our Baycats on to victory! \n4:05pm first pitch\, bring money for the concession stand\, programs or merch shop. \n  \nhttps://www.barriebaycats.com/home
URL:https://rechargerespite.ca/event/baycats-game-6/
ATTACH;FMTTYPE=image/jpeg:https://rechargerespite.ca/wp-content/uploads/2024/04/Baycats.jpg
END:VEVENT
END:VCALENDAR