BEGIN:VCALENDAR
VERSION:2.0
PRODID:-//Recharge Community Respite - ECPv6.15.17.1//NONSGML v1.0//EN
CALSCALE:GREGORIAN
METHOD:PUBLISH
X-WR-CALNAME:Recharge Community Respite
X-ORIGINAL-URL:https://rechargerespite.ca
X-WR-CALDESC:Events for Recharge Community Respite
REFRESH-INTERVAL;VALUE=DURATION:PT1H
X-Robots-Tag:noindex
X-PUBLISHED-TTL:PT1H
BEGIN:VTIMEZONE
TZID:America/Toronto
BEGIN:DAYLIGHT
TZOFFSETFROM:-0500
TZOFFSETTO:-0400
TZNAME:EDT
DTSTART:20240310T070000
END:DAYLIGHT
BEGIN:STANDARD
TZOFFSETFROM:-0400
TZOFFSETTO:-0500
TZNAME:EST
DTSTART:20241103T060000
END:STANDARD
BEGIN:DAYLIGHT
TZOFFSETFROM:-0500
TZOFFSETTO:-0400
TZNAME:EDT
DTSTART:20250309T070000
END:DAYLIGHT
BEGIN:STANDARD
TZOFFSETFROM:-0400
TZOFFSETTO:-0500
TZNAME:EST
DTSTART:20251102T060000
END:STANDARD
BEGIN:DAYLIGHT
TZOFFSETFROM:-0500
TZOFFSETTO:-0400
TZNAME:EDT
DTSTART:20260308T070000
END:DAYLIGHT
BEGIN:STANDARD
TZOFFSETFROM:-0400
TZOFFSETTO:-0500
TZNAME:EST
DTSTART:20261101T060000
END:STANDARD
END:VTIMEZONE
BEGIN:VEVENT
DTSTART;TZID=America/Toronto:20250702T100000
DTEND;TZID=America/Toronto:20250702T150000
DTSTAMP:20260422T012626
CREATED:20250619T190650Z
LAST-MODIFIED:20250619T190650Z
UID:3486-1751450400-1751468400@rechargerespite.ca
SUMMARY:Golfing
DESCRIPTION:Golfing at The Wilds \nGet ready for 18 holes (short course with carts) of friendly competition at The Wilds Bring your clubs and a positive attitude for a time on the links! We will be trying to get a morning tee time (10am or after based on availability) This event is weather permitting. \nNote: Any food or beverage will be at your own cost
URL:https://rechargerespite.ca/event/golfing-7/
ATTACH;FMTTYPE=image/jpeg:https://rechargerespite.ca/wp-content/uploads/2024/06/144_3_2471_jpeg_79b5b997-f63b-4524-b811-344ca9332405.jpg
END:VEVENT
BEGIN:VEVENT
DTSTART;TZID=America/Toronto:20250709T140000
DTEND;TZID=America/Toronto:20250709T170000
DTSTAMP:20260422T012626
CREATED:20250619T184256Z
LAST-MODIFIED:20250619T184256Z
UID:3434-1752069600-1752080400@rechargerespite.ca
SUMMARY:The Paint Bar Barrie
DESCRIPTION:The Paint Bar Barrie allows you to explore your inner artist\, you can choose from painting pottery\, canvas painting or Resin Art. The pricing for these products range from $18-$165\, all participants need to pay an $8 studio fee.
URL:https://rechargerespite.ca/event/the-paint-bar-barrie-2/
ATTACH;FMTTYPE=image/jpeg:https://rechargerespite.ca/wp-content/uploads/2024/08/the-paint-bar-logo.jpg
END:VEVENT
BEGIN:VEVENT
DTSTART;TZID=America/Toronto:20250711T093000
DTEND;TZID=America/Toronto:20250711T143000
DTSTAMP:20260422T012626
CREATED:20250619T183955Z
LAST-MODIFIED:20250619T183955Z
UID:3435-1752226200-1752244200@rechargerespite.ca
SUMMARY:Fishing
DESCRIPTION:Fishing- \nCome fishing with us\, Where? A fisherman never gives up his spot. Early bird gets the worm so we’re hoping to be fishing by 10am. We may have some gear if you don’t have your own. We will bring a small cooler with some snacks and drinks while we fish.
URL:https://rechargerespite.ca/event/fishing-5/
ATTACH;FMTTYPE=image/jpeg:https://rechargerespite.ca/wp-content/uploads/2025/05/IMG_36321.jpg
END:VEVENT
BEGIN:VEVENT
DTSTART;TZID=America/Toronto:20250712T160000
DTEND;TZID=America/Toronto:20250712T200000
DTSTAMP:20260422T012626
CREATED:20250619T183905Z
LAST-MODIFIED:20250619T183905Z
UID:3436-1752336000-1752350400@rechargerespite.ca
SUMMARY:Barrie Wrestling
DESCRIPTION:Barrie Wrestling! Want to see what Barrie Wrestling has to offer\, lets get tickets and go check it out! This event is coming up and tickets are going fast\, so RSVP as soon as you can to make sure we can get tickets. \n  \n**Event RSVP closes on June 2 to ensure we can get the tickets we need\, if you are interested please RSVP soon**
URL:https://rechargerespite.ca/event/barrie-wrestling-8/
ATTACH;FMTTYPE=image/jpeg:https://rechargerespite.ca/wp-content/uploads/2025/06/facebook_1750358229831_7341534524815545519.jpg
END:VEVENT
BEGIN:VEVENT
DTSTART;TZID=America/Toronto:20250715T180000
DTEND;TZID=America/Toronto:20250715T210000
DTSTAMP:20260422T012626
CREATED:20250619T180730Z
LAST-MODIFIED:20250714T150420Z
UID:3444-1752602400-1752613200@rechargerespite.ca
SUMMARY:Movie Night at Cineplex!
DESCRIPTION:Movie Night at the Cineplex! \nWe are going to see Jurassic World Rebirth .  Money will be needed to purchase concession food or drinks. \nEvent times will change depending on Cineplex show times
URL:https://rechargerespite.ca/event/movie-night-at-cineplex-12/
ATTACH;FMTTYPE=image/jpeg:https://rechargerespite.ca/wp-content/uploads/2025/06/JWrebirth.jpg
END:VEVENT
BEGIN:VEVENT
DTSTART;TZID=America/Toronto:20250716T173000
DTEND;TZID=America/Toronto:20250716T203000
DTSTAMP:20260422T012626
CREATED:20250619T185515Z
LAST-MODIFIED:20250714T150832Z
UID:3428-1752687000-1752697800@rechargerespite.ca
SUMMARY:Last level lounge
DESCRIPTION:We are planning to rent out the last level lounge arcade all to ourselves for 2 hours! We need at least 8 people to secure the booking\, if we don’t reach 8 rsvps we will change the time of the event to 530pm- 830pm (regular hours 6pm opening) Sign up ASAP so I can secure the booking. \n  \nhttps://www.lastlevellounge.com/
URL:https://rechargerespite.ca/event/last-level-lounge/
ATTACH;FMTTYPE=image/jpeg:https://rechargerespite.ca/wp-content/uploads/2023/12/LLL.jpg
END:VEVENT
BEGIN:VEVENT
DTSTART;TZID=America/Toronto:20250718T110000
DTEND;TZID=America/Toronto:20250718T150000
DTSTAMP:20260422T012626
CREATED:20250619T182928Z
LAST-MODIFIED:20250619T182928Z
UID:3439-1752836400-1752850800@rechargerespite.ca
SUMMARY:Pool
DESCRIPTION:We’re headed to Dunlop Billiards to shoot some pool\, comin with us? \nWe’ll play pool\, get some grub and hang out!
URL:https://rechargerespite.ca/event/pool-8/
ATTACH;FMTTYPE=image/jpeg:https://rechargerespite.ca/wp-content/uploads/2023/12/Pool.jpg
END:VEVENT
BEGIN:VEVENT
DTSTART;TZID=America/Toronto:20250722T150000
DTEND;TZID=America/Toronto:20250722T180000
DTSTAMP:20260422T012626
CREATED:20250619T180952Z
LAST-MODIFIED:20250619T194707Z
UID:3443-1753196400-1753207200@rechargerespite.ca
SUMMARY:Movie Night at Cineplex!
DESCRIPTION:Movie Night at the Cineplex! \nWe are going to see Superman .  Money will be needed to purchase concession food or drinks. \nEvent times will change depending on Cineplex show times
URL:https://rechargerespite.ca/event/movie-night-at-cineplex-13/
ATTACH;FMTTYPE=image/jpeg:https://rechargerespite.ca/wp-content/uploads/2025/06/superman-2025-.jpg
END:VEVENT
BEGIN:VEVENT
DTSTART;TZID=America/Toronto:20250723T160000
DTEND;TZID=America/Toronto:20250724T000000
DTSTAMP:20260422T012626
CREATED:20250619T183529Z
LAST-MODIFIED:20250724T165202Z
UID:3437-1753286400-1753315200@rechargerespite.ca
SUMMARY:Blue Jays game!
DESCRIPTION:Blue Jays game! \nJays vs Yankees \nVladdy Bobblehead giveaway night! \n$20 General admission tickets\, our plan is to get there early to get a spot on the flight deck or any of the other spots in the outfield district. Game time is 3pm we will be driving to Vaughn and taking the TTC down to Union Station. With the General admission tickets we can check out all of the new additions to the Rogers Center! \n*Please remember that the Rogers Center does not accept cash\, only card payments* \n  \nhttps://bluejays.fanportal-mlb.com/ballpark-renovation/outfield-district
URL:https://rechargerespite.ca/event/blue-jays-game-12/
ATTACH;FMTTYPE=image/jpeg:https://rechargerespite.ca/wp-content/uploads/2024/03/BJs.jpg
END:VEVENT
BEGIN:VEVENT
DTSTART;TZID=America/Toronto:20250724T184500
DTEND;TZID=America/Toronto:20250724T230000
DTSTAMP:20260422T012626
CREATED:20250619T182127Z
LAST-MODIFIED:20250714T145142Z
UID:3441-1753382700-1753398000@rechargerespite.ca
SUMMARY:Baycats Game
DESCRIPTION:Baycats Game \nJoin us for game at Athletic Kulture Stadium. We’ll cheer our Baycats on to victory! \n7:35pm first pitch\, bring money for the concession stand\, programs or merch shop. \n  \nhttps://www.barriebaycats.com/home
URL:https://rechargerespite.ca/event/baycats-game-7/
ATTACH;FMTTYPE=image/jpeg:https://rechargerespite.ca/wp-content/uploads/2024/04/Baycats.jpg
END:VEVENT
BEGIN:VEVENT
DTSTART;TZID=America/Toronto:20250725T110000
DTEND;TZID=America/Toronto:20250725T150000
DTSTAMP:20260422T012626
CREATED:20250619T183125Z
LAST-MODIFIED:20250629T144933Z
UID:3438-1753441200-1753455600@rechargerespite.ca
SUMMARY:BBQ and Backyard games!
DESCRIPTION:BBQ and Backyard games! \nRecharge is hosting a good old fashioned BBQ\, burgers and hot dogs\, backyard games. We’ll take of the food/drink and games\, just come have fun! \n  \nMaybe we will all throw water balloons at Dave.
URL:https://rechargerespite.ca/event/bbq-and-backyard-games-7/
ATTACH;FMTTYPE=image/png:https://rechargerespite.ca/wp-content/uploads/2024/05/BBQ-and-games.png
END:VEVENT
BEGIN:VEVENT
DTSTART;TZID=America/Toronto:20250726T170000
DTEND;TZID=America/Toronto:20250726T220000
DTSTAMP:20260422T012626
CREATED:20250619T182643Z
LAST-MODIFIED:20250619T182643Z
UID:3440-1753549200-1753567200@rechargerespite.ca
SUMMARY:Sunset Speedway
DESCRIPTION:Sunset speedway\, let’s check out the races!\n\n\nSaturday Junior Hanley Classic Pro Late Model 172\n\nPro Late Models 172 Laps\nSuper Stocks 30 Laps\nBone Stocks 20 Laps\nElmer’s Flighting Supply Big 3 Junior Late Models Round 2
URL:https://rechargerespite.ca/event/sunset-speedway-5/
ATTACH;FMTTYPE=image/png:https://rechargerespite.ca/wp-content/uploads/2024/04/Sunset-LOGO-copy-SHADOW.png
END:VEVENT
BEGIN:VEVENT
DTSTART;TZID=America/Toronto:20250731T183000
DTEND;TZID=America/Toronto:20250731T230000
DTSTAMP:20260422T012626
CREATED:20250717T191537Z
LAST-MODIFIED:20250717T191537Z
UID:3595-1753986600-1754002800@rechargerespite.ca
SUMMARY:Baycats Game
DESCRIPTION:Baycats Game \nJoin us for game at Athletic Kulture Stadium. We’ll cheer our Baycats on to victory! \n7:35pm first pitch\, bring money for the concession stand\, programs or merch shop. \n  \nhttps://www.barriebaycats.com/home
URL:https://rechargerespite.ca/event/baycats-game-9/
ATTACH;FMTTYPE=image/jpeg:https://rechargerespite.ca/wp-content/uploads/2024/04/Baycats.jpg
END:VEVENT
END:VCALENDAR