BEGIN:VCALENDAR
VERSION:2.0
PRODID:-//Recharge Community Respite - ECPv6.15.17.1//NONSGML v1.0//EN
CALSCALE:GREGORIAN
METHOD:PUBLISH
X-WR-CALNAME:Recharge Community Respite
X-ORIGINAL-URL:https://rechargerespite.ca
X-WR-CALDESC:Events for Recharge Community Respite
REFRESH-INTERVAL;VALUE=DURATION:PT1H
X-Robots-Tag:noindex
X-PUBLISHED-TTL:PT1H
BEGIN:VTIMEZONE
TZID:America/Toronto
BEGIN:DAYLIGHT
TZOFFSETFROM:-0500
TZOFFSETTO:-0400
TZNAME:EDT
DTSTART:20240310T070000
END:DAYLIGHT
BEGIN:STANDARD
TZOFFSETFROM:-0400
TZOFFSETTO:-0500
TZNAME:EST
DTSTART:20241103T060000
END:STANDARD
BEGIN:DAYLIGHT
TZOFFSETFROM:-0500
TZOFFSETTO:-0400
TZNAME:EDT
DTSTART:20250309T070000
END:DAYLIGHT
BEGIN:STANDARD
TZOFFSETFROM:-0400
TZOFFSETTO:-0500
TZNAME:EST
DTSTART:20251102T060000
END:STANDARD
BEGIN:DAYLIGHT
TZOFFSETFROM:-0500
TZOFFSETTO:-0400
TZNAME:EDT
DTSTART:20260308T070000
END:DAYLIGHT
BEGIN:STANDARD
TZOFFSETFROM:-0400
TZOFFSETTO:-0500
TZNAME:EST
DTSTART:20261101T060000
END:STANDARD
END:VTIMEZONE
BEGIN:VEVENT
DTSTART;TZID=America/Toronto:20251101T160000
DTEND;TZID=America/Toronto:20251101T200000
DTSTAMP:20260421T174714
CREATED:20251020T172430Z
LAST-MODIFIED:20251031T153629Z
UID:4066-1762012800-1762027200@rechargerespite.ca
SUMMARY:Barrie Wrestling
DESCRIPTION:Barrie Wrestling! Want to see what Barrie Wrestling has to offer\, lets get tickets and go check it out! This event is coming up and tickets are going fast\, so RSVP as soon as you can to make sure we can get tickets. \n  \n**Event RSVP closes on Oct 30 to ensure we can get the tickets we need\, if you are interested please RSVP soon**
URL:https://rechargerespite.ca/event/barrie-wrestling-11/
ATTACH;FMTTYPE=image/jpeg:https://rechargerespite.ca/wp-content/uploads/2025/10/Nov-Barrie-wrestling.jpg
END:VEVENT
BEGIN:VEVENT
DTSTART;TZID=America/Toronto:20251104T123000
DTEND;TZID=America/Toronto:20251104T153000
DTSTAMP:20260421T174714
CREATED:20251020T160420Z
LAST-MODIFIED:20251027T164252Z
UID:4020-1762259400-1762270200@rechargerespite.ca
SUMMARY:Golf Simulator
DESCRIPTION:Do you enjoy golf? We do too\, join us for a couple of hours at the golf simulator\, we can play as many holes as we want or we can do fun golf games and work on our swing together. A great chance to stay in form for next golf season with Special Olympics or hitting the links with your friends\, family and Recharge! *This event has an additional cost that will be reflected on your invoice* *You need to bring indoor shoes to play* \nOnly 4 RSVP spots available! \n  \n 
URL:https://rechargerespite.ca/event/golf-simulator-12/
ATTACH;FMTTYPE=image/jpeg:https://rechargerespite.ca/wp-content/uploads/2023/12/golf-sim.jpg
END:VEVENT
BEGIN:VEVENT
DTSTART;TZID=America/Toronto:20251105T120000
DTEND;TZID=America/Toronto:20251105T160000
DTSTAMP:20260421T174714
CREATED:20251020T161839Z
LAST-MODIFIED:20251020T161839Z
UID:4009-1762344000-1762358400@rechargerespite.ca
SUMMARY:Reptilia
DESCRIPTION:Canada’s Largest Indoor Reptile Experience featuring over 250 reptiles\, amphibians and arachnids!\nLet’s go experience Reptilia together. We will be leaving for Vaughn at 12am with hopes of being back for 4pm. \n  \nhttps://reptilia.org/
URL:https://rechargerespite.ca/event/reptilia-2/
LOCATION:Reptilia\, 2501 Rutherford Road\,\, Vaughan\, ON\, L4K 2N6\, Canada
ATTACH;FMTTYPE=image/png:https://rechargerespite.ca/wp-content/uploads/2023/12/Reptillia.png
END:VEVENT
BEGIN:VEVENT
DTSTART;TZID=America/Toronto:20251111T100000
DTEND;TZID=America/Toronto:20251111T140000
DTSTAMP:20260421T174714
CREATED:20251020T160648Z
LAST-MODIFIED:20251020T160711Z
UID:4019-1762855200-1762869600@rechargerespite.ca
SUMMARY:Creative Cafe
DESCRIPTION:Creative Cafe\nWe will start our day at Williams Cafe\, we will treat you to a coffee before we head over to creative cafe \n\n\n\n\nPaint your own pottery! \nWith over 400+ different items to choose from we guarantee you will find your own\, unique piece to paint! \nEnjoy some creative time together as you transform pottery pieces into one-of-a-kind personalized works of art.  Choose from a huge selection of pottery items.   Create from their large selection of awesome glazes\, brushes\, stencils\, silkscreens and more.  Your pottery will be clear glazed\, kiln-fired to a brilliant shiny finish! \nhttps://creativecafe.ca/
URL:https://rechargerespite.ca/event/creative-cafe-10/
ATTACH;FMTTYPE=image/jpeg:https://rechargerespite.ca/wp-content/uploads/2024/08/creative_cafe_logo.jpg
END:VEVENT
BEGIN:VEVENT
DTSTART;TZID=America/Toronto:20251118T110000
DTEND;TZID=America/Toronto:20251118T150000
DTSTAMP:20260421T174714
CREATED:20251020T161738Z
LAST-MODIFIED:20251020T161738Z
UID:4018-1763463600-1763478000@rechargerespite.ca
SUMMARY:Pool
DESCRIPTION:We’re headed to Dunlop Billiards to shoot some pool\, comin with us? \nWe’ll play pool\, get some grub and hang out!
URL:https://rechargerespite.ca/event/pool-11/
ATTACH;FMTTYPE=image/jpeg:https://rechargerespite.ca/wp-content/uploads/2023/12/Pool.jpg
END:VEVENT
BEGIN:VEVENT
DTSTART;TZID=America/Toronto:20251123T133000
DTEND;TZID=America/Toronto:20251123T200000
DTSTAMP:20260421T174714
CREATED:20251020T163459Z
LAST-MODIFIED:20251114T212610Z
UID:4042-1763904600-1763928000@rechargerespite.ca
SUMMARY:Toronto Marlies Game
DESCRIPTION:Toronto Marlies Game! \n\nPlease RSVP ASAP so we can purchase tickets. \nAny cancellations after tickets have been purchased may result in still being invoiced for the ticket cost if we can not fill the spot.
URL:https://rechargerespite.ca/event/toronto-marlies-game-5/
ATTACH;FMTTYPE=image/jpeg:https://rechargerespite.ca/wp-content/uploads/2023/12/Marlies.jpg
END:VEVENT
BEGIN:VEVENT
DTSTART;TZID=America/Toronto:20251126T180000
DTEND;TZID=America/Toronto:20251126T220000
DTSTAMP:20260421T174714
CREATED:20251020T163335Z
LAST-MODIFIED:20251020T163335Z
UID:3945-1764180000-1764194400@rechargerespite.ca
SUMMARY:Leafs game at the Lockeroom
DESCRIPTION:Leafs at the Lockeroom!\nCome hang out\, have some food\, watch the game! \nThe Lockeroom has a great menu with lots of options\, there is a Maple Leafs game at 7pm. \n*The cost of food and beverage is the responsibility of the participant please ensure you bring enough to get what you want.* \n 
URL:https://rechargerespite.ca/event/leafs-game-at-the-lockeroom/
LOCATION:LockerRoom\, 201 Cundles road E\, Barrie\, Ontario\, L4M 4S5\, Canada
ATTACH;FMTTYPE=image/jpeg:https://rechargerespite.ca/wp-content/uploads/2023/12/TML.jpg
END:VEVENT
BEGIN:VEVENT
DTSTART;TZID=America/Toronto:20251127T150000
DTEND;TZID=America/Toronto:20251127T190000
DTSTAMP:20260421T174714
CREATED:20251020T170846Z
LAST-MODIFIED:20251020T170846Z
UID:4053-1764255600-1764270000@rechargerespite.ca
SUMMARY:Movie Night at Cineplex!
DESCRIPTION:Movie Night at the Cineplex! \nWe are going to see Zootopia 2 .  Money will be needed to purchase concession food or drinks. \nEvent times will change depending on Cineplex show times
URL:https://rechargerespite.ca/event/movie-night-at-cineplex-14/
ATTACH;FMTTYPE=image/jpeg:https://rechargerespite.ca/wp-content/uploads/2025/10/Zootopia2.jpg
END:VEVENT
END:VCALENDAR