BEGIN:VCALENDAR
VERSION:2.0
PRODID:-//Recharge Community Respite - ECPv6.15.17.1//NONSGML v1.0//EN
CALSCALE:GREGORIAN
METHOD:PUBLISH
X-ORIGINAL-URL:https://rechargerespite.ca
X-WR-CALDESC:Events for Recharge Community Respite
REFRESH-INTERVAL;VALUE=DURATION:PT1H
X-Robots-Tag:noindex
X-PUBLISHED-TTL:PT1H
BEGIN:VTIMEZONE
TZID:America/Toronto
BEGIN:DAYLIGHT
TZOFFSETFROM:-0500
TZOFFSETTO:-0400
TZNAME:EDT
DTSTART:20240310T070000
END:DAYLIGHT
BEGIN:STANDARD
TZOFFSETFROM:-0400
TZOFFSETTO:-0500
TZNAME:EST
DTSTART:20241103T060000
END:STANDARD
BEGIN:DAYLIGHT
TZOFFSETFROM:-0500
TZOFFSETTO:-0400
TZNAME:EDT
DTSTART:20250309T070000
END:DAYLIGHT
BEGIN:STANDARD
TZOFFSETFROM:-0400
TZOFFSETTO:-0500
TZNAME:EST
DTSTART:20251102T060000
END:STANDARD
BEGIN:DAYLIGHT
TZOFFSETFROM:-0500
TZOFFSETTO:-0400
TZNAME:EDT
DTSTART:20260308T070000
END:DAYLIGHT
BEGIN:STANDARD
TZOFFSETFROM:-0400
TZOFFSETTO:-0500
TZNAME:EST
DTSTART:20261101T060000
END:STANDARD
END:VTIMEZONE
BEGIN:VEVENT
DTSTART;TZID=America/Toronto:20251202T110000
DTEND;TZID=America/Toronto:20251202T140000
DTSTAMP:20260421T155115
CREATED:20251114T221551Z
LAST-MODIFIED:20251117T155953Z
UID:4129-1764673200-1764684000@rechargerespite.ca
SUMMARY:Georgian Downs Casino and Lunch
DESCRIPTION:Georgian Downs Casino \nWe’ve had several requests to go play slot machines at Georgian Downs! All costs associated with gambling will be at your own expense\, only supports will be invoiced to passport. Valid photo ID is required. There are penny slot machines so you can have fun and not break the bank!
URL:https://rechargerespite.ca/event/georgian-downs-casino-and-lunch/
ATTACH;FMTTYPE=image/jpeg:https://rechargerespite.ca/wp-content/uploads/2025/02/Georgiandowns.jpg
END:VEVENT
BEGIN:VEVENT
DTSTART;TZID=America/Toronto:20251206T160000
DTEND;TZID=America/Toronto:20251206T200000
DTSTAMP:20260421T155115
CREATED:20251114T222230Z
LAST-MODIFIED:20251114T222230Z
UID:4148-1765036800-1765051200@rechargerespite.ca
SUMMARY:Barrie Wrestling
DESCRIPTION:Barrie Wrestling! Want to see what Barrie Wrestling has to offer\, lets get tickets and go check it out! This event is coming up and tickets are going fast\, so RSVP as soon as you can to make sure we can get tickets. \n  \n**Event RSVP closes on Nov 30 to ensure we can get the tickets we need\, if you are interested please RSVP soon**
URL:https://rechargerespite.ca/event/barrie-wrestling-12/
ATTACH;FMTTYPE=image/jpeg:https://rechargerespite.ca/wp-content/uploads/2025/11/BW-dec.jpg
END:VEVENT
END:VCALENDAR