BEGIN:VCALENDAR
VERSION:2.0
PRODID:-//Recharge Community Respite - ECPv6.15.17.1//NONSGML v1.0//EN
CALSCALE:GREGORIAN
METHOD:PUBLISH
X-ORIGINAL-URL:https://rechargerespite.ca
X-WR-CALDESC:Events for Recharge Community Respite
REFRESH-INTERVAL;VALUE=DURATION:PT1H
X-Robots-Tag:noindex
X-PUBLISHED-TTL:PT1H
BEGIN:VTIMEZONE
TZID:America/Toronto
BEGIN:DAYLIGHT
TZOFFSETFROM:-0500
TZOFFSETTO:-0400
TZNAME:EDT
DTSTART:20250309T070000
END:DAYLIGHT
BEGIN:STANDARD
TZOFFSETFROM:-0400
TZOFFSETTO:-0500
TZNAME:EST
DTSTART:20251102T060000
END:STANDARD
BEGIN:DAYLIGHT
TZOFFSETFROM:-0500
TZOFFSETTO:-0400
TZNAME:EDT
DTSTART:20260308T070000
END:DAYLIGHT
BEGIN:STANDARD
TZOFFSETFROM:-0400
TZOFFSETTO:-0500
TZNAME:EST
DTSTART:20261101T060000
END:STANDARD
BEGIN:DAYLIGHT
TZOFFSETFROM:-0500
TZOFFSETTO:-0400
TZNAME:EDT
DTSTART:20270314T070000
END:DAYLIGHT
BEGIN:STANDARD
TZOFFSETFROM:-0400
TZOFFSETTO:-0500
TZNAME:EST
DTSTART:20271107T060000
END:STANDARD
END:VTIMEZONE
BEGIN:VEVENT
DTSTART;TZID=America/Toronto:20260104T133000
DTEND;TZID=America/Toronto:20260104T200000
DTSTAMP:20260421T140729
CREATED:20251218T192444Z
LAST-MODIFIED:20260102T183207Z
UID:4231-1767533400-1767556800@rechargerespite.ca
SUMMARY:Toronto Marlies Game
DESCRIPTION:Toronto Marlies Game! \n\nPlease RSVP ASAP so we can purchase tickets. \nAny cancellations after tickets have been purchased may result in still being invoiced for the ticket cost if we can not fill the spot.
URL:https://rechargerespite.ca/event/toronto-marlies-game-6/
ATTACH;FMTTYPE=image/jpeg:https://rechargerespite.ca/wp-content/uploads/2023/12/Marlies.jpg
END:VEVENT
BEGIN:VEVENT
DTSTART;TZID=America/Toronto:20260106T123000
DTEND;TZID=America/Toronto:20260106T153000
DTSTAMP:20260421T140729
CREATED:20251218T191755Z
LAST-MODIFIED:20251218T191755Z
UID:4236-1767702600-1767713400@rechargerespite.ca
SUMMARY:Golf Simulator
DESCRIPTION:Do you enjoy golf? We do too\, join us for a couple of hours at the golf simulator\, we can play as many holes as we want or we can do fun golf games and work on our swing together. A great chance to stay in form for next golf season with Special Olympics or hitting the links with your friends\, family and Recharge! *This event has an additional cost that will be reflected on your invoice* *You need to bring indoor shoes to play* \nOnly 4 RSVP spots available! \n  \n 
URL:https://rechargerespite.ca/event/golf-simulator-13/
ATTACH;FMTTYPE=image/jpeg:https://rechargerespite.ca/wp-content/uploads/2023/12/golf-sim.jpg
END:VEVENT
BEGIN:VEVENT
DTSTART;TZID=America/Toronto:20260107T100000
DTEND;TZID=America/Toronto:20260107T130000
DTSTAMP:20260421T140729
CREATED:20251218T191447Z
LAST-MODIFIED:20251218T191447Z
UID:4240-1767780000-1767790800@rechargerespite.ca
SUMMARY:Creative Cafe
DESCRIPTION:Creative Cafe\nWe will start our day at Williams Cafe\, we will treat you to a coffee before we head over to creative cafe \n\n\n\n\nPaint your own pottery! \nWith over 400+ different items to choose from we guarantee you will find your own\, unique piece to paint! \nEnjoy some creative time together as you transform pottery pieces into one-of-a-kind personalized works of art.  Choose from a huge selection of pottery items.   Create from their large selection of awesome glazes\, brushes\, stencils\, silkscreens and more.  Your pottery will be clear glazed\, kiln-fired to a brilliant shiny finish! \nhttps://creativecafe.ca/
URL:https://rechargerespite.ca/event/creative-cafe-11/
ATTACH;FMTTYPE=image/jpeg:https://rechargerespite.ca/wp-content/uploads/2024/08/creative_cafe_logo.jpg
END:VEVENT
BEGIN:VEVENT
DTSTART;TZID=America/Toronto:20260113T110000
DTEND;TZID=America/Toronto:20260113T150000
DTSTAMP:20260421T140729
CREATED:20251218T192056Z
LAST-MODIFIED:20251218T192056Z
UID:4237-1768302000-1768316400@rechargerespite.ca
SUMMARY:Pool
DESCRIPTION:We’re headed to Dunlop Billiards to shoot some pool\, comin with us? \nWe’ll play pool\, get some grub and hang out!
URL:https://rechargerespite.ca/event/pool-12/
ATTACH;FMTTYPE=image/jpeg:https://rechargerespite.ca/wp-content/uploads/2023/12/Pool.jpg
END:VEVENT
BEGIN:VEVENT
DTSTART;TZID=America/Toronto:20260121T180000
DTEND;TZID=America/Toronto:20260121T220000
DTSTAMP:20260421T140729
CREATED:20251218T205545Z
LAST-MODIFIED:20251218T205545Z
UID:4298-1769018400-1769032800@rechargerespite.ca
SUMMARY:Leafs game at the Lockeroom
DESCRIPTION:Leafs and Dinner!\nCome hang out\, have some food\, watch the game! \nThe Lockeroom or Boston Pizza has a great menu with lots of options\, there is a Maple Leafs game at 7pm. \n*The cost of food and beverage is the responsibility of the participant please ensure you bring enough to get what you want.* \n 
URL:https://rechargerespite.ca/event/leafs-game-at-the-lockeroom-2/
LOCATION:LockerRoom\, 201 Cundles road E\, Barrie\, Ontario\, L4M 4S5\, Canada
ATTACH;FMTTYPE=image/jpeg:https://rechargerespite.ca/wp-content/uploads/2023/12/TML.jpg
END:VEVENT
BEGIN:VEVENT
DTSTART;TZID=America/Toronto:20260123T110000
DTEND;TZID=America/Toronto:20260123T140000
DTSTAMP:20260421T140729
CREATED:20251218T192304Z
LAST-MODIFIED:20251218T192304Z
UID:4232-1769166000-1769176800@rechargerespite.ca
SUMMARY:The Rec Room
DESCRIPTION:The Rec Room- There’s so much for us to do at the Rec Room from bowling\, pool\, virtual reality games and arcade games. Join us for a few hours of fun. Check out their website link below to see their credit system for gaming. The cost of the band and gaming will be the responsibility of the person attending. Please preload your existing band or ensure you have funds to purchase the credits and band. Games cost an average of 5-6 credits to play. \nhttps://www.therecroom.com/howto/howtoplay
URL:https://rechargerespite.ca/event/the-rec-room-7/
ATTACH;FMTTYPE=image/png:https://rechargerespite.ca/wp-content/uploads/2024/02/The-Rec-Room.png
END:VEVENT
BEGIN:VEVENT
DTSTART;TZID=America/Toronto:20260129T083000
DTEND;TZID=America/Toronto:20260129T153000
DTSTAMP:20260421T140729
CREATED:20251218T192354Z
LAST-MODIFIED:20251218T205413Z
UID:4233-1769675400-1769700600@rechargerespite.ca
SUMMARY:Museum of Illusions
DESCRIPTION:Museum of Illusions\n\n\n\n\nWelcome to our fascinating world of illusions. Thrilled yet bewildered you will enter a world that will blow your mind but also give you an opportunity to learn all sorts of things… come and visit us! It is sure to be an amazing and unimaginable experience because whatever you see\, especially here in the Museum of Illusions\, is not what it appears to be. Are you ready for an adventure?\n\n\n\nhttps://museumofillusions.ca/\n\nWe will be taking the go train or TTC down to Union station and walking over to the museum so please dress for the weather and be prepared to walk 1 km (15min)
URL:https://rechargerespite.ca/event/museum-of-illusions-3/
ATTACH;FMTTYPE=image/jpeg:https://rechargerespite.ca/wp-content/uploads/2024/12/museum-of-illusions.jpg
END:VEVENT
BEGIN:VEVENT
DTSTART;TZID=America/Toronto:20260131T160000
DTEND;TZID=America/Toronto:20260131T200000
DTSTAMP:20260421T140729
CREATED:20251226T181603Z
LAST-MODIFIED:20251226T181603Z
UID:4230-1769875200-1769889600@rechargerespite.ca
SUMMARY:Barrie Wrestling
DESCRIPTION:Barrie Wrestling! Want to see what Barrie Wrestling has to offer\, lets get tickets and go check it out! This event is coming up and tickets are going fast\, so RSVP as soon as you can to make sure we can get tickets. \n  \n**Event RSVP closes on Jan 28 to ensure we can get the tickets we need\, if you are interested please RSVP soon**
URL:https://rechargerespite.ca/event/barrie-wrestling-13/
ATTACH;FMTTYPE=image/jpeg:https://rechargerespite.ca/wp-content/uploads/2025/12/Barrie-Wrestling-Jan.jpg
END:VEVENT
END:VCALENDAR