BEGIN:VCALENDAR
VERSION:2.0
PRODID:-//Recharge Community Respite - ECPv6.15.17.1//NONSGML v1.0//EN
CALSCALE:GREGORIAN
METHOD:PUBLISH
X-ORIGINAL-URL:https://rechargerespite.ca
X-WR-CALDESC:Events for Recharge Community Respite
REFRESH-INTERVAL;VALUE=DURATION:PT1H
X-Robots-Tag:noindex
X-PUBLISHED-TTL:PT1H
BEGIN:VTIMEZONE
TZID:America/Toronto
BEGIN:DAYLIGHT
TZOFFSETFROM:-0500
TZOFFSETTO:-0400
TZNAME:EDT
DTSTART:20250309T070000
END:DAYLIGHT
BEGIN:STANDARD
TZOFFSETFROM:-0400
TZOFFSETTO:-0500
TZNAME:EST
DTSTART:20251102T060000
END:STANDARD
BEGIN:DAYLIGHT
TZOFFSETFROM:-0500
TZOFFSETTO:-0400
TZNAME:EDT
DTSTART:20260308T070000
END:DAYLIGHT
BEGIN:STANDARD
TZOFFSETFROM:-0400
TZOFFSETTO:-0500
TZNAME:EST
DTSTART:20261101T060000
END:STANDARD
BEGIN:DAYLIGHT
TZOFFSETFROM:-0500
TZOFFSETTO:-0400
TZNAME:EDT
DTSTART:20270314T070000
END:DAYLIGHT
BEGIN:STANDARD
TZOFFSETFROM:-0400
TZOFFSETTO:-0500
TZNAME:EST
DTSTART:20271107T060000
END:STANDARD
END:VTIMEZONE
BEGIN:VEVENT
DTSTART;TZID=America/Toronto:20260813T123000
DTEND;TZID=America/Toronto:20260813T200000
DTSTAMP:20260421T154956
CREATED:20260408T214146Z
LAST-MODIFIED:20260408T214424Z
UID:4733-1786624200-1786651200@rechargerespite.ca
SUMMARY:Blue Jays game!
DESCRIPTION:Blue Jays game! \n$20 General admission tickets\, our plan is to get there early to get a spot in the outfield district. Game time is 3:07pm we will be driving to Vaughn and taking the TTC down to Union Station. With the General admission tickets we can check out all of the new additions to the Rogers Center! \n*Please remember that the Rogers Center does not accept cash\, only card payments* \n  \nhttps://bluejays.fanportal-mlb.com/ballpark-renovation/outfield-district
URL:https://rechargerespite.ca/event/blue-jays-game-22/
ATTACH;FMTTYPE=image/jpeg:https://rechargerespite.ca/wp-content/uploads/2024/03/BJs.jpg
END:VEVENT
BEGIN:VEVENT
DTSTART;TZID=America/Toronto:20260826T163000
DTEND;TZID=America/Toronto:20260826T235500
DTSTAMP:20260421T154957
CREATED:20260408T214359Z
LAST-MODIFIED:20260408T214359Z
UID:4732-1787761800-1787788500@rechargerespite.ca
SUMMARY:Blue Jays game!
DESCRIPTION:Blue Jays game! \n$20 General admission tickets\, our plan is to get there early to get a spot in the outfield district. Game time is 7:07pm we will be driving to Vaughn and taking the TTC down to Union Station. With the General admission tickets we can check out all of the new additions to the Rogers Center! \n*Please remember that the Rogers Center does not accept cash\, only card payments* \n  \nhttps://bluejays.fanportal-mlb.com/ballpark-renovation/outfield-district
URL:https://rechargerespite.ca/event/blue-jays-game-23/
ATTACH;FMTTYPE=image/jpeg:https://rechargerespite.ca/wp-content/uploads/2024/03/BJs.jpg
END:VEVENT
END:VCALENDAR