BEGIN:VCALENDAR
VERSION:2.0
PRODID:-//Recharge Community Respite - ECPv6.15.17.1//NONSGML v1.0//EN
CALSCALE:GREGORIAN
METHOD:PUBLISH
X-ORIGINAL-URL:https://rechargerespite.ca
X-WR-CALDESC:Events for Recharge Community Respite
REFRESH-INTERVAL;VALUE=DURATION:PT1H
X-Robots-Tag:noindex
X-PUBLISHED-TTL:PT1H
BEGIN:VTIMEZONE
TZID:America/Toronto
BEGIN:DAYLIGHT
TZOFFSETFROM:-0500
TZOFFSETTO:-0400
TZNAME:EDT
DTSTART:20230312T070000
END:DAYLIGHT
BEGIN:STANDARD
TZOFFSETFROM:-0400
TZOFFSETTO:-0500
TZNAME:EST
DTSTART:20231105T060000
END:STANDARD
BEGIN:DAYLIGHT
TZOFFSETFROM:-0500
TZOFFSETTO:-0400
TZNAME:EDT
DTSTART:20240310T070000
END:DAYLIGHT
BEGIN:STANDARD
TZOFFSETFROM:-0400
TZOFFSETTO:-0500
TZNAME:EST
DTSTART:20241103T060000
END:STANDARD
BEGIN:DAYLIGHT
TZOFFSETFROM:-0500
TZOFFSETTO:-0400
TZNAME:EDT
DTSTART:20250309T070000
END:DAYLIGHT
BEGIN:STANDARD
TZOFFSETFROM:-0400
TZOFFSETTO:-0500
TZNAME:EST
DTSTART:20251102T060000
END:STANDARD
END:VTIMEZONE
BEGIN:VEVENT
DTSTART;TZID=America/Toronto:20240206T110000
DTEND;TZID=America/Toronto:20240206T130000
DTSTAMP:20260423T091424
CREATED:20240206T142211Z
LAST-MODIFIED:20240206T142211Z
UID:1123-1707217200-1707224400@rechargerespite.ca
SUMMARY:1 on 1 Outing
DESCRIPTION:Sometimes it’s just good to get out and enjoy some 1 on 1 time\, talk about life\, go for a walk and get a coffee. That’s exactly what we’ll be doing today.
URL:https://rechargerespite.ca/event/1-on-1-outing/
ATTACH;FMTTYPE=image/jpeg:https://rechargerespite.ca/wp-content/uploads/2024/01/1-on-1.jpg
END:VEVENT
BEGIN:VEVENT
DTSTART;TZID=America/Toronto:20240212T130000
DTEND;TZID=America/Toronto:20240212T160000
DTSTAMP:20260423T091424
CREATED:20240208T214351Z
LAST-MODIFIED:20240212T192633Z
UID:1130-1707742800-1707753600@rechargerespite.ca
SUMMARY:1 on 1 Outing
DESCRIPTION:Sometimes it’s just good to get out and enjoy some 1 on 1 time\, talk about life\, go for a walk and get a coffee. That’s exactly what we’ll be doing today.
URL:https://rechargerespite.ca/event/1-on-1-outing-2/
ATTACH;FMTTYPE=image/jpeg:https://rechargerespite.ca/wp-content/uploads/2024/01/1-on-1.jpg
END:VEVENT
BEGIN:VEVENT
DTSTART;TZID=America/Toronto:20240215T110000
DTEND;TZID=America/Toronto:20240215T140000
DTSTAMP:20260423T091424
CREATED:20240208T220104Z
LAST-MODIFIED:20240208T220204Z
UID:1166-1707994800-1708005600@rechargerespite.ca
SUMMARY:1 on 1 Outing
DESCRIPTION:Sometimes it’s just good to get out and enjoy some 1 on 1 time\, talk about life\, go for a walk and get a coffee. That’s exactly what we’ll be doing today.
URL:https://rechargerespite.ca/event/1-on-1-outing-3/
ATTACH;FMTTYPE=image/jpeg:https://rechargerespite.ca/wp-content/uploads/2024/01/1-on-1.jpg
END:VEVENT
BEGIN:VEVENT
DTSTART;TZID=America/Toronto:20240220T103000
DTEND;TZID=America/Toronto:20240220T133000
DTSTAMP:20260423T091424
CREATED:20240212T192127Z
LAST-MODIFIED:20240219T152612Z
UID:1193-1708425000-1708435800@rechargerespite.ca
SUMMARY:1 on 1 Outing
DESCRIPTION:Sometimes it’s just good to get out and enjoy some 1 on 1 time\, talk about life\, go for a walk and get a coffee. That’s exactly what we’ll be doing today.
URL:https://rechargerespite.ca/event/1-on-1-outing-6/
ATTACH;FMTTYPE=image/jpeg:https://rechargerespite.ca/wp-content/uploads/2024/01/1-on-1.jpg
END:VEVENT
BEGIN:VEVENT
DTSTART;TZID=America/Toronto:20240221T110000
DTEND;TZID=America/Toronto:20240221T140000
DTSTAMP:20260423T091424
CREATED:20240212T191713Z
LAST-MODIFIED:20240220T010955Z
UID:1187-1708513200-1708524000@rechargerespite.ca
SUMMARY:1 on 1 Outing
DESCRIPTION:Sometimes it’s just good to get out and enjoy some 1 on 1 time\, talk about life\, go for a walk and get a coffee. That’s exactly what we’ll be doing today.
URL:https://rechargerespite.ca/event/1-on-1-outing-5/
ATTACH;FMTTYPE=image/jpeg:https://rechargerespite.ca/wp-content/uploads/2024/01/1-on-1.jpg
END:VEVENT
BEGIN:VEVENT
DTSTART;TZID=America/Toronto:20240226T123000
DTEND;TZID=America/Toronto:20240226T133000
DTSTAMP:20260423T091424
CREATED:20240225T181014Z
LAST-MODIFIED:20240225T181014Z
UID:1253-1708950600-1708954200@rechargerespite.ca
SUMMARY:1 on 1 Outing
DESCRIPTION:Sometimes it’s just good to get out and enjoy some 1 on 1 time\, talk about life\, go for a walk and get a coffee. That’s exactly what we’ll be doing today.
URL:https://rechargerespite.ca/event/1-on-1-outing-4/
ATTACH;FMTTYPE=image/jpeg:https://rechargerespite.ca/wp-content/uploads/2024/01/1-on-1.jpg
END:VEVENT
END:VCALENDAR