BEGIN:VCALENDAR
VERSION:2.0
PRODID:-//Recharge Community Respite - ECPv6.15.17.1//NONSGML v1.0//EN
CALSCALE:GREGORIAN
METHOD:PUBLISH
X-WR-CALNAME:Recharge Community Respite
X-ORIGINAL-URL:https://rechargerespite.ca
X-WR-CALDESC:Events for Recharge Community Respite
REFRESH-INTERVAL;VALUE=DURATION:PT1H
X-Robots-Tag:noindex
X-PUBLISHED-TTL:PT1H
BEGIN:VTIMEZONE
TZID:America/Toronto
BEGIN:DAYLIGHT
TZOFFSETFROM:-0500
TZOFFSETTO:-0400
TZNAME:EDT
DTSTART:20230312T070000
END:DAYLIGHT
BEGIN:STANDARD
TZOFFSETFROM:-0400
TZOFFSETTO:-0500
TZNAME:EST
DTSTART:20231105T060000
END:STANDARD
BEGIN:DAYLIGHT
TZOFFSETFROM:-0500
TZOFFSETTO:-0400
TZNAME:EDT
DTSTART:20240310T070000
END:DAYLIGHT
BEGIN:STANDARD
TZOFFSETFROM:-0400
TZOFFSETTO:-0500
TZNAME:EST
DTSTART:20241103T060000
END:STANDARD
BEGIN:DAYLIGHT
TZOFFSETFROM:-0500
TZOFFSETTO:-0400
TZNAME:EDT
DTSTART:20250309T070000
END:DAYLIGHT
BEGIN:STANDARD
TZOFFSETFROM:-0400
TZOFFSETTO:-0500
TZNAME:EST
DTSTART:20251102T060000
END:STANDARD
END:VTIMEZONE
BEGIN:VEVENT
DTSTART;TZID=America/Toronto:20240403T120000
DTEND;TZID=America/Toronto:20240403T150000
DTSTAMP:20260423T055721
CREATED:20240403T191503Z
LAST-MODIFIED:20240403T191744Z
UID:1477-1712145600-1712156400@rechargerespite.ca
SUMMARY:1 on 1 Outing
DESCRIPTION:Sometimes it’s just good to get out and enjoy some 1 on 1 time\, talk about life\, go for a walk and get a coffee. That’s exactly what we’ll be doing today.
URL:https://rechargerespite.ca/event/1-on-1-outing-17/
ATTACH;FMTTYPE=image/jpeg:https://rechargerespite.ca/wp-content/uploads/2024/01/1-on-1.jpg
END:VEVENT
BEGIN:VEVENT
DTSTART;TZID=America/Toronto:20240415T090000
DTEND;TZID=America/Toronto:20240415T130000
DTSTAMP:20260423T055721
CREATED:20240412T165608Z
LAST-MODIFIED:20240412T165608Z
UID:1431-1713171600-1713186000@rechargerespite.ca
SUMMARY:1 on 1 Outing
DESCRIPTION:Sometimes it’s just good to get out and enjoy some 1 on 1 time\, talk about life\, go for a walk and get a coffee. That’s exactly what we’ll be doing today.
URL:https://rechargerespite.ca/event/1-on-1-outing-19/
ATTACH;FMTTYPE=image/jpeg:https://rechargerespite.ca/wp-content/uploads/2024/01/1-on-1.jpg
END:VEVENT
BEGIN:VEVENT
DTSTART;TZID=America/Toronto:20240416T100000
DTEND;TZID=America/Toronto:20240416T140000
DTSTAMP:20260423T055721
CREATED:20240412T174808Z
LAST-MODIFIED:20240412T174808Z
UID:1518-1713261600-1713276000@rechargerespite.ca
SUMMARY:1 on 1 Outing
DESCRIPTION:Sometimes it’s just good to get out and enjoy some 1 on 1 time\, talk about life\, go for a walk and get a coffee. That’s exactly what we’ll be doing today.
URL:https://rechargerespite.ca/event/1-on-1-outing-22/
ATTACH;FMTTYPE=image/jpeg:https://rechargerespite.ca/wp-content/uploads/2024/01/1-on-1.jpg
END:VEVENT
BEGIN:VEVENT
DTSTART;TZID=America/Toronto:20240418T100000
DTEND;TZID=America/Toronto:20240418T140000
DTSTAMP:20260423T055721
CREATED:20240412T171947Z
LAST-MODIFIED:20240412T173436Z
UID:1505-1713434400-1713448800@rechargerespite.ca
SUMMARY:1 on 1 Outing
DESCRIPTION:Sometimes it’s just good to get out and enjoy some 1 on 1 time\, talk about life\, go for a walk and get a coffee. That’s exactly what we’ll be doing today.
URL:https://rechargerespite.ca/event/1-on-1-outing-20/
ATTACH;FMTTYPE=image/jpeg:https://rechargerespite.ca/wp-content/uploads/2024/01/1-on-1.jpg
END:VEVENT
BEGIN:VEVENT
DTSTART;TZID=America/Toronto:20240425T100000
DTEND;TZID=America/Toronto:20240425T140000
DTSTAMP:20260423T055721
CREATED:20240403T191852Z
LAST-MODIFIED:20240403T191852Z
UID:1482-1714039200-1714053600@rechargerespite.ca
SUMMARY:1 on 1 Outing
DESCRIPTION:Sometimes it’s just good to get out and enjoy some 1 on 1 time\, talk about life\, go for a walk and get a coffee. That’s exactly what we’ll be doing today.
URL:https://rechargerespite.ca/event/1-on-1-outing-18/
ATTACH;FMTTYPE=image/jpeg:https://rechargerespite.ca/wp-content/uploads/2024/01/1-on-1.jpg
END:VEVENT
BEGIN:VEVENT
DTSTART;TZID=America/Toronto:20240430T100000
DTEND;TZID=America/Toronto:20240430T140000
DTSTAMP:20260423T055721
CREATED:20240412T173204Z
LAST-MODIFIED:20240412T173204Z
UID:1514-1714471200-1714485600@rechargerespite.ca
SUMMARY:1 on 1 Outing
DESCRIPTION:Sometimes it’s just good to get out and enjoy some 1 on 1 time\, talk about life\, go for a walk and get a coffee. That’s exactly what we’ll be doing today.
URL:https://rechargerespite.ca/event/1-on-1-outing-21/
ATTACH;FMTTYPE=image/jpeg:https://rechargerespite.ca/wp-content/uploads/2024/01/1-on-1.jpg
END:VEVENT
END:VCALENDAR