BEGIN:VCALENDAR
VERSION:2.0
PRODID:-//Recharge Community Respite - ECPv6.15.17.1//NONSGML v1.0//EN
CALSCALE:GREGORIAN
METHOD:PUBLISH
X-WR-CALNAME:Recharge Community Respite
X-ORIGINAL-URL:https://rechargerespite.ca
X-WR-CALDESC:Events for Recharge Community Respite
REFRESH-INTERVAL;VALUE=DURATION:PT1H
X-Robots-Tag:noindex
X-PUBLISHED-TTL:PT1H
BEGIN:VTIMEZONE
TZID:America/Toronto
BEGIN:DAYLIGHT
TZOFFSETFROM:-0500
TZOFFSETTO:-0400
TZNAME:EDT
DTSTART:20230312T070000
END:DAYLIGHT
BEGIN:STANDARD
TZOFFSETFROM:-0400
TZOFFSETTO:-0500
TZNAME:EST
DTSTART:20231105T060000
END:STANDARD
BEGIN:DAYLIGHT
TZOFFSETFROM:-0500
TZOFFSETTO:-0400
TZNAME:EDT
DTSTART:20240310T070000
END:DAYLIGHT
BEGIN:STANDARD
TZOFFSETFROM:-0400
TZOFFSETTO:-0500
TZNAME:EST
DTSTART:20241103T060000
END:STANDARD
BEGIN:DAYLIGHT
TZOFFSETFROM:-0500
TZOFFSETTO:-0400
TZNAME:EDT
DTSTART:20250309T070000
END:DAYLIGHT
BEGIN:STANDARD
TZOFFSETFROM:-0400
TZOFFSETTO:-0500
TZNAME:EST
DTSTART:20251102T060000
END:STANDARD
END:VTIMEZONE
BEGIN:VEVENT
DTSTART;TZID=America/Toronto:20240502T100000
DTEND;TZID=America/Toronto:20240502T140000
DTSTAMP:20260423T042142
CREATED:20240419T201936Z
LAST-MODIFIED:20240419T201936Z
UID:1591-1714644000-1714658400@rechargerespite.ca
SUMMARY:1 on 1 Outing
DESCRIPTION:Sometimes it’s just good to get out and enjoy some 1 on 1 time\, talk about life\, go for a walk and get a coffee. That’s exactly what we’ll be doing today.
URL:https://rechargerespite.ca/event/1-on-1-outing-23/
ATTACH;FMTTYPE=image/jpeg:https://rechargerespite.ca/wp-content/uploads/2024/01/1-on-1.jpg
END:VEVENT
BEGIN:VEVENT
DTSTART;TZID=America/Toronto:20240507T100000
DTEND;TZID=America/Toronto:20240507T140000
DTSTAMP:20260423T042142
CREATED:20240419T202105Z
LAST-MODIFIED:20240419T202105Z
UID:1597-1715076000-1715090400@rechargerespite.ca
SUMMARY:1 on 1 Outing
DESCRIPTION:Sometimes it’s just good to get out and enjoy some 1 on 1 time\, talk about life\, go for a walk and get a coffee. That’s exactly what we’ll be doing today.
URL:https://rechargerespite.ca/event/1-on-1-outing-25/
ATTACH;FMTTYPE=image/jpeg:https://rechargerespite.ca/wp-content/uploads/2024/01/1-on-1.jpg
END:VEVENT
BEGIN:VEVENT
DTSTART;TZID=America/Toronto:20240514T100000
DTEND;TZID=America/Toronto:20240514T140000
DTSTAMP:20260423T042142
CREATED:20240419T202019Z
LAST-MODIFIED:20240419T202610Z
UID:1594-1715680800-1715695200@rechargerespite.ca
SUMMARY:1 on 1 Outing
DESCRIPTION:Sometimes it’s just good to get out and enjoy some 1 on 1 time\, talk about life\, go for a walk and get a coffee. That’s exactly what we’ll be doing today.
URL:https://rechargerespite.ca/event/1-on-1-outing-24/
ATTACH;FMTTYPE=image/jpeg:https://rechargerespite.ca/wp-content/uploads/2024/01/1-on-1.jpg
END:VEVENT
BEGIN:VEVENT
DTSTART;TZID=America/Toronto:20240515T100000
DTEND;TZID=America/Toronto:20240515T140000
DTSTAMP:20260423T042142
CREATED:20240419T202152Z
LAST-MODIFIED:20240509T143228Z
UID:1600-1715767200-1715781600@rechargerespite.ca
SUMMARY:1 on 1 Outing
DESCRIPTION:Sometimes it’s just good to get out and enjoy some 1 on 1 time\, talk about life\, go for a walk and get a coffee. That’s exactly what we’ll be doing today.
URL:https://rechargerespite.ca/event/1-on-1-outing-26/
ATTACH;FMTTYPE=image/jpeg:https://rechargerespite.ca/wp-content/uploads/2024/01/1-on-1.jpg
END:VEVENT
BEGIN:VEVENT
DTSTART;TZID=America/Toronto:20240521T100000
DTEND;TZID=America/Toronto:20240521T140000
DTSTAMP:20260423T042142
CREATED:20240419T202234Z
LAST-MODIFIED:20240419T202234Z
UID:1603-1716285600-1716300000@rechargerespite.ca
SUMMARY:1 on 1 Outing
DESCRIPTION:Sometimes it’s just good to get out and enjoy some 1 on 1 time\, talk about life\, go for a walk and get a coffee. That’s exactly what we’ll be doing today.
URL:https://rechargerespite.ca/event/1-on-1-outing-27/
ATTACH;FMTTYPE=image/jpeg:https://rechargerespite.ca/wp-content/uploads/2024/01/1-on-1.jpg
END:VEVENT
BEGIN:VEVENT
DTSTART;TZID=America/Toronto:20240528T100000
DTEND;TZID=America/Toronto:20240528T140000
DTSTAMP:20260423T042142
CREATED:20240419T202719Z
LAST-MODIFIED:20240419T202719Z
UID:1606-1716890400-1716904800@rechargerespite.ca
SUMMARY:1 on 1 Outing
DESCRIPTION:Sometimes it’s just good to get out and enjoy some 1 on 1 time\, talk about life\, go for a walk and get a coffee. That’s exactly what we’ll be doing today.
URL:https://rechargerespite.ca/event/1-on-1-outing-28/
ATTACH;FMTTYPE=image/jpeg:https://rechargerespite.ca/wp-content/uploads/2024/01/1-on-1.jpg
END:VEVENT
END:VCALENDAR