BEGIN:VCALENDAR
VERSION:2.0
PRODID:-//Recharge Community Respite - ECPv6.15.17.1//NONSGML v1.0//EN
CALSCALE:GREGORIAN
METHOD:PUBLISH
X-ORIGINAL-URL:https://rechargerespite.ca
X-WR-CALDESC:Events for Recharge Community Respite
REFRESH-INTERVAL;VALUE=DURATION:PT1H
X-Robots-Tag:noindex
X-PUBLISHED-TTL:PT1H
BEGIN:VTIMEZONE
TZID:America/Toronto
BEGIN:DAYLIGHT
TZOFFSETFROM:-0500
TZOFFSETTO:-0400
TZNAME:EDT
DTSTART:20230312T070000
END:DAYLIGHT
BEGIN:STANDARD
TZOFFSETFROM:-0400
TZOFFSETTO:-0500
TZNAME:EST
DTSTART:20231105T060000
END:STANDARD
BEGIN:DAYLIGHT
TZOFFSETFROM:-0500
TZOFFSETTO:-0400
TZNAME:EDT
DTSTART:20240310T070000
END:DAYLIGHT
BEGIN:STANDARD
TZOFFSETFROM:-0400
TZOFFSETTO:-0500
TZNAME:EST
DTSTART:20241103T060000
END:STANDARD
BEGIN:DAYLIGHT
TZOFFSETFROM:-0500
TZOFFSETTO:-0400
TZNAME:EDT
DTSTART:20250309T070000
END:DAYLIGHT
BEGIN:STANDARD
TZOFFSETFROM:-0400
TZOFFSETTO:-0500
TZNAME:EST
DTSTART:20251102T060000
END:STANDARD
END:VTIMEZONE
BEGIN:VEVENT
DTSTART;TZID=America/Toronto:20240903T090000
DTEND;TZID=America/Toronto:20240903T160000
DTSTAMP:20260422T193536
CREATED:20240818T160543Z
LAST-MODIFIED:20240902T174933Z
UID:2169-1725354000-1725379200@rechargerespite.ca
SUMMARY:Toronto Zoo
DESCRIPTION:Toronto Zoo \nThe Toronto Zoo is a zoo located in Toronto\, Ontario\, Canada. Encompassing 287 hectares\, the Toronto Zoo is the largest zoo in Canada averaging around 1.2 million visitors a year. This event has a lot of walking so be prepared for the weather and the walk. We will be gone for roughly 7 hours\, 4 of those hours at the zoo. Admission is $16.50 per person after tax and will be reflected on your invoice.
URL:https://rechargerespite.ca/event/toronto-zoo/
ATTACH;FMTTYPE=image/jpeg:https://rechargerespite.ca/wp-content/uploads/2024/08/Toronto-Zoo-1.jpg
END:VEVENT
BEGIN:VEVENT
DTSTART;TZID=America/Toronto:20240906T100000
DTEND;TZID=America/Toronto:20240906T140000
DTSTAMP:20260422T193536
CREATED:20240818T212545Z
LAST-MODIFIED:20240818T212545Z
UID:2225-1725616800-1725631200@rechargerespite.ca
SUMMARY:Creative Cafe
DESCRIPTION:Creative Cafe\n\n\n\n\nPaint your own pottery! \nWith over 400+ different items to choose from we guarantee you will find your own\, unique piece to paint! \nEnjoy some creative time together as you transform pottery pieces into one-of-a-kind personalized works of art.  Choose from a huge selection of pottery items.   Create from their large selection of awesome glazes\, brushes\, stencils\, silkscreens and more.  Your pottery will be clear glazed\, kiln-fired to a brilliant shiny finish! \nhttps://creativecafe.ca/
URL:https://rechargerespite.ca/event/creative-cafe/
ATTACH;FMTTYPE=image/jpeg:https://rechargerespite.ca/wp-content/uploads/2024/08/creative_cafe_logo.jpg
END:VEVENT
BEGIN:VEVENT
DTSTART;TZID=America/Toronto:20240909T100000
DTEND;TZID=America/Toronto:20240909T140000
DTSTAMP:20260422T193536
CREATED:20240818T163919Z
LAST-MODIFIED:20240818T163919Z
UID:2177-1725876000-1725890400@rechargerespite.ca
SUMMARY:Bowling
DESCRIPTION:No description needed….Let’s go bowling\, test your skills against Tim and Dave (you’ll beat Dave) We will decide with the attendees if we want to do 5 pin or 10 pin! \nhttps://bowlerama.com/
URL:https://rechargerespite.ca/event/bowling-7/
LOCATION:Bowlerama\, 320 Bayfield St\,\, ON\, Barrie\, Ontario\, L4M 3C1\, Canada
ATTACH;FMTTYPE=image/jpeg:https://rechargerespite.ca/wp-content/uploads/2023/11/Bowling.jpg
ORGANIZER;CN="Recharge":MAILTO:Rechargecrs@outlook.com
END:VEVENT
BEGIN:VEVENT
DTSTART;TZID=America/Toronto:20240910T100000
DTEND;TZID=America/Toronto:20240910T140000
DTSTAMP:20260422T193536
CREATED:20240823T173217Z
LAST-MODIFIED:20240823T173217Z
UID:2219-1725962400-1725976800@rechargerespite.ca
SUMMARY:Golfing
DESCRIPTION:Golfing at a Cedar Links \nGet ready for 9 holes of friendly competition at Cedar Links par 3 course! Bring your clubs and a positive attitude for a time on the links! We will be going to Wild Wing for lunch after our round. \nNote: Any food or beverage will be at your own cost
URL:https://rechargerespite.ca/event/golfing-3/
ATTACH;FMTTYPE=image/jpeg:https://rechargerespite.ca/wp-content/uploads/2024/06/144_3_2471_jpeg_79b5b997-f63b-4524-b811-344ca9332405.jpg
END:VEVENT
BEGIN:VEVENT
DTSTART;TZID=America/Toronto:20240919T100000
DTEND;TZID=America/Toronto:20240919T140000
DTSTAMP:20260422T193536
CREATED:20240818T163709Z
LAST-MODIFIED:20240818T170515Z
UID:2178-1726740000-1726754400@rechargerespite.ca
SUMMARY:Pool
DESCRIPTION:We’re headed to Dunlop Billiards to shoot some pool\, comin with us? \nFood and drink available at extra cost if you want.
URL:https://rechargerespite.ca/event/pool-4/
ATTACH;FMTTYPE=image/jpeg:https://rechargerespite.ca/wp-content/uploads/2023/12/Pool.jpg
END:VEVENT
BEGIN:VEVENT
DTSTART;TZID=America/Toronto:20240920T160000
DTEND;TZID=America/Toronto:20240920T220000
DTSTAMP:20260422T193536
CREATED:20240818T170133Z
LAST-MODIFIED:20240918T142805Z
UID:2175-1726848000-1726869600@rechargerespite.ca
SUMMARY:Wonderland
DESCRIPTION:Wonderland \n“Since 1981\, Canada’s Wonderland has been the premier destination in Ontario for thrills\, family fun\, and world-class entertainment. Located in Vaughan\, just north of Toronto\, the amusement park features more than 200 attractions including 18 roller coasters\, two children’s areas\, and Splash Works\, the 20-acre water park.” \nPlease reach out via email if you require us to purchase a day pass for you\, food and other attractions will be at your own cost or pack a lunch and we will bring a cooler. \nemail-mailto:rechargecrs@outlook.com
URL:https://rechargerespite.ca/event/wonderland-3/
ATTACH;FMTTYPE=image/jpeg:https://rechargerespite.ca/wp-content/uploads/2024/05/Wonderland.jpg
END:VEVENT
BEGIN:VEVENT
DTSTART;TZID=America/Toronto:20240925T093000
DTEND;TZID=America/Toronto:20240925T153000
DTSTAMP:20260422T193536
CREATED:20240818T163446Z
LAST-MODIFIED:20240917T134740Z
UID:2181-1727256600-1727278200@rechargerespite.ca
SUMMARY:iFLY Indoor Skydiving
DESCRIPTION:iFLY Indoor Skydiving \nWhen you go to iFLY get ready to be blown away – literally. It’s thrilling. It’s amazing. Experience the feeling of freefall as you float on a smooth cushion of air. There’s no parachute\, no jumping\, and nothing attaching you to planet Earth. It’s just you FLYING in the air. Super fun\, super safe and super cool! Admission will be based on a group package and works out to $73.44 per person after tax. You will get 2 flights! \nhttps://iflyworld.ca/
URL:https://rechargerespite.ca/event/ifly-indoor-skydiving/
ATTACH;FMTTYPE=image/jpeg:https://rechargerespite.ca/wp-content/uploads/2024/08/IFLY.jpg
END:VEVENT
BEGIN:VEVENT
DTSTART;TZID=America/Toronto:20240927T180000
DTEND;TZID=America/Toronto:20240927T220000
DTSTAMP:20260422T193536
CREATED:20240818T190928Z
LAST-MODIFIED:20240818T190928Z
UID:2204-1727460000-1727474400@rechargerespite.ca
SUMMARY:Coldwater Fall Fair Demolition Derby
DESCRIPTION:Coldwater Fall Fair Demolition Derby \nIt’s that time of year! We get to go to fall fairs and have fun\, first up is the Coldwater Fall Fair. We’re headed to the demolition derby\, starts at 7pm! Admission is $12 \nhttps://coldwaterfallfair.com/schedule/
URL:https://rechargerespite.ca/event/coldwater-fall-fair-demolition-derby/
ATTACH;FMTTYPE=image/jpeg:https://rechargerespite.ca/wp-content/uploads/2024/08/Coldwaterfair.jpg
END:VEVENT
END:VCALENDAR