BEGIN:VCALENDAR
VERSION:2.0
PRODID:-//Recharge Community Respite - ECPv6.15.17.1//NONSGML v1.0//EN
CALSCALE:GREGORIAN
METHOD:PUBLISH
X-ORIGINAL-URL:https://rechargerespite.ca
X-WR-CALDESC:Events for Recharge Community Respite
REFRESH-INTERVAL;VALUE=DURATION:PT1H
X-Robots-Tag:noindex
X-PUBLISHED-TTL:PT1H
BEGIN:VTIMEZONE
TZID:America/Toronto
BEGIN:DAYLIGHT
TZOFFSETFROM:-0500
TZOFFSETTO:-0400
TZNAME:EDT
DTSTART:20230312T070000
END:DAYLIGHT
BEGIN:STANDARD
TZOFFSETFROM:-0400
TZOFFSETTO:-0500
TZNAME:EST
DTSTART:20231105T060000
END:STANDARD
BEGIN:DAYLIGHT
TZOFFSETFROM:-0500
TZOFFSETTO:-0400
TZNAME:EDT
DTSTART:20240310T070000
END:DAYLIGHT
BEGIN:STANDARD
TZOFFSETFROM:-0400
TZOFFSETTO:-0500
TZNAME:EST
DTSTART:20241103T060000
END:STANDARD
BEGIN:DAYLIGHT
TZOFFSETFROM:-0500
TZOFFSETTO:-0400
TZNAME:EDT
DTSTART:20250309T070000
END:DAYLIGHT
BEGIN:STANDARD
TZOFFSETFROM:-0400
TZOFFSETTO:-0500
TZNAME:EST
DTSTART:20251102T060000
END:STANDARD
END:VTIMEZONE
BEGIN:VEVENT
DTSTART;TZID=America/Toronto:20241007T100000
DTEND;TZID=America/Toronto:20241007T140000
DTSTAMP:20260422T174803
CREATED:20240917T152342Z
LAST-MODIFIED:20240917T152342Z
UID:2364-1728295200-1728309600@rechargerespite.ca
SUMMARY:Bowling
DESCRIPTION:No description needed….Let’s go bowling\, test your skills against Tim and Dave (you’ll beat Dave) We will decide with the attendees if we want to do 5 pin or 10 pin! \nhttps://bowlerama.com/
URL:https://rechargerespite.ca/event/bowling-10/
LOCATION:Bowlerama\, 320 Bayfield St\,\, ON\, Barrie\, Ontario\, L4M 3C1\, Canada
ATTACH;FMTTYPE=image/jpeg:https://rechargerespite.ca/wp-content/uploads/2023/11/Bowling.jpg
ORGANIZER;CN="Recharge":MAILTO:Rechargecrs@outlook.com
END:VEVENT
BEGIN:VEVENT
DTSTART;TZID=America/Toronto:20241007T150000
DTEND;TZID=America/Toronto:20241007T190000
DTSTAMP:20260422T174803
CREATED:20240917T143600Z
LAST-MODIFIED:20240917T143600Z
UID:2344-1728313200-1728327600@rechargerespite.ca
SUMMARY:Golfing
DESCRIPTION:Golfing at a Allandale Golf course \nGet ready for 9 holes of friendly competition at Allandale! Bring your clubs and a positive attitude for a time on the links! We will be teeing off sometime after 3pm\, once we get 2 golfers we will book the time. \nNote: Any food or beverage will be at your own cost
URL:https://rechargerespite.ca/event/golfing-4/
ATTACH;FMTTYPE=image/jpeg:https://rechargerespite.ca/wp-content/uploads/2024/06/144_3_2471_jpeg_79b5b997-f63b-4524-b811-344ca9332405.jpg
END:VEVENT
BEGIN:VEVENT
DTSTART;TZID=America/Toronto:20241015T100000
DTEND;TZID=America/Toronto:20241015T140000
DTSTAMP:20260422T174803
CREATED:20240917T173535Z
LAST-MODIFIED:20240917T173535Z
UID:2386-1728986400-1729000800@rechargerespite.ca
SUMMARY:Pool
DESCRIPTION:We’re headed to Dunlop Billiards to shoot some pool\, comin with us? \nFood and drink available at extra cost if you want.
URL:https://rechargerespite.ca/event/pool-5/
ATTACH;FMTTYPE=image/jpeg:https://rechargerespite.ca/wp-content/uploads/2023/12/Pool.jpg
END:VEVENT
BEGIN:VEVENT
DTSTART;TZID=America/Toronto:20241016T100000
DTEND;TZID=America/Toronto:20241016T140000
DTSTAMP:20260422T174803
CREATED:20240917T153153Z
LAST-MODIFIED:20240917T153153Z
UID:2368-1729072800-1729087200@rechargerespite.ca
SUMMARY:Creative Cafe
DESCRIPTION:Creative Cafe\n\n\n\n\nPaint your own pottery! \nWith over 400+ different items to choose from we guarantee you will find your own\, unique piece to paint! \nEnjoy some creative time together as you transform pottery pieces into one-of-a-kind personalized works of art.  Choose from a huge selection of pottery items.   Create from their large selection of awesome glazes\, brushes\, stencils\, silkscreens and more.  Your pottery will be clear glazed\, kiln-fired to a brilliant shiny finish! \nhttps://creativecafe.ca/
URL:https://rechargerespite.ca/event/creative-cafe-2/
ATTACH;FMTTYPE=image/jpeg:https://rechargerespite.ca/wp-content/uploads/2024/08/creative_cafe_logo.jpg
END:VEVENT
BEGIN:VEVENT
DTSTART;TZID=America/Toronto:20241021T100000
DTEND;TZID=America/Toronto:20241021T140000
DTSTAMP:20260422T174803
CREATED:20240917T145250Z
LAST-MODIFIED:20240917T152005Z
UID:2348-1729504800-1729519200@rechargerespite.ca
SUMMARY:Bowling
DESCRIPTION:No description needed….Let’s go bowling\, test your skills against Tim and Dave (you’ll beat Dave) We will decide with the attendees if we want to do 5 pin or 10 pin! \nhttps://bowlerama.com/
URL:https://rechargerespite.ca/event/bowling-8/
LOCATION:Bowlerama\, 320 Bayfield St\,\, ON\, Barrie\, Ontario\, L4M 3C1\, Canada
ATTACH;FMTTYPE=image/jpeg:https://rechargerespite.ca/wp-content/uploads/2023/11/Bowling.jpg
ORGANIZER;CN="Recharge":MAILTO:Rechargecrs@outlook.com
END:VEVENT
BEGIN:VEVENT
DTSTART;TZID=America/Toronto:20241024T160000
DTEND;TZID=America/Toronto:20241024T223000
DTSTAMP:20260422T174803
CREATED:20240906T215936Z
LAST-MODIFIED:20240906T215936Z
UID:2318-1729785600-1729809000@rechargerespite.ca
SUMMARY:Wonderland- Halloween Haunt
DESCRIPTION:Wonderland- Halloween Haunt \n\nGet your fright on this fall\, when Halloween Haunt returns to Canada’s Wonderland! The theme park transforms into a scream park filled with Halloween attractions that offer unforgettable thrills and unspeakable horror. \nImmerse yourself in the nightmare of Haunt\, with seven terrifying scare zones\, hundreds of monsters\, thrilling night rides\, amazing live entertainment and six mazes including the new Demons of the Deep where you’ll discover horrifying creatures lurking in a deserted underwater lab. \nThis event has an admission price of $50.84\, if you have a seasons pass it may not cover this event please check prior
URL:https://rechargerespite.ca/event/wonderland-halloween-haunt/
ATTACH;FMTTYPE=image/jpeg:https://rechargerespite.ca/wp-content/uploads/2024/05/Wonderland.jpg
END:VEVENT
BEGIN:VEVENT
DTSTART;TZID=America/Toronto:20241028T100000
DTEND;TZID=America/Toronto:20241028T140000
DTSTAMP:20260422T174803
CREATED:20240917T145432Z
LAST-MODIFIED:20240917T145432Z
UID:2352-1730109600-1730124000@rechargerespite.ca
SUMMARY:Bowling
DESCRIPTION:No description needed….Let’s go bowling\, test your skills against Tim and Dave (you’ll beat Dave) We will decide with the attendees if we want to do 5 pin or 10 pin! \nhttps://bowlerama.com/
URL:https://rechargerespite.ca/event/bowling-9/
LOCATION:Bowlerama\, 320 Bayfield St\,\, ON\, Barrie\, Ontario\, L4M 3C1\, Canada
ATTACH;FMTTYPE=image/jpeg:https://rechargerespite.ca/wp-content/uploads/2023/11/Bowling.jpg
ORGANIZER;CN="Recharge":MAILTO:Rechargecrs@outlook.com
END:VEVENT
BEGIN:VEVENT
DTSTART;VALUE=DATE:20241029
DTEND;VALUE=DATE:20241030
DTSTAMP:20260422T174803
CREATED:20240917T145943Z
LAST-MODIFIED:20240917T150047Z
UID:2355-1730160000-1730246399@rechargerespite.ca
SUMMARY:Movie Night at Cineplex!
DESCRIPTION:Movie Night at the Cineplex! \nWe are going to see Venom-The last Dance.  Money will be needed to purchase concession food or drinks. \nMovie time Will be updated closer to date
URL:https://rechargerespite.ca/event/movie-night-at-cineplex-6/
ATTACH;FMTTYPE=image/jpeg:https://rechargerespite.ca/wp-content/uploads/2024/09/venom-the-last-dance-.jpg
END:VEVENT
BEGIN:VEVENT
DTSTART;TZID=America/Toronto:20241030T100000
DTEND;TZID=America/Toronto:20241030T140000
DTSTAMP:20260422T174803
CREATED:20240917T153252Z
LAST-MODIFIED:20240917T153252Z
UID:2367-1730282400-1730296800@rechargerespite.ca
SUMMARY:Creative Cafe
DESCRIPTION:Creative Cafe\n\n\n\n\nPaint your own pottery! \nWith over 400+ different items to choose from we guarantee you will find your own\, unique piece to paint! \nEnjoy some creative time together as you transform pottery pieces into one-of-a-kind personalized works of art.  Choose from a huge selection of pottery items.   Create from their large selection of awesome glazes\, brushes\, stencils\, silkscreens and more.  Your pottery will be clear glazed\, kiln-fired to a brilliant shiny finish! \nhttps://creativecafe.ca/
URL:https://rechargerespite.ca/event/creative-cafe-3/
ATTACH;FMTTYPE=image/jpeg:https://rechargerespite.ca/wp-content/uploads/2024/08/creative_cafe_logo.jpg
END:VEVENT
END:VCALENDAR