BEGIN:VCALENDAR
VERSION:2.0
PRODID:-//Recharge Community Respite - ECPv6.15.17.1//NONSGML v1.0//EN
CALSCALE:GREGORIAN
METHOD:PUBLISH
X-ORIGINAL-URL:https://rechargerespite.ca
X-WR-CALDESC:Events for Recharge Community Respite
REFRESH-INTERVAL;VALUE=DURATION:PT1H
X-Robots-Tag:noindex
X-PUBLISHED-TTL:PT1H
BEGIN:VTIMEZONE
TZID:America/Toronto
BEGIN:DAYLIGHT
TZOFFSETFROM:-0500
TZOFFSETTO:-0400
TZNAME:EDT
DTSTART:20230312T070000
END:DAYLIGHT
BEGIN:STANDARD
TZOFFSETFROM:-0400
TZOFFSETTO:-0500
TZNAME:EST
DTSTART:20231105T060000
END:STANDARD
BEGIN:DAYLIGHT
TZOFFSETFROM:-0500
TZOFFSETTO:-0400
TZNAME:EDT
DTSTART:20240310T070000
END:DAYLIGHT
BEGIN:STANDARD
TZOFFSETFROM:-0400
TZOFFSETTO:-0500
TZNAME:EST
DTSTART:20241103T060000
END:STANDARD
BEGIN:DAYLIGHT
TZOFFSETFROM:-0500
TZOFFSETTO:-0400
TZNAME:EDT
DTSTART:20250309T070000
END:DAYLIGHT
BEGIN:STANDARD
TZOFFSETFROM:-0400
TZOFFSETTO:-0500
TZNAME:EST
DTSTART:20251102T060000
END:STANDARD
END:VTIMEZONE
BEGIN:VEVENT
DTSTART;TZID=America/Toronto:20241104T100000
DTEND;TZID=America/Toronto:20241104T140000
DTSTAMP:20260422T160120
CREATED:20241014T203511Z
LAST-MODIFIED:20241014T203511Z
UID:2487-1730714400-1730728800@rechargerespite.ca
SUMMARY:Bowling
DESCRIPTION:No description needed….Let’s go bowling\, test your skills against Tim and Dave (you’ll beat Dave) We will decide with the attendees if we want to do 5 pin or 10 pin! \nhttps://bowlerama.com/
URL:https://rechargerespite.ca/event/bowling-11/
LOCATION:Bowlerama\, 320 Bayfield St\,\, ON\, Barrie\, Ontario\, L4M 3C1\, Canada
ATTACH;FMTTYPE=image/jpeg:https://rechargerespite.ca/wp-content/uploads/2023/11/Bowling.jpg
ORGANIZER;CN="Recharge":MAILTO:Rechargecrs@outlook.com
END:VEVENT
BEGIN:VEVENT
DTSTART;TZID=America/Toronto:20241111T100000
DTEND;TZID=America/Toronto:20241111T140000
DTSTAMP:20260422T160120
CREATED:20241014T203608Z
LAST-MODIFIED:20241101T205026Z
UID:2486-1731319200-1731333600@rechargerespite.ca
SUMMARY:Bowling
DESCRIPTION:No description needed….Let’s go bowling\, test your skills against Tim and Dave (you’ll beat Dave) We will decide with the attendees if we want to do 5 pin or 10 pin! \nhttps://bowlerama.com/
URL:https://rechargerespite.ca/event/bowling-12/
LOCATION:Bowlerama\, 320 Bayfield St\,\, ON\, Barrie\, Ontario\, L4M 3C1\, Canada
ATTACH;FMTTYPE=image/jpeg:https://rechargerespite.ca/wp-content/uploads/2023/11/Bowling.jpg
ORGANIZER;CN="Recharge":MAILTO:Rechargecrs@outlook.com
END:VEVENT
BEGIN:VEVENT
DTSTART;TZID=America/Toronto:20241118T100000
DTEND;TZID=America/Toronto:20241118T140000
DTSTAMP:20260422T160120
CREATED:20241014T203657Z
LAST-MODIFIED:20241014T203657Z
UID:2485-1731924000-1731938400@rechargerespite.ca
SUMMARY:Bowling
DESCRIPTION:No description needed….Let’s go bowling\, test your skills against Tim and Dave (you’ll beat Dave) We will decide with the attendees if we want to do 5 pin or 10 pin! \nhttps://bowlerama.com/
URL:https://rechargerespite.ca/event/bowling-13/
LOCATION:Bowlerama\, 320 Bayfield St\,\, ON\, Barrie\, Ontario\, L4M 3C1\, Canada
ATTACH;FMTTYPE=image/jpeg:https://rechargerespite.ca/wp-content/uploads/2023/11/Bowling.jpg
ORGANIZER;CN="Recharge":MAILTO:Rechargecrs@outlook.com
END:VEVENT
BEGIN:VEVENT
DTSTART;VALUE=DATE:20241127
DTEND;VALUE=DATE:20241128
DTSTAMP:20260422T160120
CREATED:20241014T220424Z
LAST-MODIFIED:20241014T220424Z
UID:2536-1732665600-1732751999@rechargerespite.ca
SUMMARY:Movie Night at Cineplex!
DESCRIPTION:Movie Night at the Cineplex! \nWe are going to see Red one.  Money will be needed to purchase concession food or drinks. \nMovie time Will be updated closer to date
URL:https://rechargerespite.ca/event/movie-night-at-cineplex-5/
ATTACH;FMTTYPE=image/jpeg:https://rechargerespite.ca/wp-content/uploads/2024/10/REd-one-1.jpg
END:VEVENT
END:VCALENDAR