BEGIN:VCALENDAR
VERSION:2.0
PRODID:-//Recharge Community Respite - ECPv6.15.17.1//NONSGML v1.0//EN
CALSCALE:GREGORIAN
METHOD:PUBLISH
X-WR-CALNAME:Recharge Community Respite
X-ORIGINAL-URL:https://rechargerespite.ca
X-WR-CALDESC:Events for Recharge Community Respite
REFRESH-INTERVAL;VALUE=DURATION:PT1H
X-Robots-Tag:noindex
X-PUBLISHED-TTL:PT1H
BEGIN:VTIMEZONE
TZID:America/Toronto
BEGIN:DAYLIGHT
TZOFFSETFROM:-0500
TZOFFSETTO:-0400
TZNAME:EDT
DTSTART:20240310T070000
END:DAYLIGHT
BEGIN:STANDARD
TZOFFSETFROM:-0400
TZOFFSETTO:-0500
TZNAME:EST
DTSTART:20241103T060000
END:STANDARD
BEGIN:DAYLIGHT
TZOFFSETFROM:-0500
TZOFFSETTO:-0400
TZNAME:EDT
DTSTART:20250309T070000
END:DAYLIGHT
BEGIN:STANDARD
TZOFFSETFROM:-0400
TZOFFSETTO:-0500
TZNAME:EST
DTSTART:20251102T060000
END:STANDARD
BEGIN:DAYLIGHT
TZOFFSETFROM:-0500
TZOFFSETTO:-0400
TZNAME:EDT
DTSTART:20260308T070000
END:DAYLIGHT
BEGIN:STANDARD
TZOFFSETFROM:-0400
TZOFFSETTO:-0500
TZNAME:EST
DTSTART:20261101T060000
END:STANDARD
END:VTIMEZONE
BEGIN:VEVENT
DTSTART;TZID=America/Toronto:20250902T140000
DTEND;TZID=America/Toronto:20250902T170000
DTSTAMP:20260421T211442
CREATED:20250819T154018Z
LAST-MODIFIED:20250901T200028Z
UID:3726-1756821600-1756832400@rechargerespite.ca
SUMMARY:Creative Cafe
DESCRIPTION:Creative Cafe\nWe will start our day at Williams Cafe\, we will treat you to a coffee before we head over to creative cafe \n\n\n\n\nPaint your own pottery! \nWith over 400+ different items to choose from we guarantee you will find your own\, unique piece to paint! \nEnjoy some creative time together as you transform pottery pieces into one-of-a-kind personalized works of art.  Choose from a huge selection of pottery items.   Create from their large selection of awesome glazes\, brushes\, stencils\, silkscreens and more.  Your pottery will be clear glazed\, kiln-fired to a brilliant shiny finish! \nhttps://creativecafe.ca/
URL:https://rechargerespite.ca/event/creative-cafe-8/
ATTACH;FMTTYPE=image/jpeg:https://rechargerespite.ca/wp-content/uploads/2024/08/creative_cafe_logo.jpg
END:VEVENT
BEGIN:VEVENT
DTSTART;TZID=America/Toronto:20250905T100000
DTEND;TZID=America/Toronto:20250905T140000
DTSTAMP:20260421T211442
CREATED:20250819T155226Z
LAST-MODIFIED:20250819T155226Z
UID:3742-1757066400-1757080800@rechargerespite.ca
SUMMARY:Elmvale Zoo
DESCRIPTION:Discover an exciting and educational outdoor adventure at the Elmvale Jungle Zoo. Walk along shaded and winding trails. View majestic white lions and tigers. Delight in the playful antics of monkeys and lemurs. Watch the mischievious baby animals play. Admire the beauty of rare and exotic birds and other wildlife in the natural surroundings of the zoo’s 30 acres. \nAdmission is$25.95
URL:https://rechargerespite.ca/event/elmvale-zoo/
ATTACH;FMTTYPE=image/png:https://rechargerespite.ca/wp-content/uploads/2025/08/Elmvale-zoo.png
END:VEVENT
BEGIN:VEVENT
DTSTART;TZID=America/Toronto:20250911T083000
DTEND;TZID=America/Toronto:20250911T153000
DTSTAMP:20260421T211442
CREATED:20250819T154411Z
LAST-MODIFIED:20250819T154411Z
UID:3730-1757579400-1757604600@rechargerespite.ca
SUMMARY:Museum of Illusions
DESCRIPTION:Museum of Illusions\n\n\n\n\nWelcome to our fascinating world of illusions. Thrilled yet bewildered you will enter a world that will blow your mind but also give you an opportunity to learn all sorts of things… come and visit us! It is sure to be an amazing and unimaginable experience because whatever you see\, especially here in the Museum of Illusions\, is not what it appears to be. Are you ready for an adventure?\n\n\n\nhttps://museumofillusions.ca/\n\nWe will be taking the go train or TTC down to Union station and walking over to the museum so please dress for the weather and be prepared to walk 1 km (15min)
URL:https://rechargerespite.ca/event/museum-of-illusions-2/
ATTACH;FMTTYPE=image/jpeg:https://rechargerespite.ca/wp-content/uploads/2024/12/museum-of-illusions.jpg
END:VEVENT
BEGIN:VEVENT
DTSTART;TZID=America/Toronto:20250915T100000
DTEND;TZID=America/Toronto:20250915T130000
DTSTAMP:20260421T211442
CREATED:20250819T154737Z
LAST-MODIFIED:20250819T154737Z
UID:3736-1757930400-1757941200@rechargerespite.ca
SUMMARY:Bowling
DESCRIPTION:No description needed….Let’s go bowling\, test your skills against Tim and Dave (you’ll beat Dave) We will decide with the attendees if we want to do 5 pin or 10 pin! \nhttps://bowlerama.com/
URL:https://rechargerespite.ca/event/bowling-46/
LOCATION:Bowlerama\, 320 Bayfield St\,\, ON\, Barrie\, Ontario\, L4M 3C1\, Canada
ATTACH;FMTTYPE=image/jpeg:https://rechargerespite.ca/wp-content/uploads/2025/03/20250303_103759-scaled.jpg
ORGANIZER;CN="Recharge":MAILTO:Rechargecrs@outlook.com
END:VEVENT
BEGIN:VEVENT
DTSTART;TZID=America/Toronto:20250916T110000
DTEND;TZID=America/Toronto:20250916T150000
DTSTAMP:20260421T211442
CREATED:20250819T154602Z
LAST-MODIFIED:20250819T154602Z
UID:3732-1758020400-1758034800@rechargerespite.ca
SUMMARY:Pool
DESCRIPTION:We’re headed to Dunlop Billiards to shoot some pool\, comin with us? \nWe’ll play pool\, get some grub and hang out!
URL:https://rechargerespite.ca/event/pool-9/
ATTACH;FMTTYPE=image/jpeg:https://rechargerespite.ca/wp-content/uploads/2023/12/Pool.jpg
END:VEVENT
BEGIN:VEVENT
DTSTART;TZID=America/Toronto:20250919T163000
DTEND;TZID=America/Toronto:20250919T223000
DTSTAMP:20260421T211442
CREATED:20250819T154829Z
LAST-MODIFIED:20250819T154829Z
UID:3738-1758299400-1758321000@rechargerespite.ca
SUMMARY:Wonderland
DESCRIPTION:Wonderland \nFall hours- park opens at 6pm and closes at 11pm \n“Since 1981\, Canada’s Wonderland has been the premier destination in Ontario for thrills\, family fun\, and world-class entertainment. Located in Vaughan\, just north of Toronto\, the amusement park features more than 200 attractions including 18 roller coasters\, two children’s areas\, and Splash Works\, the 20-acre water park.” \nPlease reach out via email if you require us to purchase a day pass for you\, food and other attractions will be at your own cost or pack a lunch and we will bring a cooler. \nemail-mailto:rechargecrs@outlook.com
URL:https://rechargerespite.ca/event/wonderland-6/
ATTACH;FMTTYPE=image/jpeg:https://rechargerespite.ca/wp-content/uploads/2024/05/Wonderland.jpg
END:VEVENT
BEGIN:VEVENT
DTSTART;TZID=America/Toronto:20250922T100000
DTEND;TZID=America/Toronto:20250922T130000
DTSTAMP:20260421T211442
CREATED:20250819T154711Z
LAST-MODIFIED:20250819T154711Z
UID:3735-1758535200-1758546000@rechargerespite.ca
SUMMARY:Bowling
DESCRIPTION:No description needed….Let’s go bowling\, test your skills against Tim and Dave (you’ll beat Dave) We will decide with the attendees if we want to do 5 pin or 10 pin! \nhttps://bowlerama.com/
URL:https://rechargerespite.ca/event/bowling-45/
LOCATION:Bowlerama\, 320 Bayfield St\,\, ON\, Barrie\, Ontario\, L4M 3C1\, Canada
ATTACH;FMTTYPE=image/jpeg:https://rechargerespite.ca/wp-content/uploads/2025/03/20250303_103759-scaled.jpg
ORGANIZER;CN="Recharge":MAILTO:Rechargecrs@outlook.com
END:VEVENT
BEGIN:VEVENT
DTSTART;TZID=America/Toronto:20250923T100000
DTEND;TZID=America/Toronto:20250923T150000
DTSTAMP:20260421T211442
CREATED:20250819T154855Z
LAST-MODIFIED:20250819T154855Z
UID:3739-1758621600-1758639600@rechargerespite.ca
SUMMARY:Golfing
DESCRIPTION:Golfing at The Wilds \nGet ready for 18 holes (short course with carts) of friendly competition at The Wilds Bring your clubs and a positive attitude for a time on the links! We will be trying to get a morning tee time (10am or after based on availability) This event is weather permitting. \nNote: Any food or beverage will be at your own cost
URL:https://rechargerespite.ca/event/golfing-9/
ATTACH;FMTTYPE=image/jpeg:https://rechargerespite.ca/wp-content/uploads/2024/06/144_3_2471_jpeg_79b5b997-f63b-4524-b811-344ca9332405.jpg
END:VEVENT
BEGIN:VEVENT
DTSTART;TZID=America/Toronto:20250929T100000
DTEND;TZID=America/Toronto:20250929T130000
DTSTAMP:20260421T211442
CREATED:20250819T154638Z
LAST-MODIFIED:20250819T154638Z
UID:3734-1759140000-1759150800@rechargerespite.ca
SUMMARY:Bowling
DESCRIPTION:No description needed….Let’s go bowling\, test your skills against Tim and Dave (you’ll beat Dave) We will decide with the attendees if we want to do 5 pin or 10 pin! \nhttps://bowlerama.com/
URL:https://rechargerespite.ca/event/bowling-44/
LOCATION:Bowlerama\, 320 Bayfield St\,\, ON\, Barrie\, Ontario\, L4M 3C1\, Canada
ATTACH;FMTTYPE=image/jpeg:https://rechargerespite.ca/wp-content/uploads/2025/03/20250303_103759-scaled.jpg
ORGANIZER;CN="Recharge":MAILTO:Rechargecrs@outlook.com
END:VEVENT
END:VCALENDAR