BEGIN:VCALENDAR
VERSION:2.0
PRODID:-//Recharge Community Respite - ECPv6.15.17.1//NONSGML v1.0//EN
CALSCALE:GREGORIAN
METHOD:PUBLISH
X-WR-CALNAME:Recharge Community Respite
X-ORIGINAL-URL:https://rechargerespite.ca
X-WR-CALDESC:Events for Recharge Community Respite
REFRESH-INTERVAL;VALUE=DURATION:PT1H
X-Robots-Tag:noindex
X-PUBLISHED-TTL:PT1H
BEGIN:VTIMEZONE
TZID:America/Toronto
BEGIN:DAYLIGHT
TZOFFSETFROM:-0500
TZOFFSETTO:-0400
TZNAME:EDT
DTSTART:20240310T070000
END:DAYLIGHT
BEGIN:STANDARD
TZOFFSETFROM:-0400
TZOFFSETTO:-0500
TZNAME:EST
DTSTART:20241103T060000
END:STANDARD
BEGIN:DAYLIGHT
TZOFFSETFROM:-0500
TZOFFSETTO:-0400
TZNAME:EDT
DTSTART:20250309T070000
END:DAYLIGHT
BEGIN:STANDARD
TZOFFSETFROM:-0400
TZOFFSETTO:-0500
TZNAME:EST
DTSTART:20251102T060000
END:STANDARD
BEGIN:DAYLIGHT
TZOFFSETFROM:-0500
TZOFFSETTO:-0400
TZNAME:EDT
DTSTART:20260308T070000
END:DAYLIGHT
BEGIN:STANDARD
TZOFFSETFROM:-0400
TZOFFSETTO:-0500
TZNAME:EST
DTSTART:20261101T060000
END:STANDARD
END:VTIMEZONE
BEGIN:VEVENT
DTSTART;TZID=America/Toronto:20251103T100000
DTEND;TZID=America/Toronto:20251103T130000
DTSTAMP:20260421T174431
CREATED:20251020T163037Z
LAST-MODIFIED:20251020T163037Z
UID:4006-1762164000-1762174800@rechargerespite.ca
SUMMARY:Bowling
DESCRIPTION:No description needed….Let’s go bowling\, test your skills against Tim and Dave (you’ll beat Dave) We will decide with the attendees if we want to do 5 pin or 10 pin! \nhttps://bowlerama.com/
URL:https://rechargerespite.ca/event/bowling-50/
LOCATION:Bowlerama\, 320 Bayfield St\,\, ON\, Barrie\, Ontario\, L4M 3C1\, Canada
ATTACH;FMTTYPE=image/jpeg:https://rechargerespite.ca/wp-content/uploads/2025/03/20250303_103759-scaled.jpg
ORGANIZER;CN="Recharge":MAILTO:Rechargecrs@outlook.com
END:VEVENT
BEGIN:VEVENT
DTSTART;TZID=America/Toronto:20251110T100000
DTEND;TZID=America/Toronto:20251110T130000
DTSTAMP:20260421T174431
CREATED:20251020T163120Z
LAST-MODIFIED:20251020T163120Z
UID:4005-1762768800-1762779600@rechargerespite.ca
SUMMARY:Bowling
DESCRIPTION:No description needed….Let’s go bowling\, test your skills against Tim and Dave (you’ll beat Dave) We will decide with the attendees if we want to do 5 pin or 10 pin! \nhttps://bowlerama.com/
URL:https://rechargerespite.ca/event/bowling-51/
LOCATION:Bowlerama\, 320 Bayfield St\,\, ON\, Barrie\, Ontario\, L4M 3C1\, Canada
ATTACH;FMTTYPE=image/jpeg:https://rechargerespite.ca/wp-content/uploads/2025/03/20250303_103759-scaled.jpg
ORGANIZER;CN="Recharge":MAILTO:Rechargecrs@outlook.com
END:VEVENT
BEGIN:VEVENT
DTSTART;TZID=America/Toronto:20251111T100000
DTEND;TZID=America/Toronto:20251111T140000
DTSTAMP:20260421T174431
CREATED:20251020T160648Z
LAST-MODIFIED:20251020T160711Z
UID:4019-1762855200-1762869600@rechargerespite.ca
SUMMARY:Creative Cafe
DESCRIPTION:Creative Cafe\nWe will start our day at Williams Cafe\, we will treat you to a coffee before we head over to creative cafe \n\n\n\n\nPaint your own pottery! \nWith over 400+ different items to choose from we guarantee you will find your own\, unique piece to paint! \nEnjoy some creative time together as you transform pottery pieces into one-of-a-kind personalized works of art.  Choose from a huge selection of pottery items.   Create from their large selection of awesome glazes\, brushes\, stencils\, silkscreens and more.  Your pottery will be clear glazed\, kiln-fired to a brilliant shiny finish! \nhttps://creativecafe.ca/
URL:https://rechargerespite.ca/event/creative-cafe-10/
ATTACH;FMTTYPE=image/jpeg:https://rechargerespite.ca/wp-content/uploads/2024/08/creative_cafe_logo.jpg
END:VEVENT
BEGIN:VEVENT
DTSTART;TZID=America/Toronto:20251116T140000
DTEND;TZID=America/Toronto:20251116T200000
DTSTAMP:20260421T174431
CREATED:20251020T162921Z
LAST-MODIFIED:20251020T162921Z
UID:4002-1763301600-1763323200@rechargerespite.ca
SUMMARY:Wonderland WinterFest
DESCRIPTION:Canada’s Wonderland transforms into a magical\, winter wonderland for WinterFest – an immersive holiday experience for the whole family. This event features ice-skating on Snow Flake Lake (extra cost)\, more than a dozen live shows and holiday entertainment\, exciting rides\, millions of spectacular lights\, and hundreds of beautiful Christmas trees throughout the park\, including two 50-foot Christmas trees on International Street. ​ \nemail-mailto:rechargecrs@outlook.com
URL:https://rechargerespite.ca/event/wonderland-winterfest-2/
ATTACH;FMTTYPE=image/jpeg:https://rechargerespite.ca/wp-content/uploads/2024/11/Winterfest.jpg
END:VEVENT
BEGIN:VEVENT
DTSTART;TZID=America/Toronto:20251117T100000
DTEND;TZID=America/Toronto:20251117T130000
DTSTAMP:20260421T174431
CREATED:20251020T163200Z
LAST-MODIFIED:20251020T163200Z
UID:4004-1763373600-1763384400@rechargerespite.ca
SUMMARY:Bowling
DESCRIPTION:No description needed….Let’s go bowling\, test your skills against Tim and Dave (you’ll beat Dave) We will decide with the attendees if we want to do 5 pin or 10 pin! \nhttps://bowlerama.com/
URL:https://rechargerespite.ca/event/bowling-52/
LOCATION:Bowlerama\, 320 Bayfield St\,\, ON\, Barrie\, Ontario\, L4M 3C1\, Canada
ATTACH;FMTTYPE=image/jpeg:https://rechargerespite.ca/wp-content/uploads/2025/03/20250303_103759-scaled.jpg
ORGANIZER;CN="Recharge":MAILTO:Rechargecrs@outlook.com
END:VEVENT
BEGIN:VEVENT
DTSTART;TZID=America/Toronto:20251118T110000
DTEND;TZID=America/Toronto:20251118T150000
DTSTAMP:20260421T174431
CREATED:20251020T161738Z
LAST-MODIFIED:20251020T161738Z
UID:4018-1763463600-1763478000@rechargerespite.ca
SUMMARY:Pool
DESCRIPTION:We’re headed to Dunlop Billiards to shoot some pool\, comin with us? \nWe’ll play pool\, get some grub and hang out!
URL:https://rechargerespite.ca/event/pool-11/
ATTACH;FMTTYPE=image/jpeg:https://rechargerespite.ca/wp-content/uploads/2023/12/Pool.jpg
END:VEVENT
BEGIN:VEVENT
DTSTART;TZID=America/Toronto:20251124T100000
DTEND;TZID=America/Toronto:20251124T130000
DTSTAMP:20260421T174431
CREATED:20251020T163231Z
LAST-MODIFIED:20251020T163231Z
UID:4003-1763978400-1763989200@rechargerespite.ca
SUMMARY:Bowling
DESCRIPTION:No description needed….Let’s go bowling\, test your skills against Tim and Dave (you’ll beat Dave) We will decide with the attendees if we want to do 5 pin or 10 pin! \nhttps://bowlerama.com/
URL:https://rechargerespite.ca/event/bowling-53/
LOCATION:Bowlerama\, 320 Bayfield St\,\, ON\, Barrie\, Ontario\, L4M 3C1\, Canada
ATTACH;FMTTYPE=image/jpeg:https://rechargerespite.ca/wp-content/uploads/2025/03/20250303_103759-scaled.jpg
ORGANIZER;CN="Recharge":MAILTO:Rechargecrs@outlook.com
END:VEVENT
BEGIN:VEVENT
DTSTART;TZID=America/Toronto:20251127T150000
DTEND;TZID=America/Toronto:20251127T190000
DTSTAMP:20260421T174431
CREATED:20251020T170846Z
LAST-MODIFIED:20251020T170846Z
UID:4053-1764255600-1764270000@rechargerespite.ca
SUMMARY:Movie Night at Cineplex!
DESCRIPTION:Movie Night at the Cineplex! \nWe are going to see Zootopia 2 .  Money will be needed to purchase concession food or drinks. \nEvent times will change depending on Cineplex show times
URL:https://rechargerespite.ca/event/movie-night-at-cineplex-14/
ATTACH;FMTTYPE=image/jpeg:https://rechargerespite.ca/wp-content/uploads/2025/10/Zootopia2.jpg
END:VEVENT
END:VCALENDAR