BEGIN:VCALENDAR
VERSION:2.0
PRODID:-//Recharge Community Respite - ECPv6.15.20//NONSGML v1.0//EN
CALSCALE:GREGORIAN
METHOD:PUBLISH
X-WR-CALNAME:Recharge Community Respite
X-ORIGINAL-URL:https://rechargerespite.ca
X-WR-CALDESC:Events for Recharge Community Respite
REFRESH-INTERVAL;VALUE=DURATION:PT1H
X-Robots-Tag:noindex
X-PUBLISHED-TTL:PT1H
BEGIN:VTIMEZONE
TZID:America/Toronto
BEGIN:DAYLIGHT
TZOFFSETFROM:-0500
TZOFFSETTO:-0400
TZNAME:EDT
DTSTART:20230312T070000
END:DAYLIGHT
BEGIN:STANDARD
TZOFFSETFROM:-0400
TZOFFSETTO:-0500
TZNAME:EST
DTSTART:20231105T060000
END:STANDARD
BEGIN:DAYLIGHT
TZOFFSETFROM:-0500
TZOFFSETTO:-0400
TZNAME:EDT
DTSTART:20240310T070000
END:DAYLIGHT
BEGIN:STANDARD
TZOFFSETFROM:-0400
TZOFFSETTO:-0500
TZNAME:EST
DTSTART:20241103T060000
END:STANDARD
BEGIN:DAYLIGHT
TZOFFSETFROM:-0500
TZOFFSETTO:-0400
TZNAME:EDT
DTSTART:20250309T070000
END:DAYLIGHT
BEGIN:STANDARD
TZOFFSETFROM:-0400
TZOFFSETTO:-0500
TZNAME:EST
DTSTART:20251102T060000
END:STANDARD
END:VTIMEZONE
BEGIN:VEVENT
DTSTART;TZID=America/Toronto:20240402T153000
DTEND;TZID=America/Toronto:20240402T190000
DTSTAMP:20260424T230529
CREATED:20240127T152824Z
LAST-MODIFIED:20240402T184706Z
UID:964-1712071800-1712084400@rechargerespite.ca
SUMMARY:Movie Night at Cineplex- Ghostbusters
DESCRIPTION:Night at Cineplex- Ghostbusters. \nWe’re going to see the new Ghostbusters movie! \nIn Ghostbusters: Frozen Empire\, the Spengler family returns to where it all started – the iconic New York City firehouse – to team up with the original Ghostbusters\, who’ve developed a top-secret research lab to take busting ghosts to the next level. But when the discovery of an ancient artifact unleashes an evil force\, Ghostbusters new and old must join forces to protect their home and save the world from a second Ice Age. \nhttps://www.cineplex.com/movie/ghostbusters-frozen-empire?ic=cpx_hp-moviegrid-en \n**Event time will be edited when we know the show times at Cineplex**
URL:https://rechargerespite.ca/event/movie-night-at-cineplex-ghostbusters/
ATTACH;FMTTYPE=image/webp:https://rechargerespite.ca/wp-content/uploads/2024/01/GB.webp
END:VEVENT
BEGIN:VEVENT
DTSTART;VALUE=DATE:20240430
DTEND;VALUE=DATE:20240501
DTSTAMP:20260424T230529
CREATED:20240317T235432Z
LAST-MODIFIED:20240317T235432Z
UID:999-1714435200-1714521599@rechargerespite.ca
SUMMARY:Movie Night at Cineplex- Civil War
DESCRIPTION:Night at Cineplex. \nWe’re going to see Civil War \n**Event time will be edited when we know the show times at Cineplex**
URL:https://rechargerespite.ca/event/movie-night-at-cineplex-civil-war/
ATTACH;FMTTYPE=image/jpeg:https://rechargerespite.ca/wp-content/uploads/2024/01/Civil-War.jpg
END:VEVENT
END:VCALENDAR