BEGIN:VCALENDAR
VERSION:2.0
PRODID:-//Recharge Community Respite - ECPv6.15.20//NONSGML v1.0//EN
CALSCALE:GREGORIAN
METHOD:PUBLISH
X-ORIGINAL-URL:https://rechargerespite.ca
X-WR-CALDESC:Events for Recharge Community Respite
REFRESH-INTERVAL;VALUE=DURATION:PT1H
X-Robots-Tag:noindex
X-PUBLISHED-TTL:PT1H
BEGIN:VTIMEZONE
TZID:America/Toronto
BEGIN:DAYLIGHT
TZOFFSETFROM:-0500
TZOFFSETTO:-0400
TZNAME:EDT
DTSTART:20230312T070000
END:DAYLIGHT
BEGIN:STANDARD
TZOFFSETFROM:-0400
TZOFFSETTO:-0500
TZNAME:EST
DTSTART:20231105T060000
END:STANDARD
BEGIN:DAYLIGHT
TZOFFSETFROM:-0500
TZOFFSETTO:-0400
TZNAME:EDT
DTSTART:20240310T070000
END:DAYLIGHT
BEGIN:STANDARD
TZOFFSETFROM:-0400
TZOFFSETTO:-0500
TZNAME:EST
DTSTART:20241103T060000
END:STANDARD
BEGIN:DAYLIGHT
TZOFFSETFROM:-0500
TZOFFSETTO:-0400
TZNAME:EDT
DTSTART:20250309T070000
END:DAYLIGHT
BEGIN:STANDARD
TZOFFSETFROM:-0400
TZOFFSETTO:-0500
TZNAME:EST
DTSTART:20251102T060000
END:STANDARD
END:VTIMEZONE
BEGIN:VEVENT
DTSTART;VALUE=DATE:20240611
DTEND;VALUE=DATE:20240612
DTSTAMP:20260424T195131
CREATED:20240513T210816Z
LAST-MODIFIED:20240530T145548Z
UID:1714-1718064000-1718150399@rechargerespite.ca
SUMMARY:Movie Night at Cineplex
DESCRIPTION:Movie Night at Cineplex. \nWe’re going to see Bad Boys \n**Event time will be edited when we know the show times at Cineplex**
URL:https://rechargerespite.ca/event/movie-night-at-cineplex/
ATTACH;FMTTYPE=image/jpeg:https://rechargerespite.ca/wp-content/uploads/2024/05/Badboys.jpg
END:VEVENT
BEGIN:VEVENT
DTSTART;TZID=America/Toronto:20240618T160000
DTEND;TZID=America/Toronto:20240618T190000
DTSTAMP:20260424T195131
CREATED:20240513T211229Z
LAST-MODIFIED:20240617T144107Z
UID:1713-1718726400-1718737200@rechargerespite.ca
SUMMARY:Movie Night at Cineplex
DESCRIPTION:Movie Night at Cineplex. \nWe’re going to see Inside out 2 \n 
URL:https://rechargerespite.ca/event/movie-night-at-cineplex-2/
ATTACH;FMTTYPE=image/jpeg:https://rechargerespite.ca/wp-content/uploads/2024/05/Insideout2-scaled.jpg
END:VEVENT
END:VCALENDAR