BEGIN:VCALENDAR
VERSION:2.0
PRODID:-//Recharge Community Respite - ECPv6.15.17.1//NONSGML v1.0//EN
CALSCALE:GREGORIAN
METHOD:PUBLISH
X-WR-CALNAME:Recharge Community Respite
X-ORIGINAL-URL:https://rechargerespite.ca
X-WR-CALDESC:Events for Recharge Community Respite
REFRESH-INTERVAL;VALUE=DURATION:PT1H
X-Robots-Tag:noindex
X-PUBLISHED-TTL:PT1H
BEGIN:VTIMEZONE
TZID:America/Toronto
BEGIN:DAYLIGHT
TZOFFSETFROM:-0500
TZOFFSETTO:-0400
TZNAME:EDT
DTSTART:20250309T070000
END:DAYLIGHT
BEGIN:STANDARD
TZOFFSETFROM:-0400
TZOFFSETTO:-0500
TZNAME:EST
DTSTART:20251102T060000
END:STANDARD
BEGIN:DAYLIGHT
TZOFFSETFROM:-0500
TZOFFSETTO:-0400
TZNAME:EDT
DTSTART:20260308T070000
END:DAYLIGHT
BEGIN:STANDARD
TZOFFSETFROM:-0400
TZOFFSETTO:-0500
TZNAME:EST
DTSTART:20261101T060000
END:STANDARD
BEGIN:DAYLIGHT
TZOFFSETFROM:-0500
TZOFFSETTO:-0400
TZNAME:EDT
DTSTART:20270314T070000
END:DAYLIGHT
BEGIN:STANDARD
TZOFFSETFROM:-0400
TZOFFSETTO:-0500
TZNAME:EST
DTSTART:20271107T060000
END:STANDARD
END:VTIMEZONE
BEGIN:VEVENT
DTSTART;TZID=America/Toronto:20260508T083000
DTEND;TZID=America/Toronto:20260508T160000
DTSTAMP:20260422T013018
CREATED:20260409T160225Z
LAST-MODIFIED:20260409T160225Z
UID:4751-1778229000-1778256000@rechargerespite.ca
SUMMARY:Hockey Hall of Fame
DESCRIPTION:Hockey Hall of Fame \nHockey fan? Let’s go to the hall of fame\, there are so many great exhibits to see\, including the Stanley cup! With interactives and exhibits it truly is a museum experience like no other. We can go to the TSN theatre and watch a 22 minute 3D film\, we’ll walk through the largest exhibit of hockey artifacts dating back to the games origin. \nWe’ll be taking the TTC or GO train to Union station and walking 2 blocks to the Hall of Fame \nhttps://www.hhof.com/visit/ticketsandvisitorinfo.html
URL:https://rechargerespite.ca/event/hockey-hall-of-fame-3/
LOCATION:HHOF\, Brookfield Place 30 Yonge St.\, Toronto\, Ontario\, M5E 1X8
ATTACH;FMTTYPE=image/png:https://rechargerespite.ca/wp-content/uploads/2023/11/HHOF.png
END:VEVENT
END:VCALENDAR