BEGIN:VCALENDAR
VERSION:2.0
PRODID:-//Recharge Community Respite - ECPv6.15.20//NONSGML v1.0//EN
CALSCALE:GREGORIAN
METHOD:PUBLISH
X-WR-CALNAME:Recharge Community Respite
X-ORIGINAL-URL:https://rechargerespite.ca
X-WR-CALDESC:Events for Recharge Community Respite
REFRESH-INTERVAL;VALUE=DURATION:PT1H
X-Robots-Tag:noindex
X-PUBLISHED-TTL:PT1H
BEGIN:VTIMEZONE
TZID:America/Toronto
BEGIN:DAYLIGHT
TZOFFSETFROM:-0500
TZOFFSETTO:-0400
TZNAME:EDT
DTSTART:20230312T070000
END:DAYLIGHT
BEGIN:STANDARD
TZOFFSETFROM:-0400
TZOFFSETTO:-0500
TZNAME:EST
DTSTART:20231105T060000
END:STANDARD
BEGIN:DAYLIGHT
TZOFFSETFROM:-0500
TZOFFSETTO:-0400
TZNAME:EDT
DTSTART:20240310T070000
END:DAYLIGHT
BEGIN:STANDARD
TZOFFSETFROM:-0400
TZOFFSETTO:-0500
TZNAME:EST
DTSTART:20241103T060000
END:STANDARD
BEGIN:DAYLIGHT
TZOFFSETFROM:-0500
TZOFFSETTO:-0400
TZNAME:EDT
DTSTART:20250309T070000
END:DAYLIGHT
BEGIN:STANDARD
TZOFFSETFROM:-0400
TZOFFSETTO:-0500
TZNAME:EST
DTSTART:20251102T060000
END:STANDARD
END:VTIMEZONE
BEGIN:VEVENT
DTSTART;TZID=America/Toronto:20240228T170000
DTEND;TZID=America/Toronto:20240228T200000
DTSTAMP:20260424T151317
CREATED:20240125T181714Z
LAST-MODIFIED:20240125T181714Z
UID:648-1709139600-1709150400@rechargerespite.ca
SUMMARY:Dinner and Last level lounge
DESCRIPTION:We are planning a night out on the town! Dinner out and last level lounge for all you can play video games. All the best retro video and arcade games all in one spot. Once we get a list of attendees we can decide where we want to grab a bite to eat before testing our arcade skills. Entry to the Arcade is covered by Recharge\, just bring money for dinner! \n  \nhttps://www.lastlevellounge.com/
URL:https://rechargerespite.ca/event/dinner-and-last-level-lounge/
ATTACH;FMTTYPE=image/jpeg:https://rechargerespite.ca/wp-content/uploads/2023/12/LLL.jpg
END:VEVENT
END:VCALENDAR