BEGIN:VCALENDAR
VERSION:2.0
PRODID:-//Recharge Community Respite - ECPv6.15.20//NONSGML v1.0//EN
CALSCALE:GREGORIAN
METHOD:PUBLISH
X-WR-CALNAME:Recharge Community Respite
X-ORIGINAL-URL:https://rechargerespite.ca
X-WR-CALDESC:Events for Recharge Community Respite
REFRESH-INTERVAL;VALUE=DURATION:PT1H
X-Robots-Tag:noindex
X-PUBLISHED-TTL:PT1H
BEGIN:VTIMEZONE
TZID:America/Toronto
BEGIN:DAYLIGHT
TZOFFSETFROM:-0500
TZOFFSETTO:-0400
TZNAME:EDT
DTSTART:20230312T070000
END:DAYLIGHT
BEGIN:STANDARD
TZOFFSETFROM:-0400
TZOFFSETTO:-0500
TZNAME:EST
DTSTART:20231105T060000
END:STANDARD
BEGIN:DAYLIGHT
TZOFFSETFROM:-0500
TZOFFSETTO:-0400
TZNAME:EDT
DTSTART:20240310T070000
END:DAYLIGHT
BEGIN:STANDARD
TZOFFSETFROM:-0400
TZOFFSETTO:-0500
TZNAME:EST
DTSTART:20241103T060000
END:STANDARD
BEGIN:DAYLIGHT
TZOFFSETFROM:-0500
TZOFFSETTO:-0400
TZNAME:EDT
DTSTART:20250309T070000
END:DAYLIGHT
BEGIN:STANDARD
TZOFFSETFROM:-0400
TZOFFSETTO:-0500
TZNAME:EST
DTSTART:20251102T060000
END:STANDARD
END:VTIMEZONE
BEGIN:VEVENT
DTSTART;TZID=America/Toronto:20240611T120000
DTEND;TZID=America/Toronto:20240611T170000
DTSTAMP:20260424T182818
CREATED:20240610T220843Z
LAST-MODIFIED:20240610T220843Z
UID:1825-1718107200-1718125200@rechargerespite.ca
SUMMARY:18 Holes at Silver Brooke
DESCRIPTION:18 Holes at Silver Brooke \nEstablished in 2005\, Silver Brooke Golf Club located in Lisle\, Ontario boasts a stunning and professional 6600 yard course. The 18-holes feature bent grass tees\, fairways\, and greens as well as Teminskaming white sand. Silver Brooke warmly welcomes the public as well as 100+ members and thrives on its focus for customer service. Serving the surrounding areas including Alliston\, Angus\, Barrie\, Collingwood\, Creemore\, Wasaga Beach and Orangeville\, this course is a destination worth seeking. The practice academy meets the needs of the beginner and advanced golfer with a 7-acre facility featuring a bunker\, a chipping area\, and putting green. The picturesque course features two distinct nines. The front nine is carved through a variety of woodland including maple\, birch\, and pine forest. The back nine is a little more open\, but features several water hazards.
URL:https://rechargerespite.ca/event/18-holes-at-silver-brooke/
ATTACH;FMTTYPE=image/jpeg:https://rechargerespite.ca/wp-content/uploads/2024/06/Silverbrooke.jpg
END:VEVENT
END:VCALENDAR