BEGIN:VCALENDAR
VERSION:2.0
PRODID:-//Recharge Community Respite - ECPv6.15.17.1//NONSGML v1.0//EN
CALSCALE:GREGORIAN
METHOD:PUBLISH
X-WR-CALNAME:Recharge Community Respite
X-ORIGINAL-URL:https://rechargerespite.ca
X-WR-CALDESC:Events for Recharge Community Respite
REFRESH-INTERVAL;VALUE=DURATION:PT1H
X-Robots-Tag:noindex
X-PUBLISHED-TTL:PT1H
BEGIN:VTIMEZONE
TZID:America/Toronto
BEGIN:DAYLIGHT
TZOFFSETFROM:-0500
TZOFFSETTO:-0400
TZNAME:EDT
DTSTART:20240310T070000
END:DAYLIGHT
BEGIN:STANDARD
TZOFFSETFROM:-0400
TZOFFSETTO:-0500
TZNAME:EST
DTSTART:20241103T060000
END:STANDARD
BEGIN:DAYLIGHT
TZOFFSETFROM:-0500
TZOFFSETTO:-0400
TZNAME:EDT
DTSTART:20250309T070000
END:DAYLIGHT
BEGIN:STANDARD
TZOFFSETFROM:-0400
TZOFFSETTO:-0500
TZNAME:EST
DTSTART:20251102T060000
END:STANDARD
BEGIN:DAYLIGHT
TZOFFSETFROM:-0500
TZOFFSETTO:-0400
TZNAME:EDT
DTSTART:20260308T070000
END:DAYLIGHT
BEGIN:STANDARD
TZOFFSETFROM:-0400
TZOFFSETTO:-0500
TZNAME:EST
DTSTART:20261101T060000
END:STANDARD
END:VTIMEZONE
BEGIN:VEVENT
DTSTART;TZID=America/Toronto:20250809T170000
DTEND;TZID=America/Toronto:20250809T220000
DTSTAMP:20260421T230527
CREATED:20250717T184247Z
LAST-MODIFIED:20250717T184247Z
UID:3581-1754758800-1754776800@rechargerespite.ca
SUMMARY:Sunset Speedway
DESCRIPTION:Sunset speedway\, let’s check out the races!\n\n\n\n‘Battle on the Hilltop’\nAugust 9th – 6 PM Start\n\nPro Late Models 50 Laps\nSuper Stock 30 Laps\nMini Stocks 25 Laps\nBone Stocks 20 Laps\nJunior Late Models 15 Laps\nGrandstands Open: 4:30 PM
URL:https://rechargerespite.ca/event/sunset-speedway-6/
ATTACH;FMTTYPE=image/png:https://rechargerespite.ca/wp-content/uploads/2024/04/Sunset-LOGO-copy-SHADOW.png
END:VEVENT
BEGIN:VEVENT
DTSTART;TZID=America/Toronto:20250811T100000
DTEND;TZID=America/Toronto:20250811T130000
DTSTAMP:20260421T230527
CREATED:20250804T175652Z
LAST-MODIFIED:20250804T175652Z
UID:3697-1754906400-1754917200@rechargerespite.ca
SUMMARY:Bowling
DESCRIPTION:No description needed….Let’s go bowling\, test your skills against Tim and Dave (you’ll beat Dave) We will decide with the attendees if we want to do 5 pin or 10 pin! \nhttps://bowlerama.com/
URL:https://rechargerespite.ca/event/bowling-43/
LOCATION:Bowlerama\, 320 Bayfield St\,\, ON\, Barrie\, Ontario\, L4M 3C1\, Canada
ATTACH;FMTTYPE=image/jpeg:https://rechargerespite.ca/wp-content/uploads/2025/03/20250303_103759-scaled.jpg
ORGANIZER;CN="Recharge":MAILTO:Rechargecrs@outlook.com
END:VEVENT
BEGIN:VEVENT
DTSTART;TZID=America/Toronto:20250815T100000
DTEND;TZID=America/Toronto:20250815T150000
DTSTAMP:20260421T230527
CREATED:20250717T194701Z
LAST-MODIFIED:20250717T194701Z
UID:3612-1755252000-1755270000@rechargerespite.ca
SUMMARY:Golfing
DESCRIPTION:Golfing at The Wilds \nGet ready for 18 holes (short course with carts) of friendly competition at The Wilds Bring your clubs and a positive attitude for a time on the links! We will be trying to get a morning tee time (10am or after based on availability) This event is weather permitting. \nNote: Any food or beverage will be at your own cost
URL:https://rechargerespite.ca/event/golfing-8/
ATTACH;FMTTYPE=image/jpeg:https://rechargerespite.ca/wp-content/uploads/2024/06/144_3_2471_jpeg_79b5b997-f63b-4524-b811-344ca9332405.jpg
END:VEVENT
BEGIN:VEVENT
DTSTART;TZID=America/Toronto:20250818T100000
DTEND;TZID=America/Toronto:20250818T130000
DTSTAMP:20260421T230527
CREATED:20250717T201802Z
LAST-MODIFIED:20250717T201802Z
UID:3634-1755511200-1755522000@rechargerespite.ca
SUMMARY:Bowling
DESCRIPTION:No description needed….Let’s go bowling\, test your skills against Tim and Dave (you’ll beat Dave) We will decide with the attendees if we want to do 5 pin or 10 pin! \nhttps://bowlerama.com/
URL:https://rechargerespite.ca/event/bowling-42/
LOCATION:Bowlerama\, 320 Bayfield St\,\, ON\, Barrie\, Ontario\, L4M 3C1\, Canada
ATTACH;FMTTYPE=image/jpeg:https://rechargerespite.ca/wp-content/uploads/2025/03/20250303_103759-scaled.jpg
ORGANIZER;CN="Recharge":MAILTO:Rechargecrs@outlook.com
END:VEVENT
BEGIN:VEVENT
DTSTART;TZID=America/Toronto:20250820T093000
DTEND;TZID=America/Toronto:20250820T143000
DTSTAMP:20260421T230527
CREATED:20250717T192751Z
LAST-MODIFIED:20250806T162603Z
UID:3600-1755682200-1755700200@rechargerespite.ca
SUMMARY:Midland 30\,000 Island Cruise
DESCRIPTION:With iconic windswept pines\, clear blue water\, endless beaches and rocky grandeur – a tour of Georgian Bay and its many inlets and islands is the perfect getaway for your friends\, family\, clients and co-workers.\nBuffet Style Lunch – Sample Menu (could differ slightly on your cruise):\nAssorted Rolls\, Spring Greens with Dressing\, Caesar Salad\, BBQ Chicken\, Vegetable Penne Primavera\, Roast Potatoes\, Vegetable Medley\, Fresh Fruit and a Dessert \n\nINFO:\nDeparts at 10:30am on Wednesday/Saturday in July/August.\nSailing with a meal is optional.\nIf sailing with a meal\, tickets must be purchased by noon the day before the cruise.\nIf sailing without a meal\, tickets are available for purchase until 15 minutes prior to departure.\n\n Pricing\nAdult no meal (age 16 – 64) – $58.95\nAdult with meal (age 16 – 64) – $83.95
URL:https://rechargerespite.ca/event/midland-30000-island-cruise/
ATTACH;FMTTYPE=image/jpeg:https://rechargerespite.ca/wp-content/uploads/2025/07/Landmark-cruise.jpg
END:VEVENT
BEGIN:VEVENT
DTSTART;TZID=America/Toronto:20250829T110000
DTEND;TZID=America/Toronto:20250829T150000
DTSTAMP:20260421T230527
CREATED:20250717T200158Z
LAST-MODIFIED:20250828T005020Z
UID:3625-1756465200-1756479600@rechargerespite.ca
SUMMARY:Pool
DESCRIPTION:We’re headed to Dunlop Billiards to shoot some pool\, comin with us? \nWe’ll play pool\, get some grub and hang out!
URL:https://rechargerespite.ca/event/pool-9-2/
ATTACH;FMTTYPE=image/jpeg:https://rechargerespite.ca/wp-content/uploads/2023/12/Pool.jpg
END:VEVENT
END:VCALENDAR