BEGIN:VCALENDAR
VERSION:2.0
PRODID:-//Recharge Community Respite - ECPv6.15.17.1//NONSGML v1.0//EN
CALSCALE:GREGORIAN
METHOD:PUBLISH
X-ORIGINAL-URL:https://rechargerespite.ca
X-WR-CALDESC:Events for Recharge Community Respite
REFRESH-INTERVAL;VALUE=DURATION:PT1H
X-Robots-Tag:noindex
X-PUBLISHED-TTL:PT1H
BEGIN:VTIMEZONE
TZID:America/Toronto
BEGIN:DAYLIGHT
TZOFFSETFROM:-0500
TZOFFSETTO:-0400
TZNAME:EDT
DTSTART:20240310T070000
END:DAYLIGHT
BEGIN:STANDARD
TZOFFSETFROM:-0400
TZOFFSETTO:-0500
TZNAME:EST
DTSTART:20241103T060000
END:STANDARD
BEGIN:DAYLIGHT
TZOFFSETFROM:-0500
TZOFFSETTO:-0400
TZNAME:EDT
DTSTART:20250309T070000
END:DAYLIGHT
BEGIN:STANDARD
TZOFFSETFROM:-0400
TZOFFSETTO:-0500
TZNAME:EST
DTSTART:20251102T060000
END:STANDARD
BEGIN:DAYLIGHT
TZOFFSETFROM:-0500
TZOFFSETTO:-0400
TZNAME:EDT
DTSTART:20260308T070000
END:DAYLIGHT
BEGIN:STANDARD
TZOFFSETFROM:-0400
TZOFFSETTO:-0500
TZNAME:EST
DTSTART:20261101T060000
END:STANDARD
END:VTIMEZONE
BEGIN:VEVENT
DTSTART;TZID=America/Toronto:20251006T100000
DTEND;TZID=America/Toronto:20251006T130000
DTSTAMP:20260421T192134
CREATED:20250916T182125Z
LAST-MODIFIED:20250916T182125Z
UID:3864-1759744800-1759755600@rechargerespite.ca
SUMMARY:Bowling
DESCRIPTION:No description needed….Let’s go bowling\, test your skills against Tim and Dave (you’ll beat Dave) We will decide with the attendees if we want to do 5 pin or 10 pin! \nhttps://bowlerama.com/
URL:https://rechargerespite.ca/event/bowling-47/
LOCATION:Bowlerama\, 320 Bayfield St\,\, ON\, Barrie\, Ontario\, L4M 3C1\, Canada
ATTACH;FMTTYPE=image/jpeg:https://rechargerespite.ca/wp-content/uploads/2025/03/20250303_103759-scaled.jpg
ORGANIZER;CN="Recharge":MAILTO:Rechargecrs@outlook.com
END:VEVENT
BEGIN:VEVENT
DTSTART;TZID=America/Toronto:20251007T100000
DTEND;TZID=America/Toronto:20251007T140000
DTSTAMP:20260421T192134
CREATED:20250916T183945Z
LAST-MODIFIED:20250916T183945Z
UID:3886-1759831200-1759845600@rechargerespite.ca
SUMMARY:Creative Cafe
DESCRIPTION:Creative Cafe\nWe will start our day at Williams Cafe\, we will treat you to a coffee before we head over to creative cafe \n\n\n\n\nPaint your own pottery! \nWith over 400+ different items to choose from we guarantee you will find your own\, unique piece to paint! \nEnjoy some creative time together as you transform pottery pieces into one-of-a-kind personalized works of art.  Choose from a huge selection of pottery items.   Create from their large selection of awesome glazes\, brushes\, stencils\, silkscreens and more.  Your pottery will be clear glazed\, kiln-fired to a brilliant shiny finish! \nhttps://creativecafe.ca/
URL:https://rechargerespite.ca/event/creative-cafe-9/
ATTACH;FMTTYPE=image/jpeg:https://rechargerespite.ca/wp-content/uploads/2024/08/creative_cafe_logo.jpg
END:VEVENT
BEGIN:VEVENT
DTSTART;TZID=America/Toronto:20251016T163000
DTEND;TZID=America/Toronto:20251016T223000
DTSTAMP:20260421T192134
CREATED:20250916T195000Z
LAST-MODIFIED:20250916T195000Z
UID:3909-1760632200-1760653800@rechargerespite.ca
SUMMARY:Wonderland- Halloween Haunt
DESCRIPTION:Wonderland- Halloween Haunt \n\nGet your fright on this fall\, when Halloween Haunt returns to Canada’s Wonderland! The theme park transforms into a scream park filled with Halloween attractions that offer unforgettable thrills and unspeakable horror. \n  \n 
URL:https://rechargerespite.ca/event/wonderland-halloween-haunt-2/
ATTACH;FMTTYPE=image/jpeg:https://rechargerespite.ca/wp-content/uploads/2024/05/Wonderland.jpg
END:VEVENT
BEGIN:VEVENT
DTSTART;TZID=America/Toronto:20251020T100000
DTEND;TZID=America/Toronto:20251020T130000
DTSTAMP:20260421T192134
CREATED:20250916T182208Z
LAST-MODIFIED:20250916T182208Z
UID:3863-1760954400-1760965200@rechargerespite.ca
SUMMARY:Bowling
DESCRIPTION:No description needed….Let’s go bowling\, test your skills against Tim and Dave (you’ll beat Dave) We will decide with the attendees if we want to do 5 pin or 10 pin! \nhttps://bowlerama.com/
URL:https://rechargerespite.ca/event/bowling-48/
LOCATION:Bowlerama\, 320 Bayfield St\,\, ON\, Barrie\, Ontario\, L4M 3C1\, Canada
ATTACH;FMTTYPE=image/jpeg:https://rechargerespite.ca/wp-content/uploads/2025/03/20250303_103759-scaled.jpg
ORGANIZER;CN="Recharge":MAILTO:Rechargecrs@outlook.com
END:VEVENT
BEGIN:VEVENT
DTSTART;TZID=America/Toronto:20251021T110000
DTEND;TZID=America/Toronto:20251021T150000
DTSTAMP:20260421T192134
CREATED:20250916T195438Z
LAST-MODIFIED:20250916T195438Z
UID:3915-1761044400-1761058800@rechargerespite.ca
SUMMARY:Pool
DESCRIPTION:We’re headed to Dunlop Billiards to shoot some pool\, comin with us? \nWe’ll play pool\, get some grub and hang out!
URL:https://rechargerespite.ca/event/pool-10/
ATTACH;FMTTYPE=image/jpeg:https://rechargerespite.ca/wp-content/uploads/2023/12/Pool.jpg
END:VEVENT
BEGIN:VEVENT
DTSTART;TZID=America/Toronto:20251027T100000
DTEND;TZID=America/Toronto:20251027T130000
DTSTAMP:20260421T192134
CREATED:20250916T182250Z
LAST-MODIFIED:20250916T182250Z
UID:3860-1761559200-1761570000@rechargerespite.ca
SUMMARY:Bowling
DESCRIPTION:No description needed….Let’s go bowling\, test your skills against Tim and Dave (you’ll beat Dave) We will decide with the attendees if we want to do 5 pin or 10 pin! \nhttps://bowlerama.com/
URL:https://rechargerespite.ca/event/bowling-49/
LOCATION:Bowlerama\, 320 Bayfield St\,\, ON\, Barrie\, Ontario\, L4M 3C1\, Canada
ATTACH;FMTTYPE=image/jpeg:https://rechargerespite.ca/wp-content/uploads/2025/03/20250303_103759-scaled.jpg
ORGANIZER;CN="Recharge":MAILTO:Rechargecrs@outlook.com
END:VEVENT
END:VCALENDAR